Workbook
Name Vacation_Entitlement: 'Vacation Entitlement'!$A$3:$B$38

Sheet Logos

Sheet Instructions
B1: INSTRUCTIONS FOR THE CALENDAR
B3: Select any of the worksheets to the right of the "Instructions" tab at the bottom of the screen. If you don't see these worksheet tabs, then make sure this "Instruction" worksheet is maximized.
B5: Protection: The Holiday Schedule is completely unprotected. The lower portion of cells in the 12 Mo Calendar and individual month worksheets are unlocked for information to be entered. The upper portion of the cells are locked to preserve the date. Entire cells however can be coloured.
B7: Note: Some worksheets may be sized at 75% and as a result some detailed information in the worksheet cells may not be visible. You can fix this by changing the viewing size to 100%.
B9: Press the TAB or SHIFT+TAB keys to move to the next or previous fill cell respectively when in the worksheets. Note: the worksheet must be protected for this to work. Worksheets can be protected by selecting "TOOLS\PROTECTION\PROTECT SHEET" from the menu. See instructions below regarding unprotecting the worksheets.
B11: With the worksheets protected you can move quickly to new area of the worksheets using the MOUSE, then use TAB or SHIFT+TAB to move to the closest fill cell.
B13: On the "12 Mo Calendar" worksheet, the current year's vacation entitlement can be calculated automatically by entering the correct information in the yellow fields. Information can be entered in the lower half of the calendar cells. The top half of each cell is locked to preserve the date.
B15: The 12 Mo Calendar worksheet can be used to calculate vacation time remaining for full time regular employees based on information entered for initial vacation hours and vacation hours used.
B17: Example of Vacation Hours Used Calculation: If 4 days vacation were taken in a month and you work 7.52 hours per day, you could enter "=4*7.52" in the "Vacation Hours Used" cell to give 30.08 as the number of vacation hours used in that month.
B19: Dates should be entered as yyyy/mm/dd. If your Leave Service Date is 1990/06/15 for example then your "Current Year's Leave Service Anniversary Date" for year 2012 would be 2012/06/15. Leave Service Dates can be found on your leave balance information available through the employee self-serve site:
B20: https://timepay.gov.bc.ca/
B22: Multiple copies of the any of the worksheets can be created using the following procedure: Right click on the appropriate worksheet tab; Click on "Move or Copy …"; Select which worksheet you want the new worksheet to be placed to the left of; Check "Create a Copy"; and Click "OK". You may want to delete the individual monthly worksheets if you require space for other worksheets.
... B34: Printing is usually best at 600 dpi or higher.

Sheet Vacation Calculator
J1: Fill-in the yellow fields below to automatically calculate vacation hours allotted for current year | AC1: =#REF! -> #REF! | AG1: VACATION CALCULATOR FOR FULL TIME REGULAR EMPLOYEES
F3: Employee Name | U3: Home Phone | AF3: Contact | AQ3: Phone
F4: Employee Number | N4: Paylist | V4: Seniority Date | AF4: Other | AQ4: Phone
F5: Address
F8: Employee Leave Service Date (yyyy/mm/dd): | N8: 31443 | R8: Date-time Code Difference | W8: =IF(AND(N10="",N8=""),"",N10-N8) -> 5844 | AA8: Vacation Hours Carried Over from Previous Year | AH8: 18.4 | AL8: Number of 7 hr Days Holiday Allotted for Current Year | AU8: =IF(OR(W8<=0,W8=""),"",IF(ISBLANK(W10),"",VLOOKUP(W10,Vacation_Entitlement,2))) -> 28
A10: Current Year's Leave Service Anniversary Date (yyyy/mm/dd) (update annually): | N10: 37287 | R10: Years of Service for Holidays | W10: =IF(OR(W8<=0,W8=""),"",YEAR(W8)+1-1900) -> 16 | AA10: Vacation Hours Allotted for Current Year | AH10: =IF(AU8="","",AU8*7) -> 196 | AN10: Enter number of hours worked per day | AU10: 7.82
AA12: Total Number of Vacation Hours Available | AS12: =AU10 -> 7.82
AH13: =IF(AND(AH8="",AH10=""),"",AH8+IF(AH10="","0",AH10)) -> 214.4 | AT13: Hour Days Holiday Available | AU13: =IF(AU10="","",AH13/AU10) -> 27.41688
A15: LEAVE | AI15: SPECIAL LEAVE
A16: Date(s) | H16: Leave Form (Y/N) | K16: Hours of Leave | N16: Vac (V), STIIP (S), Special Leave (SL) | R16: STIIP Hours | U16: If STIIP - Top-up (Y/N) | X16: Vacation Hours Used | AA16: Vacation Hours Balance | AD16: Vacation Days Balance | AI16: REASON | AS16: Sec | AU16: Hours
R17: =IF(N17="S",K17,"") | X17: =IF(N17="V", K17, IF(AND(N17="S", U17="Y"),0.25*R17,"")) | AA17: =IF(AND($AH$13="",X17=""),"",IF(X17="",$AH$13,$AH$13-X17)) -> 214.4 | AD17: =IF(OR(AA17="", $AU$10=""),"",AA17/$AU$10) -> 27.41688 | AU17: =IF(N17="SL", K17, "")
R18: =IF(N18="S",K18,"") | X18: =IF(N18="V", K18, IF(AND(N18="S", U18="Y"),0.25*R18,"")) | AA18: =IF(AND(AA17="",X18=""),"",IF(X18="", AA17, AA17-X18)) -> 214.4 | AD18: =IF(OR(AA18="", $AU$10=""),"",AA18/$AU$10) -> 27.41688 | AU18: =IF(N18="SL", K18, "")
R19: =IF(N19="S",K19,"") | X19: =IF(N19="V", K19, IF(AND(N19="S", U19="Y"),0.25*R19,"")) | AA19: =IF(AND(AA18="",X19=""),"",IF(X19="", AA18, AA18-X19)) -> 214.4 | AD19: =IF(OR(AA19="", $AU$10=""),"",AA19/$AU$10) -> 27.41688 | AU19: =IF(N19="SL", K19, "")
R20: =IF(N20="S",K20,"") | X20: =IF(N20="V", K20, IF(AND(N20="S", U20="Y"),0.25*R20,"")) | AA20: =IF(AND(AA19="",X20=""),"",IF(X20="", AA19, AA19-X20)) -> 214.4 | AD20: =IF(OR(AA20="", $AU$10=""),"",AA20/$AU$10) -> 27.41688 | AU20: =IF(N20="SL", K20, "")
R21: =IF(N21="S",K21,"") | X21: =IF(N21="V", K21, IF(AND(N21="S", U21="Y"),0.25*R21,"")) | AA21: =IF(AND(AA20="",X21=""),"",IF(X21="", AA20, AA20-X21)) -> 214.4 | AD21: =IF(OR(AA21="", $AU$10=""),"",AA21/$AU$10) -> 27.41688 | AU21: =IF(N21="SL", K21, "")
R22: =IF(N22="S",K22,"") | X22: =IF(N22="V", K22, IF(AND(N22="S", U22="Y"),0.25*R22,"")) | AA22: =IF(AND(AA21="",X22=""),"",IF(X22="", AA21, AA21-X22)) -> 214.4 | AD22: =IF(OR(AA22="", $AU$10=""),"",AA22/$AU$10) -> 27.41688 | AU22: =IF(N22="SL", K22, "")
R23: =IF(N23="S",K23,"") | X23: =IF(N23="V", K23, IF(AND(N23="S", U23="Y"),0.25*R23,"")) | AA23: =IF(AND(AA22="",X23=""),"",IF(X23="", AA22, AA22-X23)) -> 214.4 | AD23: =IF(OR(AA23="", $AU$10=""),"",AA23/$AU$10) -> 27.41688 | AU23: =IF(N23="SL", K23, "")
R24: =IF(N24="S",K24,"") | X24: =IF(N24="V", K24, IF(AND(N24="S", U24="Y"),0.25*R24,"")) | AA24: =IF(AND(AA23="",X24=""),"",IF(X24="", AA23, AA23-X24)) -> 214.4 | AD24: =IF(OR(AA24="", $AU$10=""),"",AA24/$AU$10) -> 27.41688 | AU24: =IF(N24="SL", K24, "")
R25: =IF(N25="S",K25,"") | X25: =IF(N25="V", K25, IF(AND(N25="S", U25="Y"),0.25*R25,"")) | AA25: =IF(AND(AA24="",X25=""),"",IF(X25="", AA24, AA24-X25)) -> 214.4 | AD25: =IF(OR(AA25="", $AU$10=""),"",AA25/$AU$10) -> 27.41688 | AU25: =IF(N25="SL", K25, "")
R26: =IF(N26="S",K26,"") | X26: =IF(N26="V", K26, IF(AND(N26="S", U26="Y"),0.25*R26,"")) | AA26: =IF(AND(AA25="",X26=""),"",IF(X26="", AA25, AA25-X26)) -> 214.4 | AD26: =IF(OR(AA26="", $AU$10=""),"",AA26/$AU$10) -> 27.41688 | AU26: =IF(N26="SL", K26, "")
R27: =IF(N27="S",K27,"") | X27: =IF(N27="V", K27, IF(AND(N27="S", U27="Y"),0.25*R27,"")) | AA27: =IF(AND(AA26="",X27=""),"",IF(X27="", AA26, AA26-X27)) -> 214.4 | AD27: =IF(OR(AA27="", $AU$10=""),"",AA27/$AU$10) -> 27.41688 | AU27: =IF(N27="SL", K27, "")
R28: =IF(N28="S",K28,"") | X28: =IF(N28="V", K28, IF(AND(N28="S", U28="Y"),0.25*R28,"")) | AA28: =IF(AND(AA27="",X28=""),"",IF(X28="", AA27, AA27-X28)) -> 214.4 | AD28: =IF(OR(AA28="", $AU$10=""),"",AA28/$AU$10) -> 27.41688 | AU28: =IF(N28="SL", K28, "")
R29: =IF(N29="S",K29,"") | X29: =IF(N29="V", K29, IF(AND(N29="S", U29="Y"),0.25*R29,"")) | AA29: =IF(AND(AA28="",X29=""),"",IF(X29="", AA28, AA28-X29)) -> 214.4 | AD29: =IF(OR(AA29="", $AU$10=""),"",AA29/$AU$10) -> 27.41688 | AU29: =IF(N29="SL", K29, "")
... R35: =IF(N35="S",K35,"") | X35: =IF(N35="V", K35, IF(AND(N35="S", U35="Y"),0.25*R35,"")) | AA35: =IF(AND(AA34="",X35=""),"",IF(X35="", AA34, AA34-X35)) -> 214.4 | AD35: =IF(OR(AA35="", $AU$10=""),"",AA35/$AU$10) -> 27.41688 | AU35: =IF(N35="SL", K35, "")
R36: =IF(N36="S",K36,"") | X36: =IF(N36="V", K36, IF(AND(N36="S", U36="Y"),0.25*R36,"")) | AA36: =IF(AND(AA35="",X36=""),"",IF(X36="", AA35, AA35-X36)) -> 214.4 | AD36: =IF(OR(AA36="", $AU$10=""),"",AA36/$AU$10) -> 27.41688 | AI36: Total Hours | AU36: =SUM(AU17:AW35) -> 0

Sheet Master
U2: Vacation Hours Carried Over from Previous Year | Y2: Vacation Hours Allotted for Current Year | AE2: Total Number of Vacation Hours Available | AV2: Total Vacation Hours
AV3: =IF(AND($U$4="",$Y$4=""),"",$U$4+IF($Y$4="","0",$Y$4))
Y4: =IF(AG8="","",AG8*7) | AE4: =IF(AND(U4="",Y4=""),"",U4+IF(Y4="","0",Y4))
A6: Fill-in the three fields below to automatically calculate vacation hours allotted for current year | AF6: Date-time Code Difference | AG6: =O8-O7 -> 0
N7: Employee Leave Service Date (yyyy/mm/dd): | AF7: Years Service for Holidays | AG7: =IF(AG6<=0,"",YEAR(AG6)+1-1900)
N8: Current Year's Leave Service Anniversary Date(yyyy/mm/dd) (update annually): | AF8: Number of 7 hr Days Holiday Allotted for Current Year | AG8: =IF(AG6<=0,"",IF(ISBLANK(AG7),"",VLOOKUP(AG7,Vacation_Entitlement,2)))
N9: Enter number of hours worked per day | Y9: =IF(O9="","",O9) | AF9: Hour Days Holiday Available | AG9: =IF(O9="","",AE4/O9)
Q12: 2012 | U12: CALENDAR
A15: JANUARY | J15: FEBRUARY | S15: MARCH | AB15: APRIL | AK15: MAY
A16: SU | B16: MON | C16: TUE | D16: WED | E16: THU | F16: FRI | H16: SA | J16: SU | K16: MON | L16: TUE | M16: WED | N16: THU | O16: FRI | Q16: SA | S16: SU | T16: MON | U16: TUE | V16: WED | W16: THU | X16: FRI | Z16: SA | AB16: SU | AC16: MON | AD16: TUE | AE16: WED | AF16: THU | AG16: FRI | AI16: SA | AK16: SU | AL16: MON | AM16: TUE | AN16: WED | AO16: THU | AP16: FRI | AR16: SA
A17: 1 | B17: =A17+1 -> 2 | C17: =B17+1 -> 3 | D17: =C17+1 -> 4 | E17: =D17+1 -> 5 | F17: =E17+1 -> 6 | H17: =F17+1 -> 7 | M17: 1 | N17: =M17+1 -> 2 | O17: =N17+1 -> 3 | Q17: =O17+1 -> 4 | W17: 1 | X17: =W17+1 -> 2 | Z17: =X17+1 -> 3 | AB17: 1 | AC17: =AB17+1 -> 2 | AD17: =AC17+1 -> 3 | AE17: =AD17+1 -> 4 | AF17: =AE17+1 -> 5 | AG17: =AF17+1 -> 6 | AI17: =AG17+1 -> 7 | AM17: =AL17+1 -> 1 | AN17: =AM17+1 -> 2 | AO17: =AN17+1 -> 3 | AP17: =AO17+1 -> 4 | AR17: =AP17+1 -> 5
A18: =A17 -> 1 | B18: =A18+1 -> 2 | C18: =B18+1 -> 3 | D18: =C18+1 -> 4 | E18: =D18+1 -> 5 | F18: =E18+1 -> 6 | G18: $ | H18: =F18+1 -> 7 | M18: =C26+M17 -> 32 | N18: =M18+1 -> 33 | O18: =N18+1 -> 34 | P18: $ | Q18: =O18+1 -> 35 | W18: =M26+1 -> 61 | X18: =W18+1 -> 62 | Y18: $ | Z18: =X18+1 -> 63 | AB18: =Z26+1 -> 92 | AC18: =AB18+1 -> 93 | AD18: =AC18+1 -> 94 | AE18: =AD18+1 -> 95 | AF18: =AE18+1 -> 96 | AG18: =AF18+1 -> 97 | AI18: =AG18+1 -> 98 | AM18: =AC26+1 -> 122 | AN18: =AM18+1 -> 123 | AO18: =AN18+1 -> 124 | AP18: =AO18+1 -> 125 | AR18: =AP18+1 -> 126
A19: =H17+1 -> 8 | B19: =A19+1 -> 9 | C19: =B19+1 -> 10 | D19: =C19+1 -> 11 | E19: =D19+1 -> 12 | F19: =E19+1 -> 13 | H19: =F19+1 -> 14 | J19: =Q17+1 -> 5 | K19: =J19+1 -> 6 | L19: =K19+1 -> 7 | M19: =L19+1 -> 8 | N19: =M19+1 -> 9 | O19: =N19+1 -> 10 | Q19: =O19+1 -> 11 | S19: =Z17+1 -> 4 | T19: =S19+1 -> 5 | U19: =T19+1 -> 6 | V19: =U19+1 -> 7 | W19: =V19+1 -> 8 | X19: =W19+1 -> 9 | Z19: =X19+1 -> 10 | AB19: =AI17+1 -> 8 | AC19: =AB19+1 -> 9 | AD19: =AC19+1 -> 10 | AE19: =AD19+1 -> 11 | AF19: =AE19+1 -> 12 | AG19: =AF19+1 -> 13 | AI19: =AG19+1 -> 14 | AK19: =AR17+1 -> 6 | AL19: =AK19+1 -> 7 | AM19: =AL19+1 -> 8 | AN19: =AM19+1 -> 9 | AO19: =AN19+1 -> 10 | AP19: =AO19+1 -> 11 | AR19: =AP19+1 -> 12
A20: =H18+1 -> 8 | B20: =A20+1 -> 9 | C20: =B20+1 -> 10 | D20: =C20+1 -> 11 | E20: =D20+1 -> 12 | F20: =E20+1 -> 13 | H20: =F20+1 -> 14 | J20: =Q18+1 -> 36 | K20: =J20+1 -> 37 | L20: =K20+1 -> 38 | M20: =L20+1 -> 39 | N20: =M20+1 -> 40 | O20: =N20+1 -> 41 | Q20: =O20+1 -> 42 | S20: =Z18+1 -> 64 | T20: =S20+1 -> 65 | U20: =T20+1 -> 66 | V20: =U20+1 -> 67 | W20: =V20+1 -> 68 | X20: =W20+1 -> 69 | Z20: =X20+1 -> 70 | AB20: =AI18+1 -> 99 | AC20: =AB20+1 -> 100 | AD20: =AC20+1 -> 101 | AE20: =AD20+1 -> 102 | AF20: =AE20+1 -> 103 | AG20: =AF20+1 -> 104 | AH20: $ | AI20: =AG20+1 -> 105 | AK20: =AR18+1 -> 127 | AL20: =AK20+1 -> 128 | AM20: =AL20+1 -> 129 | AN20: =AM20+1 -> 130 | AO20: =AN20+1 -> 131 | AP20: =AO20+1 -> 132 | AQ20: $ | AR20: =AP20+1 -> 133
A21: =H19+1 -> 15 | B21: =A21+1 -> 16 | C21: =B21+1 -> 17 | D21: =C21+1 -> 18 | E21: =D21+1 -> 19 | F21: =E21+1 -> 20 | H21: =F21+1 -> 21 | J21: =Q19+1 -> 12 | K21: =J21+1 -> 13 | L21: =K21+1 -> 14 | M21: =L21+1 -> 15 | N21: =M21+1 -> 16 | O21: =N21+1 -> 17 | Q21: =O21+1 -> 18 | S21: =Z19+1 -> 11 | T21: =S21+1 -> 12 | U21: =T21+1 -> 13 | V21: =U21+1 -> 14 | W21: =V21+1 -> 15 | X21: =W21+1 -> 16 | Z21: =X21+1 -> 17 | AB21: =AI19+1 -> 15 | AC21: =AB21+1 -> 16 | AD21: =AC21+1 -> 17 | AE21: =AD21+1 -> 18 | AF21: =AE21+1 -> 19 | AG21: =AF21+1 -> 20 | AI21: =AG21+1 -> 21 | AK21: =AR19+1 -> 13 | AL21: =AK21+1 -> 14 | AM21: =AL21+1 -> 15 | AN21: =AM21+1 -> 16 | AO21: =AN21+1 -> 17 | AP21: =AO21+1 -> 18 | AR21: =AP21+1 -> 19
A22: =H20+1 -> 15 | B22: =A22+1 -> 16 | C22: =B22+1 -> 17 | D22: =C22+1 -> 18 | E22: =D22+1 -> 19 | F22: =E22+1 -> 20 | G22: $ | H22: =F22+1 -> 21 | J22: =Q20+1 -> 43 | K22: =J22+1 -> 44 | L22: =K22+1 -> 45 | M22: =L22+1 -> 46 | N22: =M22+1 -> 47 | O22: =N22+1 -> 48 | P22: $ | Q22: =O22+1 -> 49 | S22: =Z20+1 -> 71 | T22: =S22+1 -> 72 | U22: =T22+1 -> 73 | V22: =U22+1 -> 74 | W22: =V22+1 -> 75 | X22: =W22+1 -> 76 | Y22: $ | Z22: =X22+1 -> 77 | AB22: =AI20+1 -> 106 | AC22: =AB22+1 -> 107 | AD22: =AC22+1 -> 108 | AE22: =AD22+1 -> 109 | AF22: =AE22+1 -> 110 | AG22: =AF22+1 -> 111 | AI22: =AG22+1 -> 112 | AK22: =AR20+1 -> 134 | AL22: =AK22+1 -> 135 | AM22: =AL22+1 -> 136 | AN22: =AM22+1 -> 137 | AO22: =AN22+1 -> 138 | AP22: =AO22+1 -> 139 | AR22: =AP22+1 -> 140
A23: =H21+1 -> 22 | B23: =A23+1 -> 23 | C23: =B23+1 -> 24 | D23: =C23+1 -> 25 | E23: =D23+1 -> 26 | F23: =E23+1 -> 27 | H23: =F23+1 -> 28 | J23: =Q21+1 -> 19 | K23: =J23+1 -> 20 | L23: =K23+1 -> 21 | M23: =L23+1 -> 22 | N23: =M23+1 -> 23 | O23: =N23+1 -> 24 | Q23: =O23+1 -> 25 | S23: =Z21+1 -> 18 | T23: =S23+1 -> 19 | U23: =T23+1 -> 20 | V23: =U23+1 -> 21 | W23: =V23+1 -> 22 | X23: =W23+1 -> 23 | Z23: =X23+1 -> 24 | AB23: =AI21+1 -> 22 | AC23: =AB23+1 -> 23 | AD23: =AC23+1 -> 24 | AE23: =AD23+1 -> 25 | AF23: =AE23+1 -> 26 | AG23: =AF23+1 -> 27 | AI23: =AG23+1 -> 28 | AK23: =AR21+1 -> 20 | AL23: =AK23+1 -> 21 | AM23: =AL23+1 -> 22 | AN23: =AM23+1 -> 23 | AO23: =AN23+1 -> 24 | AP23: =AO23+1 -> 25 | AR23: =AP23+1 -> 26
A24: =H22+1 -> 22 | B24: =A24+1 -> 23 | C24: =B24+1 -> 24 | D24: =C24+1 -> 25 | E24: =D24+1 -> 26 | F24: =E24+1 -> 27 | H24: =F24+1 -> 28 | J24: =Q22+1 -> 50 | K24: =J24+1 -> 51 | L24: =K24+1 -> 52 | M24: =L24+1 -> 53 | N24: =M24+1 -> 54 | O24: =N24+1 -> 55 | Q24: =O24+1 -> 56 | S24: =Z22+1 -> 78 | T24: =S24+1 -> 79 | U24: =T24+1 -> 80 | V24: =U24+1 -> 81 | W24: =V24+1 -> 82 | X24: =W24+1 -> 83 | Z24: =X24+1 -> 84 | AB24: =AI22+1 -> 113 | AC24: =AB24+1 -> 114 | AD24: =AC24+1 -> 115 | AE24: =AD24+1 -> 116 | AF24: =AE24+1 -> 117 | AG24: =AF24+1 -> 118 | AH24: $ | AI24: =AG24+1 -> 119 | AK24: =AR22+1 -> 141 | AL24: =AK24+1 -> 142 | AM24: =AL24+1 -> 143 | AN24: =AM24+1 -> 144 | AO24: =AN24+1 -> 145 | AP24: =AO24+1 -> 146 | AQ24: $ | AR24: =AP24+1 -> 147
A25: =H23+1 -> 29 | B25: =A25+1 -> 30 | C25: =B25+1 -> 31 | J25: =Q23+1 -> 26 | K25: =J25+1 -> 27 | L25: =K25+1 -> 28 | M25: =L25+1 -> 29 | S25: =Z23+1 -> 25 | T25: =S25+1 -> 26 | U25: =T25+1 -> 27 | V25: =U25+1 -> 28 | W25: =V25+1 -> 29 | X25: =W25+1 -> 30 | Z25: =X25+1 -> 31 | AB25: =AI23+1 -> 29 | AC25: =AB25+1 -> 30 | AK25: =AR23+1 -> 27 | AL25: =AK25+1 -> 28 | AM25: =AL25+1 -> 29 | AN25: =AM25+1 -> 30 | AO25: =AN25+1 -> 31
A26: =H24+1 -> 29 | B26: =A26+1 -> 30 | C26: =B26+1 -> 31 | J26: =Q24+1 -> 57 | K26: =J26+1 -> 58 | L26: =K26+1 -> 59 | M26: =L26+1 -> 60 | S26: =Z24+1 -> 85 | T26: =S26+1 -> 86 | U26: =T26+1 -> 87 | V26: =U26+1 -> 88 | W26: =V26+1 -> 89 | X26: =W26+1 -> 90 | Y26: $ | Z26: =X26+1 -> 91 | AB26: =AI24+1 -> 120 | AC26: =AB26+1 -> 121 | AK26: =AR24+1 -> 148 | AL26: =AK26+1 -> 149 | AM26: =AL26+1 -> 150 | AN26: =AM26+1 -> 151 | AO26: =AN26+1 -> 152
A30: Vacation Hours Used | E30: Vac. Hours Left | J30: Vacation Hours Used | N30: Vac. Hours Left | S30: Vacation Hours Used | W30: Vac. Hours Left | AB30: Vacation Hours Used | AF30: Vac. Hours Left | AK30: Vacation Hours Used | AO30: Vac. Hours Left
E31: =IF(OR($AE$4=0,$AE$4=""),"",IF((INT($AE$4*100+0.5)-INT(A31*100+0.5))/100=0,"0",(INT($AE$4*100+0.5)-INT(A31*100+0.5))/100)) | N31: =IF(OR($AE$4=0,$AE$4=""),"",IF((INT(N13*100+0.5)-INT(J31*100+0.5))/100=0,"0",(INT(E31*100+0.5)-INT(J31*100+0.5))/100)) | W31: =IF(OR($AE$4=0,$AE$4=""),"",IF((INT(W13*100+0.5)-INT(S31*100+0.5))/100=0,"0",(INT(N31*100+0.5)-INT(S31*100+0.5))/100)) | AF31: =IF(OR($AE$4=0,$AE$4=""),"",IF((INT(AF13*100+0.5)-INT(AB31*100+0.5))/100=0,"0",(INT(W31*100+0.5)-INT(AB31*100+0.5))/100)) | AO31: =IF(OR($AE$4=0,$AE$4=""),"",IF((INT(AO13*100+0.5)-INT(AK31*100+0.5))/100=0,"0",(INT(AF31*100+0.5)-INT(AK31*100+0.5))/100))
A33: JUNE | J33: JULY | S33: AUGUST | AB33: SEPTEMBER | AK33: OCTOBER
A34: SU | B34: MON | C34: TUE | D34: WED | E34: THU | F34: FRI | H34: SA | J34: SU | K34: MON | L34: TUE | M34: WED | N34: THU | O34: FRI | Q34: SA | S34: SU | T34: MON | U34: TUE | V34: WED | W34: THU | X34: FRI | Z34: SA | AB34: SU | AC34: MON | AD34: TUE | AE34: WED | AF34: THU | AG34: FRI | AI34: SA | AK34: SU | AL34: MON | AM34: TUE | AN34: WED | AO34: THU | AP34: FRI | AR34: SA
F35: =E35+1 -> 1 | H35: =F35+1 -> 2 | J35: 1 | K35: =J35+1 -> 2 | L35: =K35+1 -> 3 | M35: =L35+1 -> 4 | N35: =M35+1 -> 5 | O35: =N35+1 -> 6 | Q35: =O35+1 -> 7 | V35: 1 | W35: =V35+1 -> 2 | X35: =W35+1 -> 3 | Z35: =X35+1 -> 4 | AI35: =AG35+1 -> 1 | AL35: 1 | AM35: =AL35+1 -> 2 | AN35: =AM35+1 -> 3 | AO35: =AN35+1 -> 4 | AP35: =AO35+1 -> 5 | AR35: =AP35+1 -> 6
F36: =AO26+1 -> 153 | H36: =F36+1 -> 154 | J36: =H44+1 -> 183 | K36: =J36+1 -> 184 | L36: =K36+1 -> 185 | M36: =L36+1 -> 186 | N36: =M36+1 -> 187 | O36: =N36+1 -> 188 | P36: $ | Q36: =O36+1 -> 189 | V36: =L44+1 -> 214 | W36: =V36+1 -> 215 | X36: =W36+1 -> 216 | Y36: $ | Z36: =X36+1 -> 217 | AI36: =X44+1 -> 245 | AL36: =AB46+1 -> 275 | AM36: =AL36+1 -> 276 | AN36: =AM36+1 -> 277 | AO36: =AN36+1 -> 278 | AP36: =AO36+1 -> 279 | AR36: =AP36+1 -> 280
A37: =H35+1 -> 3 | B37: =A37+1 -> 4 | C37: =B37+1 -> 5 | D37: =C37+1 -> 6 | E37: =D37+1 -> 7 | F37: =E37+1 -> 8 | H37: =F37+1 -> 9 | J37: =Q35+1 -> 8 | K37: =J37+1 -> 9 | L37: =K37+1 -> 10 | M37: =L37+1 -> 11 | N37: =M37+1 -> 12 | O37: =N37+1 -> 13 | Q37: =O37+1 -> 14 | S37: =Z35+1 -> 5 | T37: =S37+1 -> 6 | U37: =T37+1 -> 7 | V37: =U37+1 -> 8 | W37: =V37+1 -> 9 | X37: =W37+1 -> 10 | Z37: =X37+1 -> 11 | AB37: =AI35+1 -> 2 | AC37: =AB37+1 -> 3 | AD37: =AC37+1 -> 4 | AE37: =AD37+1 -> 5 | AF37: =AE37+1 -> 6 | AG37: =AF37+1 -> 7 | AI37: =AG37+1 -> 8 | AK37: =AR35+1 -> 7 | AL37: =AK37+1 -> 8 | AM37: =AL37+1 -> 9 | AN37: =AM37+1 -> 10 | AO37: =AN37+1 -> 11 | AP37: =AO37+1 -> 12 | AR37: =AP37+1 -> 13
A38: =H36+1 -> 155 | B38: =A38+1 -> 156 | C38: =B38+1 -> 157 | D38: =C38+1 -> 158 | E38: =D38+1 -> 159 | F38: =E38+1 -> 160 | G38: $ | H38: =F38+1 -> 161 | J38: =Q36+1 -> 190 | K38: =J38+1 -> 191 | L38: =K38+1 -> 192 | M38: =L38+1 -> 193 | N38: =M38+1 -> 194 | O38: =N38+1 -> 195 | Q38: =O38+1 -> 196 | S38: =Z36+1 -> 218 | T38: =S38+1 -> 219 | U38: =T38+1 -> 220 | V38: =U38+1 -> 221 | W38: =V38+1 -> 222 | X38: =W38+1 -> 223 | Z38: =X38+1 -> 224 | AB38: =AI36+1 -> 246 | AC38: =AB38+1 -> 247 | AD38: =AC38+1 -> 248 | AE38: =AD38+1 -> 249 | AF38: =AE38+1 -> 250 | AG38: =AF38+1 -> 251 | AI38: =AG38+1 -> 252 | AK38: =AR36+1 -> 281 | AL38: =AK38+1 -> 282 | AM38: =AL38+1 -> 283 | AN38: =AM38+1 -> 284 | AO38: =AN38+1 -> 285 | AP38: =AO38+1 -> 286 | AQ38: $ | AR38: =AP38+1 -> 287
A39: =H37+1 -> 10 | B39: =A39+1 -> 11 | C39: =B39+1 -> 12 | D39: =C39+1 -> 13 | E39: =D39+1 -> 14 | F39: =E39+1 -> 15 | H39: =F39+1 -> 16 | J39: =Q37+1 -> 15 | K39: =J39+1 -> 16 | L39: =K39+1 -> 17 | M39: =L39+1 -> 18 | N39: =M39+1 -> 19 | O39: =N39+1 -> 20 | Q39: =O39+1 -> 21 | S39: =Z37+1 -> 12 | T39: =S39+1 -> 13 | U39: =T39+1 -> 14 | V39: =U39+1 -> 15 | W39: =V39+1 -> 16 | X39: =W39+1 -> 17 | Z39: =X39+1 -> 18 | AB39: =AI37+1 -> 9 | AC39: =AB39+1 -> 10 | AD39: =AC39+1 -> 11 | AE39: =AD39+1 -> 12 | AF39: =AE39+1 -> 13 | AG39: =AF39+1 -> 14 | AI39: =AG39+1 -> 15 | AK39: =AR37+1 -> 14 | AL39: =AK39+1 -> 15 | AM39: =AL39+1 -> 16 | AN39: =AM39+1 -> 17 | AO39: =AN39+1 -> 18 | AP39: =AO39+1 -> 19 | AR39: =AP39+1 -> 20
A40: =H38+1 -> 162 | B40: =A40+1 -> 163 | C40: =B40+1 -> 164 | D40: =C40+1 -> 165 | E40: =D40+1 -> 166 | F40: =E40+1 -> 167 | H40: =F40+1 -> 168 | J40: =Q38+1 -> 197 | K40: =J40+1 -> 198 | L40: =K40+1 -> 199 | M40: =L40+1 -> 200 | N40: =M40+1 -> 201 | O40: =N40+1 -> 202 | P40: $ | Q40: =O40+1 -> 203 | S40: =Z38+1 -> 225 | T40: =S40+1 -> 226 | U40: =T40+1 -> 227 | V40: =U40+1 -> 228 | W40: =V40+1 -> 229 | X40: =W40+1 -> 230 | Y40: $ | Z40: =X40+1 -> 231 | AB40: =AI38+1 -> 253 | AC40: =AB40+1 -> 254 | AD40: =AC40+1 -> 255 | AE40: =AD40+1 -> 256 | AF40: =AE40+1 -> 257 | AG40: =AF40+1 -> 258 | AH40: $ | AI40: =AG40+1 -> 259 | AK40: =AR38+1 -> 288 | AL40: =AK40+1 -> 289 | AM40: =AL40+1 -> 290 | AN40: =AM40+1 -> 291 | AO40: =AN40+1 -> 292 | AP40: =AO40+1 -> 293 | AR40: =AP40+1 -> 294
A41: =H39+1 -> 17 | B41: =A41+1 -> 18 | C41: =B41+1 -> 19 | D41: =C41+1 -> 20 | E41: =D41+1 -> 21 | F41: =E41+1 -> 22 | H41: =F41+1 -> 23 | J41: =Q39+1 -> 22 | K41: =J41+1 -> 23 | L41: =K41+1 -> 24 | M41: =L41+1 -> 25 | N41: =M41+1 -> 26 | O41: =N41+1 -> 27 | Q41: =O41+1 -> 28 | S41: =Z39+1 -> 19 | T41: =S41+1 -> 20 | U41: =T41+1 -> 21 | V41: =U41+1 -> 22 | W41: =V41+1 -> 23 | X41: =W41+1 -> 24 | Z41: =X41+1 -> 25 | AB41: =AI39+1 -> 16 | AC41: =AB41+1 -> 17 | AD41: =AC41+1 -> 18 | AE41: =AD41+1 -> 19 | AF41: =AE41+1 -> 20 | AG41: =AF41+1 -> 21 | AI41: =AG41+1 -> 22 | AK41: =AR39+1 -> 21 | AL41: =AK41+1 -> 22 | AM41: =AL41+1 -> 23 | AN41: =AM41+1 -> 24 | AO41: =AN41+1 -> 25 | AP41: =AO41+1 -> 26 | AR41: =AP41+1 -> 27
A42: =H40+1 -> 169 | B42: =A42+1 -> 170 | C42: =B42+1 -> 171 | D42: =C42+1 -> 172 | E42: =D42+1 -> 173 | F42: =E42+1 -> 174 | G42: $ | H42: =F42+1 -> 175 | J42: =Q40+1 -> 204 | K42: =J42+1 -> 205 | L42: =K42+1 -> 206 | M42: =L42+1 -> 207 | N42: =M42+1 -> 208 | O42: =N42+1 -> 209 | Q42: =O42+1 -> 210 | S42: =Z40+1 -> 232 | T42: =S42+1 -> 233 | U42: =T42+1 -> 234 | V42: =U42+1 -> 235 | W42: =V42+1 -> 236 | X42: =W42+1 -> 237 | Z42: =X42+1 -> 238 | AB42: =AI40+1 -> 260 | AC42: =AB42+1 -> 261 | AD42: =AC42+1 -> 262 | AE42: =AD42+1 -> 263 | AF42: =AE42+1 -> 264 | AG42: =AF42+1 -> 265 | AI42: =AG42+1 -> 266 | AK42: =AR40+1 -> 295 | AL42: =AK42+1 -> 296 | AM42: =AL42+1 -> 297 | AN42: =AM42+1 -> 298 | AO42: =AN42+1 -> 299 | AP42: =AO42+1 -> 300 | AQ42: $ | AR42: =AP42+1 -> 301
A43: =H41+1 -> 24 | B43: =A43+1 -> 25 | C43: =B43+1 -> 26 | D43: =C43+1 -> 27 | E43: =D43+1 -> 28 | F43: =E43+1 -> 29 | H43: =F43+1 -> 30 | J43: =Q41+1 -> 29 | K43: =J43+1 -> 30 | L43: =K43+1 -> 31 | S43: =Z41+1 -> 26 | T43: =S43+1 -> 27 | U43: =T43+1 -> 28 | V43: =U43+1 -> 29 | W43: =V43+1 -> 30 | X43: =W43+1 -> 31 | AB43: =AI41+1 -> 23 | AC43: =AB43+1 -> 24 | AD43: =AC43+1 -> 25 | AE43: =AD43+1 -> 26 | AF43: =AE43+1 -> 27 | AG43: =AF43+1 -> 28 | AI43: =AG43+1 -> 29 | AK43: =AR41+1 -> 28 | AL43: =AK43+1 -> 29 | AM43: =AL43+1 -> 30 | AN43: =AM43+1 -> 31
A44: =H42+1 -> 176 | B44: =A44+1 -> 177 | C44: =B44+1 -> 178 | D44: =C44+1 -> 179 | E44: =D44+1 -> 180 | F44: =E44+1 -> 181 | H44: =F44+1 -> 182 | J44: =Q42+1 -> 211 | K44: =J44+1 -> 212 | L44: =K44+1 -> 213 | S44: =Z42+1 -> 239 | T44: =S44+1 -> 240 | U44: =T44+1 -> 241 | V44: =U44+1 -> 242 | W44: =V44+1 -> 243 | X44: =W44+1 -> 244 | Y44: $ | AB44: =AI42+1 -> 267 | AC44: =AB44+1 -> 268 | AD44: =AC44+1 -> 269 | AE44: =AD44+1 -> 270 | AF44: =AE44+1 -> 271 | AG44: =AF44+1 -> 272 | AH44: $ | AI44: =AG44+1 -> 273 | AK44: =AR42+1 -> 302 | AL44: =AK44+1 -> 303 | AM44: =AL44+1 -> 304 | AN44: =AM44+1 -> 305
AB45: =AI43+1 -> 30
AB46: =AI44+1 -> 274
A48: Vacation Hours Used | E48: Vac. Hours Left | J48: Vacation Hours Used | N48: Vac. Hours Left | S48: Vacation Hours Used | W48: Vac. Hours Left | AB48: Vacation Hours Used | AF48: Vac. Hours Left | AK48: Vacation Hours Used | AO48: Vac. Hours Left
E49: =IF(OR($AE$4=0,$AE$4=""),"",IF((INT(E31*100+0.5)-INT(A49*100+0.5))/100=0,"0",(INT(AO31*100+0.5)-INT(A49*100+0.5))/100)) | N49: =IF(OR($AE$4=0,$AE$4=""),"",IF((INT(E85*100+0.5)-INT(J49*100+0.5))/100=0,"0",(INT(E49*100+0.5)-INT(J49*100+0.5))/100)) | W49: =IF(OR($AE$4=0,$AE$4=""),"",IF((INT(N85*100+0.5)-INT(S49*100+0.5))/100=0,"0",(INT(N49*100+0.5)-INT(S49*100+0.5))/100)) | AF49: =IF(OR($AE$4=0,$AE$4=""),"",IF((INT(W85*100+0.5)-INT(AB49*100+0.5))/100=0,"0",(INT(W49*100+0.5)-INT(AB49*100+0.5))/100)) | AO49: =IF(OR($AE$4=0,$AE$4=""),"",IF((INT(AF85*100+0.5)-INT(AK49*100+0.5))/100=0,"0",(INT(AF49*100+0.5)-INT(AK49*100+0.5))/100))
A51: NOVEMBER | J51: DECEMBER | S51: January | W51: =Q12+1 -> 2013 | AB51: February | AF51: =Q12+1 -> 2013 | AK51: March | AO51: =Q12+1 -> 2013
A52: SU | B52: MON | C52: TUE | D52: WED | E52: THU | F52: FRI | H52: SA | J52: SU | K52: MON | L52: TUE | M52: WED | N52: THU | O52: FRI | Q52: SA | S52: SU | T52: MON | U52: TUE | V52: WED | W52: THU | X52: FRI | Z52: SA | AB52: SU | AC52: MON | AD52: TUE | AE52: WED | AF52: THU | AG52: FRI | AI52: SA | AK52: SU | AL52: MON | AM52: TUE | AN52: WED | AO52: THU | AP52: FRI | AR52: SA
...

Sheet Master2
Q2: Paylist Number | U2: Vacation Hours Carried Over from Previous Year | Y2: Vacation Hours Allotted for Current Year | AE2: Total Number of Vacation Hours Available | AV2: Total Vacation Hours
AV3: =IF(AND($U$4="",$Y$4=""),"",$U$4+IF($Y$4="","0",$Y$4))
Y4: =IF(AG8="","",AG8*7) | AE4: =IF(AND(U4="",Y4=""),"",U4+IF(Y4="","0",Y4))
A6: Fill-in the three fields below to automatically calculate vacation hours allotted for current year | AF6: Date-time Code Difference | AG6: =O8-O7 -> 0
N7: Employee Leave Service Date (yyyy/mm/dd): | AF7: Years Service for Holidays | AG7: =IF(AG6<=0,"",YEAR(AG6)+1-1900)
N8: Current Year's Leave Service Anniversary Date(yyyy/mm/dd) (update annually): | AF8: Number of 7 hr Days Holiday Allotted for Current Year | AG8: =IF(AG6<=0,"",IF(ISBLANK(AG7),"",VLOOKUP(AG7,Vacation_Entitlement,2)))
N9: Enter number of hours worked per day | Y9: =IF(O9="","",O9) | AF9: Hour Days Holiday Available | AG9: =IF(O9="","",AE4/O9)
Q12: 2010 | U12: CALENDAR
AK13: =Q12+1 -> 2011
A15: JANUARY | J15: APRIL | S15: JULY | AB15: OCTOBER | AK15: JANUARY
A16: SU | B16: MON | C16: TUE | D16: WED | E16: THU | F16: FRI | H16: SA | J16: SU | K16: MON | L16: TUE | M16: WED | N16: THU | O16: FRI | Q16: SA | S16: SU | T16: MON | U16: TUE | V16: WED | W16: THU | X16: FRI | Z16: SA | AB16: SU | AC16: MON | AD16: TUE | AE16: WED | AF16: THU | AG16: FRI | AI16: SA | AK16: SU | AL16: MON | AM16: TUE | AN16: WED | AO16: THU | AP16: FRI | AR16: SA
F17: 1 | H17: =F17+1 -> 2 | N17: =M17+1 -> 1 | O17: =N17+1 -> 2 | Q17: =O17+1 -> 3 | W17: =V17+1 -> 1 | X17: =W17+1 -> 2 | Z17: =X17+1 -> 3 | AG17: 1 | AI17: =AG17+1 -> 2 | AR17: 1
F18: =E18+1 -> 1 | H18: =F18+1 -> 2 | N18: =D62+1 -> 91 | O18: =N18+1 -> 92 | Q18: =O18+1 -> 93 | W18: =M62+1 -> 182 | X18: =W18+1 -> 183 | Z18: =X18+1 -> 184 | AG18: =W62+1 -> 274 | AH18: $ | AI18: =AG18+1 -> 275 | AR18: =AG62+1 -> 366
A19: =H17+1 -> 3 | B19: =A19+1 -> 4 | C19: =B19+1 -> 5 | D19: =C19+1 -> 6 | E19: =D19+1 -> 7 | F19: =E19+1 -> 8 | H19: =F19+1 -> 9 | J19: =Q17+1 -> 4 | K19: =J19+1 -> 5 | L19: =K19+1 -> 6 | M19: =L19+1 -> 7 | N19: =M19+1 -> 8 | O19: =N19+1 -> 9 | Q19: =O19+1 -> 10 | S19: =Z17+1 -> 4 | T19: =S19+1 -> 5 | U19: =T19+1 -> 6 | V19: =U19+1 -> 7 | W19: =V19+1 -> 8 | X19: =W19+1 -> 9 | Z19: =X19+1 -> 10 | AB19: =AI17+1 -> 3 | AC19: =AB19+1 -> 4 | AD19: =AC19+1 -> 5 | AE19: =AD19+1 -> 6 | AF19: =AE19+1 -> 7 | AG19: =AF19+1 -> 8 | AI19: =AG19+1 -> 9 | AK19: =AR17+1 -> 2 | AL19: =AK19+1 -> 3 | AM19: =AL19+1 -> 4 | AN19: =AM19+1 -> 5 | AO19: =AN19+1 -> 6 | AP19: =AO19+1 -> 7 | AR19: =AP19+1 -> 8
A20: =H18+1 -> 3 | B20: =A20+1 -> 4 | C20: =B20+1 -> 5 | D20: =C20+1 -> 6 | E20: =D20+1 -> 7 | F20: =E20+1 -> 8 | G20: $ | H20: =F20+1 -> 9 | J20: =Q18+1 -> 94 | K20: =J20+1 -> 95 | L20: =K20+1 -> 96 | M20: =L20+1 -> 97 | N20: =M20+1 -> 98 | O20: =N20+1 -> 99 | Q20: =O20+1 -> 100 | S20: =Z18+1 -> 185 | T20: =S20+1 -> 186 | U20: =T20+1 -> 187 | V20: =U20+1 -> 188 | W20: =V20+1 -> 189 | X20: =W20+1 -> 190 | Y20: $ | Z20: =X20+1 -> 191 | AB20: =AI18+1 -> 276 | AC20: =AB20+1 -> 277 | AD20: =AC20+1 -> 278 | AE20: =AD20+1 -> 279 | AF20: =AE20+1 -> 280 | AG20: =AF20+1 -> 281 | AI20: =AG20+1 -> 282 | AK20: =AR18+1 -> 367 | AL20: =AK20+1 -> 368 | AM20: =AL20+1 -> 369 | AN20: =AM20+1 -> 370 | AO20: =AN20+1 -> 371 | AP20: =AO20+1 -> 372 | AQ20: $ | AR20: =AP20+1 -> 373
A21: =H19+1 -> 10 | B21: =A21+1 -> 11 | C21: =B21+1 -> 12 | D21: =C21+1 -> 13 | E21: =D21+1 -> 14 | F21: =E21+1 -> 15 | H21: =F21+1 -> 16 | J21: =Q19+1 -> 11 | K21: =J21+1 -> 12 | L21: =K21+1 -> 13 | M21: =L21+1 -> 14 | N21: =M21+1 -> 15 | O21: =N21+1 -> 16 | Q21: =O21+1 -> 17 | S21: =Z19+1 -> 11 | T21: =S21+1 -> 12 | U21: =T21+1 -> 13 | V21: =U21+1 -> 14 | W21: =V21+1 -> 15 | X21: =W21+1 -> 16 | Z21: =X21+1 -> 17 | AB21: =AI19+1 -> 10 | AC21: =AB21+1 -> 11 | AD21: =AC21+1 -> 12 | AE21: =AD21+1 -> 13 | AF21: =AE21+1 -> 14 | AG21: =AF21+1 -> 15 | AI21: =AG21+1 -> 16 | AK21: =AR19+1 -> 9 | AL21: =AK21+1 -> 10 | AM21: =AL21+1 -> 11 | AN21: =AM21+1 -> 12 | AO21: =AN21+1 -> 13 | AP21: =AO21+1 -> 14 | AR21: =AP21+1 -> 15
A22: =H20+1 -> 10 | B22: =A22+1 -> 11 | C22: =B22+1 -> 12 | D22: =C22+1 -> 13 | E22: =D22+1 -> 14 | F22: =E22+1 -> 15 | H22: =F22+1 -> 16 | J22: =Q20+1 -> 101 | K22: =J22+1 -> 102 | L22: =K22+1 -> 103 | M22: =L22+1 -> 104 | N22: =M22+1 -> 105 | O22: =N22+1 -> 106 | P22: $ | Q22: =O22+1 -> 107 | S22: =Z20+1 -> 192 | T22: =S22+1 -> 193 | U22: =T22+1 -> 194 | V22: =U22+1 -> 195 | W22: =V22+1 -> 196 | X22: =W22+1 -> 197 | Z22: =X22+1 -> 198 | AB22: =AI20+1 -> 283 | AC22: =AB22+1 -> 284 | AD22: =AC22+1 -> 285 | AE22: =AD22+1 -> 286 | AF22: =AE22+1 -> 287 | AG22: =AF22+1 -> 288 | AH22: $ | AI22: =AG22+1 -> 289 | AK22: =AR20+1 -> 374 | AL22: =AK22+1 -> 375 | AM22: =AL22+1 -> 376 | AN22: =AM22+1 -> 377 | AO22: =AN22+1 -> 378 | AP22: =AO22+1 -> 379 | AR22: =AP22+1 -> 380
A23: =H21+1 -> 17 | B23: =A23+1 -> 18 | C23: =B23+1 -> 19 | D23: =C23+1 -> 20 | E23: =D23+1 -> 21 | F23: =E23+1 -> 22 | H23: =F23+1 -> 23 | J23: =Q21+1 -> 18 | K23: =J23+1 -> 19 | L23: =K23+1 -> 20 | M23: =L23+1 -> 21 | N23: =M23+1 -> 22 | O23: =N23+1 -> 23 | Q23: =O23+1 -> 24 | S23: =Z21+1 -> 18 | T23: =S23+1 -> 19 | U23: =T23+1 -> 20 | V23: =U23+1 -> 21 | W23: =V23+1 -> 22 | X23: =W23+1 -> 23 | Z23: =X23+1 -> 24 | AB23: =AI21+1 -> 17 | AC23: =AB23+1 -> 18 | AD23: =AC23+1 -> 19 | AE23: =AD23+1 -> 20 | AF23: =AE23+1 -> 21 | AG23: =AF23+1 -> 22 | AI23: =AG23+1 -> 23 | AK23: =AR21+1 -> 16 | AL23: =AK23+1 -> 17 | AM23: =AL23+1 -> 18 | AN23: =AM23+1 -> 19 | AO23: =AN23+1 -> 20 | AP23: =AO23+1 -> 21 | AR23: =AP23+1 -> 22
A24: =H22+1 -> 17 | B24: =A24+1 -> 18 | C24: =B24+1 -> 19 | D24: =C24+1 -> 20 | E24: =D24+1 -> 21 | F24: =E24+1 -> 22 | G24: $ | H24: =F24+1 -> 23 | J24: =Q22+1 -> 108 | K24: =J24+1 -> 109 | L24: =K24+1 -> 110 | M24: =L24+1 -> 111 | N24: =M24+1 -> 112 | O24: =N24+1 -> 113 | Q24: =O24+1 -> 114 | S24: =Z22+1 -> 199 | T24: =S24+1 -> 200 | U24: =T24+1 -> 201 | V24: =U24+1 -> 202 | W24: =V24+1 -> 203 | X24: =W24+1 -> 204 | Y24: $ | Z24: =X24+1 -> 205 | AB24: =AI22+1 -> 290 | AC24: =AB24+1 -> 291 | AD24: =AC24+1 -> 292 | AE24: =AD24+1 -> 293 | AF24: =AE24+1 -> 294 | AG24: =AF24+1 -> 295 | AI24: =AG24+1 -> 296 | AK24: =AR22+1 -> 381 | AL24: =AK24+1 -> 382 | AM24: =AL24+1 -> 383 | AN24: =AM24+1 -> 384 | AO24: =AN24+1 -> 385 | AP24: =AO24+1 -> 386 | AQ24: $ | AR24: =AP24+1 -> 387
A25: =H23+1 -> 24 | B25: =A25+1 -> 25 | C25: =B25+1 -> 26 | D25: =C25+1 -> 27 | E25: =D25+1 -> 28 | F25: =E25+1 -> 29 | H25: =F25+1 -> 30 | J25: =Q23+1 -> 25 | K25: =J25+1 -> 26 | L25: =K25+1 -> 27 | M25: =L25+1 -> 28 | N25: =M25+1 -> 29 | O25: =N25+1 -> 30 | S25: =Z23+1 -> 25 | T25: =S25+1 -> 26 | U25: =T25+1 -> 27 | V25: =U25+1 -> 28 | W25: =V25+1 -> 29 | X25: =W25+1 -> 30 | Z25: =X25+1 -> 31 | AB25: =AI23+1 -> 24 | AC25: =AB25+1 -> 25 | AD25: =AC25+1 -> 26 | AE25: =AD25+1 -> 27 | AF25: =AE25+1 -> 28 | AG25: =AF25+1 -> 29 | AI25: =AG25+1 -> 30 | AK25: =AR23+1 -> 23 | AL25: =AK25+1 -> 24 | AM25: =AL25+1 -> 25 | AN25: =AM25+1 -> 26 | AO25: =AN25+1 -> 27 | AP25: =AO25+1 -> 28 | AR25: =AP25+1 -> 29
A26: =H24+1 -> 24 | B26: =A26+1 -> 25 | C26: =B26+1 -> 26 | D26: =C26+1 -> 27 | E26: =D26+1 -> 28 | F26: =E26+1 -> 29 | H26: =F26+1 -> 30 | J26: =Q24+1 -> 115 | K26: =J26+1 -> 116 | L26: =K26+1 -> 117 | M26: =L26+1 -> 118 | N26: =M26+1 -> 119 | O26: =N26+1 -> 120 | P26: $ | S26: =Z24+1 -> 206 | T26: =S26+1 -> 207 | U26: =T26+1 -> 208 | V26: =U26+1 -> 209 | W26: =V26+1 -> 210 | X26: =W26+1 -> 211 | Z26: =X26+1 -> 212 | AB26: =AI24+1 -> 297 | AC26: =AB26+1 -> 298 | AD26: =AC26+1 -> 299 | AE26: =AD26+1 -> 300 | AF26: =AE26+1 -> 301 | AG26: =AF26+1 -> 302 | AH26: $ | AI26: =AG26+1 -> 303 | AK26: =AR24+1 -> 388 | AL26: =AK26+1 -> 389 | AM26: =AL26+1 -> 390 | AN26: =AM26+1 -> 391 | AO26: =AN26+1 -> 392 | AP26: =AO26+1 -> 393 | AR26: =AP26+1 -> 394
A27: =H25+1 -> 31 | AB27: =AI25+1 -> 31 | AK27: =AR25+1 -> 30 | AL27: =AK27+1 -> 31
A28: =H26+1 -> 31 | AB28: =AI26+1 -> 304 | AK28: =AR26+1 -> 395 | AL28: =AK28+1 -> 396
A30: Vacation Hours Used | E30: Vac. Hours Left | J30: Vacation Hours Used | N30: Vac. Hours Left | S30: Vacation Hours Used | W30: Vac. Hours Left | AB30: Vacation Hours Used | AF30: Vac. Hours Left | AK30: Vacation Hours Used | AO30: Vac. Hours Left
E31: =IF(OR($AE$4=0,$AE$4=""),"",IF((INT($AE$4*100+0.5)-INT(A31*100+0.5))/100=0,"0",(INT($AE$4*100+0.5)-INT(A31*100+0.5))/100)) | N31: =IF(OR($AE$4=0,$AE$4=""),"",IF((INT(E67*100+0.5)-INT(J31*100+0.5))/100=0,"0",(INT(E67*100+0.5)-INT(J31*100+0.5))/100)) | W31: =IF(OR($AE$4=0,$AE$4=""),"",IF((INT(N67*100+0.5)-INT(S31*100+0.5))/100=0,"0",(INT(N67*100+0.5)-INT(S31*100+0.5))/100)) | AF31: =IF(OR($AE$4=0,$AE$4=""),"",IF((INT(W67*100+0.5)-INT(AB31*100+0.5))/100=0,"0",(INT(W67*100+0.5)-INT(AB31*100+0.5))/100)) | AO31: =IF(OR($AE$4=0,$AE$4=""),"",IF((INT(AF67*100+0.5)-INT(AK31*100+0.5))/100=0,"0",(INT(AF67*100+0.5)-INT(AK31*100+0.5))/100))
A33: FEBRUARY | J33: MAY | S33: AUGUST | AB33: NOVEMBER | AK33: FEBRUARY
A34: SU | B34: MON | C34: TUE | D34: WED | E34: THU | F34: FRI | H34: SA | J34: SU | K34: MON | L34: TUE | M34: WED | N34: THU | O34: FRI | Q34: SA | S34: SU | T34: MON | U34: TUE | V34: WED | W34: THU | X34: FRI | Z34: SA | AB34: SU | AC34: MON | AD34: TUE | AE34: WED | AF34: THU | AG34: FRI | AI34: SA | AK34: SU | AL34: MON | AM34: TUE | AN34: WED | AO34: THU | AP34: FRI | AR34: SA
B35: 1 | C35: =B35+1 -> 2 | D35: =C35+1 -> 3 | E35: =D35+1 -> 4 | F35: =E35+1 -> 5 | H35: =F35+1 -> 6 | Q35: 1 | S35: 1 | T35: =S35+1 -> 2 | U35: =T35+1 -> 3 | V35: =U35+1 -> 4 | W35: =V35+1 -> 5 | X35: =W35+1 -> 6 | Z35: =X35+1 -> 7 | AC35: 1 | AD35: =AC35+1 -> 2 | AE35: =AD35+1 -> 3 | AF35: =AE35+1 -> 4 | AG35: =AF35+1 -> 5 | AI35: =AG35+1 -> 6 | AM35: 1 | AN35: =AM35+1 -> 2 | AO35: =AN35+1 -> 3 | AP35: =AO35+1 -> 4 | AR35: =AP35+1 -> 5
B36: =A28+1 -> 32 | C36: =B36+1 -> 33 | D36: =C36+1 -> 34 | E36: =D36+1 -> 35 | F36: =E36+1 -> 36 | G36: $ | H36: =F36+1 -> 37 | Q36: =O26+1 -> 121 | S36: =Z26+1 -> 213 | T36: =S36+1 -> 214 | U36: =T36+1 -> 215 | V36: =U36+1 -> 216 | W36: =V36+1 -> 217 | X36: =W36+1 -> 218 | Y36: $ | Z36: =X36+1 -> 219 | AC36: =AB28+1 -> 305 | AD36: =AC36+1 -> 306 | AE36: =AD36+1 -> 307 | AF36: =AE36+1 -> 308 | AG36: =AF36+1 -> 309 | AI36: =AG36+1 -> 310 | AM36: =AL28+1 -> 397 | AN36: =AM36+1 -> 398 | AO36: =AN36+1 -> 399 | AP36: =AO36+1 -> 400 | AQ36: $ | AR36: =AP36+1 -> 401
A37: =H35+1 -> 7 | B37: =A37+1 -> 8 | C37: =B37+1 -> 9 | D37: =C37+1 -> 10 | E37: =D37+1 -> 11 | F37: =E37+1 -> 12 | H37: =F37+1 -> 13 | J37: =Q35+1 -> 2 | K37: =J37+1 -> 3 | L37: =K37+1 -> 4 | M37: =L37+1 -> 5 | N37: =M37+1 -> 6 | O37: =N37+1 -> 7 | Q37: =O37+1 -> 8 | S37: =Z35+1 -> 8 | T37: =S37+1 -> 9 | U37: =T37+1 -> 10 | V37: =U37+1 -> 11 | W37: =V37+1 -> 12 | X37: =W37+1 -> 13 | Z37: =X37+1 -> 14 | AB37: =AI35+1 -> 7 | AC37: =AB37+1 -> 8 | AD37: =AC37+1 -> 9 | AE37: =AD37+1 -> 10 | AF37: =AE37+1 -> 11 | AG37: =AF37+1 -> 12 | AI37: =AG37+1 -> 13 | AK37: =AR35+1 -> 6 | AL37: =AK37+1 -> 7 | AM37: =AL37+1 -> 8 | AN37: =AM37+1 -> 9 | AO37: =AN37+1 -> 10 | AP37: =AO37+1 -> 11 | AR37: =AP37+1 -> 12
A38: =H36+1 -> 38 | B38: =A38+1 -> 39 | C38: =B38+1 -> 40 | D38: =C38+1 -> 41 | E38: =D38+1 -> 42 | F38: =E38+1 -> 43 | H38: =F38+1 -> 44 | J38: =Q36+1 -> 122 | K38: =J38+1 -> 123 | L38: =K38+1 -> 124 | M38: =L38+1 -> 125 | N38: =M38+1 -> 126 | O38: =N38+1 -> 127 | Q38: =O38+1 -> 128 | S38: =Z36+1 -> 220 | T38: =S38+1 -> 221 | U38: =T38+1 -> 222 | V38: =U38+1 -> 223 | W38: =V38+1 -> 224 | X38: =W38+1 -> 225 | Z38: =X38+1 -> 226 | AB38: =AI36+1 -> 311 | AC38: =AB38+1 -> 312 | AD38: =AC38+1 -> 313 | AE38: =AD38+1 -> 314 | AF38: =AE38+1 -> 315 | AG38: =AF38+1 -> 316 | AH38: $ | AI38: =AG38+1 -> 317 | AK38: =AR36+1 -> 402 | AL38: =AK38+1 -> 403 | AM38: =AL38+1 -> 404 | AN38: =AM38+1 -> 405 | AO38: =AN38+1 -> 406 | AP38: =AO38+1 -> 407 | AR38: =AP38+1 -> 408
A39: =H37+1 -> 14 | B39: =A39+1 -> 15 | C39: =B39+1 -> 16 | D39: =C39+1 -> 17 | E39: =D39+1 -> 18 | F39: =E39+1 -> 19 | H39: =F39+1 -> 20 | J39: =Q37+1 -> 9 | K39: =J39+1 -> 10 | L39: =K39+1 -> 11 | M39: =L39+1 -> 12 | N39: =M39+1 -> 13 | O39: =N39+1 -> 14 | Q39: =O39+1 -> 15 | S39: =Z37+1 -> 15 | T39: =S39+1 -> 16 | U39: =T39+1 -> 17 | V39: =U39+1 -> 18 | W39: =V39+1 -> 19 | X39: =W39+1 -> 20 | Z39: =X39+1 -> 21 | AB39: =AI37+1 -> 14 | AC39: =AB39+1 -> 15 | AD39: =AC39+1 -> 16 | AE39: =AD39+1 -> 17 | AF39: =AE39+1 -> 18 | AG39: =AF39+1 -> 19 | AI39: =AG39+1 -> 20 | AK39: =AR37+1 -> 13 | AL39: =AK39+1 -> 14 | AM39: =AL39+1 -> 15 | AN39: =AM39+1 -> 16 | AO39: =AN39+1 -> 17 | AP39: =AO39+1 -> 18 | AR39: =AP39+1 -> 19
A40: =H38+1 -> 45 | B40: =A40+1 -> 46 | C40: =B40+1 -> 47 | D40: =C40+1 -> 48 | E40: =D40+1 -> 49 | F40: =E40+1 -> 50 | G40: $ | H40: =F40+1 -> 51 | J40: =Q38+1 -> 129 | K40: =J40+1 -> 130 | L40: =K40+1 -> 131 | M40: =L40+1 -> 132 | N40: =M40+1 -> 133 | O40: =N40+1 -> 134 | P40: $ | Q40: =O40+1 -> 135 | S40: =Z38+1 -> 227 | T40: =S40+1 -> 228 | U40: =T40+1 -> 229 | V40: =U40+1 -> 230 | W40: =V40+1 -> 231 | X40: =W40+1 -> 232 | Y40: $ | Z40: =X40+1 -> 233 | AB40: =AI38+1 -> 318 | AC40: =AB40+1 -> 319 | AD40: =AC40+1 -> 320 | AE40: =AD40+1 -> 321 | AF40: =AE40+1 -> 322 | AG40: =AF40+1 -> 323 | AI40: =AG40+1 -> 324 | AK40: =AR38+1 -> 409 | AL40: =AK40+1 -> 410 | AM40: =AL40+1 -> 411 | AN40: =AM40+1 -> 412 | AO40: =AN40+1 -> 413 | AP40: =AO40+1 -> 414 | AQ40: $ | AR40: =AP40+1 -> 415
A41: =H39+1 -> 21 | B41: =A41+1 -> 22 | C41: =B41+1 -> 23 | D41: =C41+1 -> 24 | E41: =D41+1 -> 25 | F41: =E41+1 -> 26 | H41: =F41+1 -> 27 | J41: =Q39+1 -> 16 | K41: =J41+1 -> 17 | L41: =K41+1 -> 18 | M41: =L41+1 -> 19 | N41: =M41+1 -> 20 | O41: =N41+1 -> 21 | Q41: =O41+1 -> 22 | S41: =Z39+1 -> 22 | T41: =S41+1 -> 23 | U41: =T41+1 -> 24 | V41: =U41+1 -> 25 | W41: =V41+1 -> 26 | X41: =W41+1 -> 27 | Z41: =X41+1 -> 28 | AB41: =AI39+1 -> 21 | AC41: =AB41+1 -> 22 | AD41: =AC41+1 -> 23 | AE41: =AD41+1 -> 24 | AF41: =AE41+1 -> 25 | AG41: =AF41+1 -> 26 | AI41: =AG41+1 -> 27 | AK41: =AR39+1 -> 20 | AL41: =AK41+1 -> 21 | AM41: =AL41+1 -> 22 | AN41: =AM41+1 -> 23 | AO41: =AN41+1 -> 24 | AP41: =AO41+1 -> 25 | AR41: =AP41+1 -> 26
A42: =H40+1 -> 52 | B42: =A42+1 -> 53 | C42: =B42+1 -> 54 | D42: =C42+1 -> 55 | E42: =D42+1 -> 56 | F42: =E42+1 -> 57 | H42: =F42+1 -> 58 | J42: =Q40+1 -> 136 | K42: =J42+1 -> 137 | L42: =K42+1 -> 138 | M42: =L42+1 -> 139 | N42: =M42+1 -> 140 | O42: =N42+1 -> 141 | Q42: =O42+1 -> 142 | S42: =Z40+1 -> 234 | T42: =S42+1 -> 235 | U42: =T42+1 -> 236 | V42: =U42+1 -> 237 | W42: =V42+1 -> 238 | X42: =W42+1 -> 239 | Z42: =X42+1 -> 240 | AB42: =AI40+1 -> 325 | AC42: =AB42+1 -> 326 | AD42: =AC42+1 -> 327 | AE42: =AD42+1 -> 328 | AF42: =AE42+1 -> 329 | AG42: =AF42+1 -> 330 | AH42: $ | AI42: =AG42+1 -> 331 | AK42: =AR40+1 -> 416 | AL42: =AK42+1 -> 417 | AM42: =AL42+1 -> 418 | AN42: =AM42+1 -> 419 | AO42: =AN42+1 -> 420 | AP42: =AO42+1 -> 421 | AR42: =AP42+1 -> 422
A43: =H41+1 -> 28 | J43: =Q41+1 -> 23 | K43: =J43+1 -> 24 | L43: =K43+1 -> 25 | M43: =L43+1 -> 26 | N43: =M43+1 -> 27 | O43: =N43+1 -> 28 | Q43: =O43+1 -> 29 | S43: =Z41+1 -> 29 | T43: =S43+1 -> 30 | U43: =T43+1 -> 31 | AB43: =AI41+1 -> 28 | AC43: =AB43+1 -> 29 | AD43: =AC43+1 -> 30 | AK43: =AR41+1 -> 27 | AL43: =AK43+1 -> 28
A44: =H42+1 -> 59 | J44: =Q42+1 -> 143 | K44: =J44+1 -> 144 | L44: =K44+1 -> 145 | M44: =L44+1 -> 146 | N44: =M44+1 -> 147 | O44: =N44+1 -> 148 | P44: $ | Q44: =O44+1 -> 149 | S44: =Z42+1 -> 241 | T44: =S44+1 -> 242 | U44: =T44+1 -> 243 | AB44: =AI42+1 -> 332 | AC44: =AB44+1 -> 333 | AD44: =AC44+1 -> 334 | AK44: =AR42+1 -> 423 | AL44: =AK44+1 -> 424
J45: =Q43+1 -> 30 | K45: =J45+1 -> 31
J46: =Q44+1 -> 150 | K46: =J46+1 -> 151
A48: Vacation Hours Used | E48: Vac. Hours Left | J48: Vacation Hours Used | N48: Vac. Hours Left | S48: Vacation Hours Used | W48: Vac. Hours Left | AB48: Vacation Hours Used | AF48: Vac. Hours Left | AK48: Vacation Hours Used | AO48: Vac. Hours Left
...

Sheet 12 Mo Calendar
U2: Vacation Hours Carried Over from Previous Year | Y2: Vacation Hours Allotted for Current Year | AE2: Total Number of Vacation Hours Available
Y4: =IF(AG7="","",AG7*7)
A5: Fill-in the three fields below to automatically calculate vacation hours allotted for current year | AF5: Date-time Code Difference | AG5: =O7-O6 -> 0
N6: Employee Leave Service Date (yyyy/mm/dd): | AF6: Years Service for Holidays | AG6: =IF(AG5<=0,"",YEAR(AG5)+1-1900)
N7: Current Year's Leave Service Anniversary Date(yyyy/mm/dd) (update annually): | AF7: Number of 7 hr Days Holiday Allotted for Current Year | AG7: =IF(AG5<=0,"",IF(ISBLANK(AG6),"",VLOOKUP(AG6,Vacation_Entitlement,2)))
N8: Enter number of hours worked per day | Y8: =IF(O8="","",O8) | AF8: Hour Days Holiday Available | AG8: =IF(O8="","",AE4/O8)
L10: 2015 | P10: CALENDAR | AE10: Total Vacation Hours
AE11: =IF(AND(U4="",Y4=""),"",U4+IF(Y4="","0",Y4))
A13: JANUARY | J13: FEBRUARY | S13: MARCH | AB13: APRIL
A14: SU | B14: MON | C14: TUE | D14: WED | E14: THU | F14: FRI | H14: SA | J14: SU | K14: MON | L14: TUE | M14: WED | N14: THU | O14: FRI | Q14: SA | S14: SU | T14: MON | U14: TUE | V14: WED | W14: THU | X14: FRI | Z14: SA | AB14: SU | AC14: MON | AD14: TUE | AE14: WED | AF14: THU | AG14: FRI | AI14: SA
E15: =D15+1 -> 1 | F15: =E15+1 -> 2 | H15: =F15+1 -> 3 | J15: 1 | K15: 2 | L15: 3 | M15: 4 | N15: 5 | O15: 6 | Q15: =O15+1 -> 7 | S15: 1 | T15: 2 | U15: 3 | V15: 4 | W15: 5 | X15: 6 | Z15: =X15+1 -> 7 | AE15: =AD15+1 -> 1 | AF15: =AE15+1 -> 2 | AG15: =AF15+1 -> 3 | AI15: =AG15+1 -> 4
G16: $
A17: =H15+1 -> 4 | B17: =A17+1 -> 5 | C17: =B17+1 -> 6 | D17: =C17+1 -> 7 | E17: =D17+1 -> 8 | F17: =E17+1 -> 9 | H17: =F17+1 -> 10 | J17: =Q15+1 -> 8 | K17: =J17+1 -> 9 | L17: =K17+1 -> 10 | M17: =L17+1 -> 11 | N17: =M17+1 -> 12 | O17: =N17+1 -> 13 | Q17: =O17+1 -> 14 | S17: =Z15+1 -> 8 | T17: =S17+1 -> 9 | U17: =T17+1 -> 10 | V17: =U17+1 -> 11 | W17: =V17+1 -> 12 | X17: =W17+1 -> 13 | Z17: =X17+1 -> 14 | AB17: =AI15+1 -> 5 | AC17: =AB17+1 -> 6 | AD17: =AC17+1 -> 7 | AE17: =AD17+1 -> 8 | AF17: =AE17+1 -> 9 | AG17: =AF17+1 -> 10 | AI17: =AG17+1 -> 11
P18: $ | Y18: $ | AH18: $
A19: =H17+1 -> 11 | B19: =A19+1 -> 12 | C19: =B19+1 -> 13 | D19: =C19+1 -> 14 | E19: =D19+1 -> 15 | F19: =E19+1 -> 16 | H19: =F19+1 -> 17 | J19: =Q17+1 -> 15 | K19: =J19+1 -> 16 | L19: =K19+1 -> 17 | M19: =L19+1 -> 18 | N19: =M19+1 -> 19 | O19: =N19+1 -> 20 | Q19: =O19+1 -> 21 | S19: =Z17+1 -> 15 | T19: =S19+1 -> 16 | U19: =T19+1 -> 17 | V19: =U19+1 -> 18 | W19: =V19+1 -> 19 | X19: =W19+1 -> 20 | Z19: =X19+1 -> 21 | AB19: =AI17+1 -> 12 | AC19: =AB19+1 -> 13 | AD19: =AC19+1 -> 14 | AE19: =AD19+1 -> 15 | AF19: =AE19+1 -> 16 | AG19: =AF19+1 -> 17 | AI19: =AG19+1 -> 18
G20: $
A21: =H19+1 -> 18 | B21: =A21+1 -> 19 | C21: =B21+1 -> 20 | D21: =C21+1 -> 21 | E21: =D21+1 -> 22 | F21: =E21+1 -> 23 | H21: =F21+1 -> 24 | J21: =Q19+1 -> 22 | K21: =J21+1 -> 23 | L21: =K21+1 -> 24 | M21: =L21+1 -> 25 | N21: =M21+1 -> 26 | O21: =N21+1 -> 27 | Q21: =O21+1 -> 28 | S21: =Z19+1 -> 22 | T21: =S21+1 -> 23 | U21: =T21+1 -> 24 | V21: =U21+1 -> 25 | W21: =V21+1 -> 26 | X21: =W21+1 -> 27 | Z21: =X21+1 -> 28 | AB21: =AI19+1 -> 19 | AC21: =AB21+1 -> 20 | AD21: =AC21+1 -> 21 | AE21: =AD21+1 -> 22 | AF21: =AE21+1 -> 23 | AG21: =AF21+1 -> 24 | AI21: =AG21+1 -> 25
P22: $ | Y22: $ | AH22: $
A23: =H21+1 -> 25 | B23: =A23+1 -> 26 | C23: =B23+1 -> 27 | D23: =C23+1 -> 28 | E23: =D23+1 -> 29 | F23: 30 | H23: 31 | S23: =Z21+1 -> 29 | T23: =S23+1 -> 30 | U23: =T23+1 -> 31 | AB23: =AI21+1 -> 26 | AC23: =AB23+1 -> 27 | AD23: =AC23+1 -> 28 | AE23: =AD23+1 -> 29 | AF23: =AE23+1 -> 30
G24: $
A27: Vacation Hours Used | E27: Vac. Hours Left | J27: Vacation Hours Used | N27: Vac. Hours Left | S27: Vacation Hours Used | W27: Vac. Hours Left | AB27: Vacation Hours Used | AF27: Vac. Hours Left
A28: =SUM(F16)+SUM(B18:F18)+SUM(B20:F20)+SUM(B22:F22)+SUM(B24:F24) -> 0 | E28: =IF(OR($AE$4=0,$AE$4=""),"",IF((INT($AE$4*100+0.5)-INT(A28*100+0.5))/100=0,"0",(INT($AE$4*100+0.5)-INT(A28*100+0.5))/100)) | J28: =SUM(K16:O16)+SUM(L18:O18)+SUM(K20:O20)+SUM(K22:O22) -> 0 | N28: =IF(OR($AE$4=0,$AE$4=""),"",IF((INT(E28*100+0.5)-INT(J28*100+0.5))/100=0,"0",(INT(E28*100+0.5)-INT(J28*100+0.5))/100)) | S28: =SUM(T16:X16)+SUM(T18:X18)+SUM(T20:X20)+SUM(T22:X22)+SUM(T24:U24) -> 0 | W28: =IF(OR($AE$4=0,$AE$4=""),"",IF((INT(N28*100+0.5)-INT(S28*100+0.5))/100=0,"0",(INT(N28*100+0.5)-INT(S28*100+0.5))/100)) | AB28: =SUM(AE16:AF16)+SUM(AD18:AG18)+SUM(AC20:AG20)+SUM(AC22:AG22)+SUM(AC24:AD24) -> 0 | AF28: =IF(OR($AE$4=0,$AE$4=""),"",IF((INT(W28*100+0.5)-INT(AB28*100+0.5))/100=0,"0",(INT(W28*100+0.5)-INT(AB28*100+0.5))/100))
A30: MAY | J30: JUNE | S30: JULY | AB30: AUGUST
A31: SU | B31: MON | C31: TUE | D31: WED | E31: THU | F31: FRI | H31: SA | J31: SU | K31: MON | L31: TUE | M31: WED | N31: THU | O31: FRI | Q31: SA | S31: SU | T31: MON | U31: TUE | V31: WED | W31: THU | X31: FRI | Z31: SA | AB31: SU | AC31: MON | AD31: TUE | AE31: WED | AF31: THU | AG31: FRI | AI31: SA
F32: =E32+1 -> 1 | H32: =F32+1 -> 2 | K32: =J32+1 -> 1 | L32: =K32+1 -> 2 | M32: =L32+1 -> 3 | N32: =M32+1 -> 4 | O32: =N32+1 -> 5 | Q32: 6 | V32: =U32+1 -> 1 | W32: =V32+1 -> 2 | X32: =W32+1 -> 3 | Z32: =X32+1 -> 4 | AI32: =AG32+1 -> 1
P33: $ | Y33: $
A34: =H32+1 -> 3 | B34: =A34+1 -> 4 | C34: =B34+1 -> 5 | D34: =C34+1 -> 6 | E34: =D34+1 -> 7 | F34: =E34+1 -> 8 | H34: =F34+1 -> 9 | J34: =Q32+1 -> 7 | K34: =J34+1 -> 8 | L34: =K34+1 -> 9 | M34: =L34+1 -> 10 | N34: =M34+1 -> 11 | O34: =N34+1 -> 12 | Q34: 13 | S34: =Z32+1 -> 5 | T34: =S34+1 -> 6 | U34: =T34+1 -> 7 | V34: =U34+1 -> 8 | W34: =V34+1 -> 9 | X34: =W34+1 -> 10 | Z34: =X34+1 -> 11 | AB34: =AI32+1 -> 2 | AC34: =AB34+1 -> 3 | AD34: =AC34+1 -> 4 | AE34: =AD34+1 -> 5 | AF34: =AE34+1 -> 6 | AG34: =AF34+1 -> 7 | AI34: =AG34+1 -> 8
G35: $
A36: =H34+1 -> 10 | B36: =A36+1 -> 11 | C36: =B36+1 -> 12 | D36: =C36+1 -> 13 | E36: =D36+1 -> 14 | F36: =E36+1 -> 15 | H36: =F36+1 -> 16 | J36: 14 | K36: =J36+1 -> 15 | L36: =K36+1 -> 16 | M36: =L36+1 -> 17 | N36: =M36+1 -> 18 | O36: =N36+1 -> 19 | Q36: 20 | S36: =Z34+1 -> 12 | T36: =S36+1 -> 13 | U36: =T36+1 -> 14 | V36: =U36+1 -> 15 | W36: =V36+1 -> 16 | X36: =W36+1 -> 17 | Z36: =X36+1 -> 18 | AB36: =AI34+1 -> 9 | AC36: =AB36+1 -> 10 | AD36: =AC36+1 -> 11 | AE36: =AD36+1 -> 12 | AF36: =AE36+1 -> 13 | AG36: =AF36+1 -> 14 | AI36: =AG36+1 -> 15
P37: $ | Y37: $ | AH37: $
A38: =H36+1 -> 17 | B38: =A38+1 -> 18 | C38: =B38+1 -> 19 | D38: =C38+1 -> 20 | E38: =D38+1 -> 21 | F38: =E38+1 -> 22 | H38: =F38+1 -> 23 | J38: 21 | K38: 22 | L38: 23 | M38: 24 | N38: 25 | O38: 26 | Q38: 27 | S38: =Z36+1 -> 19 | T38: =S38+1 -> 20 | U38: =T38+1 -> 21 | V38: =U38+1 -> 22 | W38: =V38+1 -> 23 | X38: =W38+1 -> 24 | Z38: =X38+1 -> 25 | AB38: =AI36+1 -> 16 | AC38: =AB38+1 -> 17 | AD38: =AC38+1 -> 18 | AE38: =AD38+1 -> 19 | AF38: =AE38+1 -> 20 | AG38: =AF38+1 -> 21 | AI38: =AG38+1 -> 22
G39: $
A40: =H38+1 -> 24 | B40: =A40+1 -> 25 | C40: =B40+1 -> 26 | D40: =C40+1 -> 27 | E40: =D40+1 -> 28 | F40: =E40+1 -> 29 | H40: =F40+1 -> 30 | J40: 28 | K40: 29 | L40: 30 | S40: =Z38+1 -> 26 | T40: =S40+1 -> 27 | U40: =T40+1 -> 28 | V40: =U40+1 -> 29 | W40: 30 | X40: 31 | AB40: =AI38+1 -> 23 | AC40: =AB40+1 -> 24 | AD40: =AC40+1 -> 25 | AE40: =AD40+1 -> 26 | AF40: =AE40+1 -> 27 | AG40: =AF40+1 -> 28 | AI40: =AG40+1 -> 29
Y41: $ | AH41: $
A42: =H40+1 -> 31 | AB42: 30 | AC42: 31
S44: =Z40+1 -> 1
A47: Vacation Hours Used | E47: Vac. Hours Left | J47: Vacation Hours Used | N47: Vac. Hours Left | S47: Vacation Hours Used | W47: Vac. Hours Left | AB47: Vacation Hours Used | AF47: Vac. Hours Left
A48: =SUM(F33)+SUM(B35:F35)+SUM(B37:F37)+SUM(C39:F39)+SUM(B41:F41) -> 0 | E48: =IF(OR($AE$4=0,$AE$4=""),"",IF((INT(AF28*100+0.5)-INT(A48*100+0.5))/100=0,"0",(INT(AF28*100+0.5)-INT(A48*100+0.5))/100)) | J48: =SUM(K33:O33)+SUM(K35:O35)+SUM(K37:O37)+SUM(K39:O39)+SUM(K41:L41) -> 0 | N48: =IF(OR($AE$4=0,$AE$4=""),"",IF((INT(E28*100+0.5)-INT(J48*100+0.5))/100=0,"0",(INT(E48*100+0.5)-INT(J48*100+0.5))/100)) | S48: =SUM(W33:X33)+SUM(T35:X35)+SUM(T37:X37)+SUM(T39:X39)+SUM(T41:X41) -> 0 | W48: =IF(OR($AE$4=0,$AE$4=""),"",IF((INT(N28*100+0.5)-INT(S48*100+0.5))/100=0,"0",(INT(N48*100+0.5)-INT(S48*100+0.5))/100)) | AB48: =SUM(AD35:AG35)+SUM(AC37:AG37)+SUM(AC39:AG39)+SUM(AC41:AG41)+SUM(AC43) -> 0 | AF48: =IF(OR($AE$4=0,$AE$4=""),"",IF((INT(W28*100+0.5)-INT(AB48*100+0.5))/100=0,"0",(INT(W48*100+0.5)-INT(AB48*100+0.5))/100))
A50: SEPTEMBER | J50: OCTOBER | S50: NOVEMBER | AB50: DECEMBER
A51: SU | B51: MON | C51: TUE | D51: WED | E51: THU | F51: FRI | H51: SA | J51: SU | K51: MON | L51: TUE | M51: WED | N51: THU | O51: FRI | Q51: SA | S51: SU | T51: MON | U51: TUE | V51: WED | W51: THU | X51: FRI | Z51: SA | AB51: SU | AC51: MON | AD51: TUE | AE51: WED | AF51: THU | AG51: FRI | AI51: SA
...

Sheet 15 Mo Special
Q2: Paylist Number | U2: Vacation Hours Carried Over from Previous Year | Y2: Vacation Hours Allotted for Current Year | AE2: Total Number of Vacation Hours Available | AV2: Total Vacation Hours
AV3: =IF(AND($U$4="",$Y$4=""),"",$U$4+IF($Y$4="","0",$Y$4))
Y4: =IF(AG8="","",AG8*7) | AE4: =IF(AND(U4="",Y4=""),"",U4+IF(Y4="","0",Y4))
A6: Fill-in the three fields below to automatically calculate vacation hours allotted for current year | AF6: Date-time Code Difference | AG6: =O8-O7 -> 0
N7: Employee Leave Service Date (yyyy/mm/dd): | AF7: Years Service for Holidays | AG7: =IF(AG6<=0,"",YEAR(AG6)+1-1900)
N8: Current Year's Leave Service Anniversary Date(yyyy/mm/dd) (update annually): | AF8: Number of 7 hr Days Holiday Allotted for Current Year | AG8: =IF(AG6<=0,"",IF(ISBLANK(AG7),"",VLOOKUP(AG7,Vacation_Entitlement,2)))
N9: Enter number of hours worked per day | Y9: =IF(O9="","",O9) | AF9: Hour Days Holiday Available | AG9: =IF(O9="","",AE4/O9)
Q12: 2010 | U12: CALENDAR
AK13: =Q12+1 -> 2011
A15: JANUARY | J15: APRIL | S15: JULY | AB15: OCTOBER | AK15: JANUARY
A16: SU | B16: MON | C16: TUE | D16: WED | E16: THU | F16: FRI | H16: SA | J16: SU | K16: MON | L16: TUE | M16: WED | N16: THU | O16: FRI | Q16: SA | S16: SU | T16: MON | U16: TUE | V16: WED | W16: THU | X16: FRI | Z16: SA | AB16: SU | AC16: MON | AD16: TUE | AE16: WED | AF16: THU | AG16: FRI | AI16: SA | AK16: SU | AL16: MON | AM16: TUE | AN16: WED | AO16: THU | AP16: FRI | AR16: SA
F17: 1 | H17: =F17+1 -> 2 | N17: =M17+1 -> 1 | O17: =N17+1 -> 2 | Q17: =O17+1 -> 3 | W17: =V17+1 -> 1 | X17: =W17+1 -> 2 | Z17: =X17+1 -> 3 | AG17: 1 | AI17: =AG17+1 -> 2 | AR17: 1
F18: =E18+1 -> 1 | H18: =F18+1 -> 2 | N18: =D62+1 -> 91 | O18: =N18+1 -> 92 | Q18: =O18+1 -> 93 | W18: =M62+1 -> 182 | X18: =W18+1 -> 183 | Y18: $ | Z18: =X18+1 -> 184 | AG18: =W62+1 -> 274 | AI18: =AG18+1 -> 275 | AR18: =AG62+1 -> 366
A19: =H17+1 -> 3 | B19: =A19+1 -> 4 | C19: =B19+1 -> 5 | D19: =C19+1 -> 6 | E19: =D19+1 -> 7 | F19: =E19+1 -> 8 | H19: =F19+1 -> 9 | J19: =Q17+1 -> 4 | K19: =J19+1 -> 5 | L19: =K19+1 -> 6 | M19: =L19+1 -> 7 | N19: =M19+1 -> 8 | O19: =N19+1 -> 9 | Q19: =O19+1 -> 10 | S19: =Z17+1 -> 4 | T19: =S19+1 -> 5 | U19: =T19+1 -> 6 | V19: =U19+1 -> 7 | W19: =V19+1 -> 8 | X19: =W19+1 -> 9 | Z19: =X19+1 -> 10 | AB19: =AI17+1 -> 3 | AC19: =AB19+1 -> 4 | AD19: =AC19+1 -> 5 | AE19: =AD19+1 -> 6 | AF19: =AE19+1 -> 7 | AG19: =AF19+1 -> 8 | AI19: =AG19+1 -> 9 | AK19: =AR17+1 -> 2 | AL19: =AK19+1 -> 3 | AM19: =AL19+1 -> 4 | AN19: =AM19+1 -> 5 | AO19: =AN19+1 -> 6 | AP19: =AO19+1 -> 7 | AR19: =AP19+1 -> 8
A20: =H18+1 -> 3 | B20: =A20+1 -> 4 | C20: =B20+1 -> 5 | D20: =C20+1 -> 6 | E20: =D20+1 -> 7 | F20: =E20+1 -> 8 | G20: $ | H20: =F20+1 -> 9 | J20: =Q18+1 -> 94 | K20: =J20+1 -> 95 | L20: =K20+1 -> 96 | M20: =L20+1 -> 97 | N20: =M20+1 -> 98 | O20: =N20+1 -> 99 | P20: $ | Q20: =O20+1 -> 100 | S20: =Z18+1 -> 185 | T20: =S20+1 -> 186 | U20: =T20+1 -> 187 | V20: =U20+1 -> 188 | W20: =V20+1 -> 189 | X20: =W20+1 -> 190 | Z20: =X20+1 -> 191 | AB20: =AI18+1 -> 276 | AC20: =AB20+1 -> 277 | AD20: =AC20+1 -> 278 | AE20: =AD20+1 -> 279 | AF20: =AE20+1 -> 280 | AG20: =AF20+1 -> 281 | AH20: $ | AI20: =AG20+1 -> 282 | AK20: =AR18+1 -> 367 | AL20: =AK20+1 -> 368 | AM20: =AL20+1 -> 369 | AN20: =AM20+1 -> 370 | AO20: =AN20+1 -> 371 | AP20: =AO20+1 -> 372 | AR20: =AP20+1 -> 373
A21: =H19+1 -> 10 | B21: =A21+1 -> 11 | C21: =B21+1 -> 12 | D21: =C21+1 -> 13 | E21: =D21+1 -> 14 | F21: =E21+1 -> 15 | H21: =F21+1 -> 16 | J21: =Q19+1 -> 11 | K21: =J21+1 -> 12 | L21: =K21+1 -> 13 | M21: =L21+1 -> 14 | N21: =M21+1 -> 15 | O21: =N21+1 -> 16 | Q21: =O21+1 -> 17 | S21: =Z19+1 -> 11 | T21: =S21+1 -> 12 | U21: =T21+1 -> 13 | V21: =U21+1 -> 14 | W21: =V21+1 -> 15 | X21: =W21+1 -> 16 | Z21: =X21+1 -> 17 | AB21: =AI19+1 -> 10 | AC21: =AB21+1 -> 11 | AD21: =AC21+1 -> 12 | AE21: =AD21+1 -> 13 | AF21: =AE21+1 -> 14 | AG21: =AF21+1 -> 15 | AI21: =AG21+1 -> 16 | AK21: =AR19+1 -> 9 | AL21: =AK21+1 -> 10 | AM21: =AL21+1 -> 11 | AN21: =AM21+1 -> 12 | AO21: =AN21+1 -> 13 | AP21: =AO21+1 -> 14 | AR21: =AP21+1 -> 15
A22: =H20+1 -> 10 | B22: =A22+1 -> 11 | C22: =B22+1 -> 12 | D22: =C22+1 -> 13 | E22: =D22+1 -> 14 | F22: =E22+1 -> 15 | H22: =F22+1 -> 16 | J22: =Q20+1 -> 101 | K22: =J22+1 -> 102 | L22: =K22+1 -> 103 | M22: =L22+1 -> 104 | N22: =M22+1 -> 105 | O22: =N22+1 -> 106 | Q22: =O22+1 -> 107 | S22: =Z20+1 -> 192 | T22: =S22+1 -> 193 | U22: =T22+1 -> 194 | V22: =U22+1 -> 195 | W22: =V22+1 -> 196 | X22: =W22+1 -> 197 | Y22: $ | Z22: =X22+1 -> 198 | AB22: =AI20+1 -> 283 | AC22: =AB22+1 -> 284 | AD22: =AC22+1 -> 285 | AE22: =AD22+1 -> 286 | AF22: =AE22+1 -> 287 | AG22: =AF22+1 -> 288 | AI22: =AG22+1 -> 289 | AK22: =AR20+1 -> 374 | AL22: =AK22+1 -> 375 | AM22: =AL22+1 -> 376 | AN22: =AM22+1 -> 377 | AO22: =AN22+1 -> 378 | AP22: =AO22+1 -> 379 | AQ22: $ | AR22: =AP22+1 -> 380
A23: =H21+1 -> 17 | B23: =A23+1 -> 18 | C23: =B23+1 -> 19 | D23: =C23+1 -> 20 | E23: =D23+1 -> 21 | F23: =E23+1 -> 22 | H23: =F23+1 -> 23 | J23: =Q21+1 -> 18 | K23: =J23+1 -> 19 | L23: =K23+1 -> 20 | M23: =L23+1 -> 21 | N23: =M23+1 -> 22 | O23: =N23+1 -> 23 | Q23: =O23+1 -> 24 | S23: =Z21+1 -> 18 | T23: =S23+1 -> 19 | U23: =T23+1 -> 20 | V23: =U23+1 -> 21 | W23: =V23+1 -> 22 | X23: =W23+1 -> 23 | Z23: =X23+1 -> 24 | AB23: =AI21+1 -> 17 | AC23: =AB23+1 -> 18 | AD23: =AC23+1 -> 19 | AE23: =AD23+1 -> 20 | AF23: =AE23+1 -> 21 | AG23: =AF23+1 -> 22 | AI23: =AG23+1 -> 23 | AK23: =AR21+1 -> 16 | AL23: =AK23+1 -> 17 | AM23: =AL23+1 -> 18 | AN23: =AM23+1 -> 19 | AO23: =AN23+1 -> 20 | AP23: =AO23+1 -> 21 | AR23: =AP23+1 -> 22
A24: =H22+1 -> 17 | B24: =A24+1 -> 18 | C24: =B24+1 -> 19 | D24: =C24+1 -> 20 | E24: =D24+1 -> 21 | F24: =E24+1 -> 22 | G24: $ | H24: =F24+1 -> 23 | J24: =Q22+1 -> 108 | K24: =J24+1 -> 109 | L24: =K24+1 -> 110 | M24: =L24+1 -> 111 | N24: =M24+1 -> 112 | O24: =N24+1 -> 113 | P24: $ | Q24: =O24+1 -> 114 | S24: =Z22+1 -> 199 | T24: =S24+1 -> 200 | U24: =T24+1 -> 201 | V24: =U24+1 -> 202 | W24: =V24+1 -> 203 | X24: =W24+1 -> 204 | Z24: =X24+1 -> 205 | AB24: =AI22+1 -> 290 | AC24: =AB24+1 -> 291 | AD24: =AC24+1 -> 292 | AE24: =AD24+1 -> 293 | AF24: =AE24+1 -> 294 | AG24: =AF24+1 -> 295 | AH24: $ | AI24: =AG24+1 -> 296 | AK24: =AR22+1 -> 381 | AL24: =AK24+1 -> 382 | AM24: =AL24+1 -> 383 | AN24: =AM24+1 -> 384 | AO24: =AN24+1 -> 385 | AP24: =AO24+1 -> 386 | AR24: =AP24+1 -> 387
A25: =H23+1 -> 24 | B25: =A25+1 -> 25 | C25: =B25+1 -> 26 | D25: =C25+1 -> 27 | E25: =D25+1 -> 28 | F25: =E25+1 -> 29 | H25: =F25+1 -> 30 | J25: =Q23+1 -> 25 | K25: =J25+1 -> 26 | L25: =K25+1 -> 27 | M25: =L25+1 -> 28 | N25: =M25+1 -> 29 | O25: =N25+1 -> 30 | S25: =Z23+1 -> 25 | T25: =S25+1 -> 26 | U25: =T25+1 -> 27 | V25: =U25+1 -> 28 | W25: =V25+1 -> 29 | X25: =W25+1 -> 30 | Z25: =X25+1 -> 31 | AB25: =AI23+1 -> 24 | AC25: =AB25+1 -> 25 | AD25: =AC25+1 -> 26 | AE25: =AD25+1 -> 27 | AF25: =AE25+1 -> 28 | AG25: =AF25+1 -> 29 | AI25: =AG25+1 -> 30 | AK25: =AR23+1 -> 23 | AL25: =AK25+1 -> 24 | AM25: =AL25+1 -> 25 | AN25: =AM25+1 -> 26 | AO25: =AN25+1 -> 27 | AP25: =AO25+1 -> 28 | AR25: =AP25+1 -> 29
A26: =H24+1 -> 24 | B26: =A26+1 -> 25 | C26: =B26+1 -> 26 | D26: =C26+1 -> 27 | E26: =D26+1 -> 28 | F26: =E26+1 -> 29 | H26: =F26+1 -> 30 | J26: =Q24+1 -> 115 | K26: =J26+1 -> 116 | L26: =K26+1 -> 117 | M26: =L26+1 -> 118 | N26: =M26+1 -> 119 | O26: =N26+1 -> 120 | S26: =Z24+1 -> 206 | T26: =S26+1 -> 207 | U26: =T26+1 -> 208 | V26: =U26+1 -> 209 | W26: =V26+1 -> 210 | X26: =W26+1 -> 211 | Y26: $ | Z26: =X26+1 -> 212 | AB26: =AI24+1 -> 297 | AC26: =AB26+1 -> 298 | AD26: =AC26+1 -> 299 | AE26: =AD26+1 -> 300 | AF26: =AE26+1 -> 301 | AG26: =AF26+1 -> 302 | AI26: =AG26+1 -> 303 | AK26: =AR24+1 -> 388 | AL26: =AK26+1 -> 389 | AM26: =AL26+1 -> 390 | AN26: =AM26+1 -> 391 | AO26: =AN26+1 -> 392 | AP26: =AO26+1 -> 393 | AQ26: $ | AR26: =AP26+1 -> 394
A27: =H25+1 -> 31 | AB27: =AI25+1 -> 31 | AK27: =AR25+1 -> 30 | AL27: =AK27+1 -> 31
A28: =H26+1 -> 31 | AB28: =AI26+1 -> 304 | AK28: =AR26+1 -> 395 | AL28: =AK28+1 -> 396
A30: Vacation Hours Used | E30: Vac. Hours Left | J30: Vacation Hours Used | N30: Vac. Hours Left | S30: Vacation Hours Used | W30: Vac. Hours Left | AB30: Vacation Hours Used | AF30: Vac. Hours Left | AK30: Vacation Hours Used | AO30: Vac. Hours Left
E31: =IF(OR($AE$4=0,$AE$4=""),"",IF((INT($AE$4*100+0.5)-INT(A31*100+0.5))/100=0,"0",(INT($AE$4*100+0.5)-INT(A31*100+0.5))/100)) | N31: =IF(OR($AE$4=0,$AE$4=""),"",IF((INT(E67*100+0.5)-INT(J31*100+0.5))/100=0,"0",(INT(E67*100+0.5)-INT(J31*100+0.5))/100)) | W31: =IF(OR($AE$4=0,$AE$4=""),"",IF((INT(N67*100+0.5)-INT(S31*100+0.5))/100=0,"0",(INT(N67*100+0.5)-INT(S31*100+0.5))/100)) | AF31: =IF(OR($AE$4=0,$AE$4=""),"",IF((INT(W67*100+0.5)-INT(AB31*100+0.5))/100=0,"0",(INT(W67*100+0.5)-INT(AB31*100+0.5))/100)) | AO31: =IF(OR($AE$4=0,$AE$4=""),"",IF((INT(AF67*100+0.5)-INT(AK31*100+0.5))/100=0,"0",(INT(AF67*100+0.5)-INT(AK31*100+0.5))/100))
A33: FEBRUARY | J33: MAY | S33: AUGUST | AB33: NOVEMBER | AK33: FEBRUARY
A34: SU | B34: MON | C34: TUE | D34: WED | E34: THU | F34: FRI | H34: SA | J34: SU | K34: MON | L34: TUE | M34: WED | N34: THU | O34: FRI | Q34: SA | S34: SU | T34: MON | U34: TUE | V34: WED | W34: THU | X34: FRI | Z34: SA | AB34: SU | AC34: MON | AD34: TUE | AE34: WED | AF34: THU | AG34: FRI | AI34: SA | AK34: SU | AL34: MON | AM34: TUE | AN34: WED | AO34: THU | AP34: FRI | AR34: SA
B35: 1 | C35: =B35+1 -> 2 | D35: =C35+1 -> 3 | E35: =D35+1 -> 4 | F35: =E35+1 -> 5 | H35: =F35+1 -> 6 | Q35: 1 | S35: 1 | T35: =S35+1 -> 2 | U35: =T35+1 -> 3 | V35: =U35+1 -> 4 | W35: =V35+1 -> 5 | X35: =W35+1 -> 6 | Z35: =X35+1 -> 7 | AC35: 1 | AD35: =AC35+1 -> 2 | AE35: =AD35+1 -> 3 | AF35: =AE35+1 -> 4 | AG35: =AF35+1 -> 5 | AI35: =AG35+1 -> 6 | AM35: 1 | AN35: =AM35+1 -> 2 | AO35: =AN35+1 -> 3 | AP35: =AO35+1 -> 4 | AR35: =AP35+1 -> 5
