Workbook
Name Vacation_Entitlement: 'Vacation Entitlement'!$A$3:$B$38

Sheet Logos

Sheet Instructions
B1: INSTRUCTIONS FOR THE CALENDAR
B3: Select any of the worksheets to the right of the "Instructions" tab at the bottom of the screen. If you don't see these worksheet tabs, then make sure this "Instruction" worksheet is maximized.
B5: Protection: The Holiday Schedule is completely unprotected. The lower portion of cells in the 12 Mo Calendar and individual month worksheets are unlocked for information to be entered. The upper portion of the cells are locked to preserve the date. Entire cells however can be coloured.
B7: Note: Some worksheets may be sized at 75% and as a result some detailed information in the worksheet cells may not be visible. You can fix this by changing the viewing size to 100%.
B9: Press the TAB or SHIFT+TAB keys to move to the next or previous fill cell respectively when in the worksheets. Note: the worksheet must be protected for this to work. Worksheets can be protected by selecting "TOOLS\PROTECTION\PROTECT SHEET" from the menu. See instructions below regarding unprotecting the worksheets.
B11: With the worksheets protected you can move quickly to new area of the worksheets using the MOUSE, then use TAB or SHIFT+TAB to move to the closest fill cell.
B13: On the "12 Mo Calendar" worksheet, the current year's vacation entitlement can be calculated automatically by entering the correct information in the yellow fields. Information can be entered in the lower half of the calendar cells. The top half of each cell is locked to preserve the date.
B15: The 12 Mo Calendar worksheet can be used to calculate vacation time remaining for full time regular employees based on information entered for initial vacation hours and vacation hours used.
B17: Example of Vacation Hours Used Calculation: If 4 days vacation were taken in a month and you work 7.52 hours per day, you could enter "=4*7.52" in the "Vacation Hours Used" cell to give 30.08 as the number of vacation hours used in that month.
B19: Dates should be entered as yyyy/mm/dd. If your Leave Service Date is 1990/06/15 for example then your "Current Year's Leave Service Anniversary Date" for year 2012 would be 2012/06/15. Leave Service Dates can be found on your leave balance information available through the employee self-serve site:
B20: https://timepay.gov.bc.ca/
B22: Multiple copies of the any of the worksheets can be created using the following procedure: Right click on the appropriate worksheet tab; Click on "Move or Copy …"; Select which worksheet you want the new worksheet to be placed to the left of; Check "Create a Copy"; and Click "OK". You may want to delete the individual monthly worksheets if you require space for other worksheets.
... B34: Printing is usually best at 600 dpi or higher.

Sheet Vacation Calculator
J1: Fill-in the yellow fields below to automatically calculate vacation hours allotted for current year | AC1: =#REF! -> #REF! | AG1: VACATION CALCULATOR FOR FULL TIME REGULAR EMPLOYEES
F3: Employee Name | U3: Home Phone | AF3: Contact | AQ3: Phone
F4: Employee Number | N4: Paylist | V4: Seniority Date | AF4: Other | AQ4: Phone
F5: Address
F8: Employee Leave Service Date (yyyy/mm/dd): | N8: 31443 | R8: Date-time Code Difference | W8: =IF(AND(N10="",N8=""),"",N10-N8) -> 5844 | AA8: Vacation Hours Carried Over from Previous Year | AH8: 18.4 | AL8: Number of 7 hr Days Holiday Allotted for Current Year | AU8: =IF(OR(W8<=0,W8=""),"",IF(ISBLANK(W10),"",VLOOKUP(W10,Vacation_Entitlement,2))) -> 28
A10: Current Year's Leave Service Anniversary Date (yyyy/mm/dd) (update annually): | N10: 37287 | R10: Years of Service for Holidays | W10: =IF(OR(W8<=0,W8=""),"",YEAR(W8)+1-1900) -> 16 | AA10: Vacation Hours Allotted for Current Year | AH10: =IF(AU8="","",AU8*7) -> 196 | AN10: Enter number of hours worked per day | AU10: 7.82
AA12: Total Number of Vacation Hours Available | AS12: =AU10 -> 7.82
AH13: =IF(AND(AH8="",AH10=""),"",AH8+IF(AH10="","0",AH10)) -> 214.4 | AT13: Hour Days Holiday Available | AU13: =IF(AU10="","",AH13/AU10) -> 27.41688
A15: LEAVE | AI15: SPECIAL LEAVE
A16: Date(s) | H16: Leave Form (Y/N) | K16: Hours of Leave | N16: Vac (V), STIIP (S), Special Leave (SL) | R16: STIIP Hours | U16: If STIIP - Top-up (Y/N) | X16: Vacation Hours Used | AA16: Vacation Hours Balance | AD16: Vacation Days Balance | AI16: REASON | AS16: Sec | AU16: Hours
R17: =IF(N17="S",K17,"") | X17: =IF(N17="V", K17, IF(AND(N17="S", U17="Y"),0.25*R17,"")) | AA17: =IF(AND($AH$13="",X17=""),"",IF(X17="",$AH$13,$AH$13-X17)) -> 214.4 | AD17: =IF(OR(AA17="", $AU$10=""),"",AA17/$AU$10) -> 27.41688 | AU17: =IF(N17="SL", K17, "")
R18: =IF(N18="S",K18,"") | X18: =IF(N18="V", K18, IF(AND(N18="S", U18="Y"),0.25*R18,"")) | AA18: =IF(AND(AA17="",X18=""),"",IF(X18="", AA17, AA17-X18)) -> 214.4 | AD18: =IF(OR(AA18="", $AU$10=""),"",AA18/$AU$10) -> 27.41688 | AU18: =IF(N18="SL", K18, "")
R19: =IF(N19="S",K19,"") | X19: =IF(N19="V", K19, IF(AND(N19="S", U19="Y"),0.25*R19,"")) | AA19: =IF(AND(AA18="",X19=""),"",IF(X19="", AA18, AA18-X19)) -> 214.4 | AD19: =IF(OR(AA19="", $AU$10=""),"",AA19/$AU$10) -> 27.41688 | AU19: =IF(N19="SL", K19, "")
R20: =IF(N20="S",K20,"") | X20: =IF(N20="V", K20, IF(AND(N20="S", U20="Y"),0.25*R20,"")) | AA20: =IF(AND(AA19="",X20=""),"",IF(X20="", AA19, AA19-X20)) -> 214.4 | AD20: =IF(OR(AA20="", $AU$10=""),"",AA20/$AU$10) -> 27.41688 | AU20: =IF(N20="SL", K20, "")
R21: =IF(N21="S",K21,"") | X21: =IF(N21="V", K21, IF(AND(N21="S", U21="Y"),0.25*R21,"")) | AA21: =IF(AND(AA20="",X21=""),"",IF(X21="", AA20, AA20-X21)) -> 214.4 | AD21: =IF(OR(AA21="", $AU$10=""),"",AA21/$AU$10) -> 27.41688 | AU21: =IF(N21="SL", K21, "")
R22: =IF(N22="S",K22,"") | X22: =IF(N22="V", K22, IF(AND(N22="S", U22="Y"),0.25*R22,"")) | AA22: =IF(AND(AA21="",X22=""),"",IF(X22="", AA21, AA21-X22)) -> 214.4 | AD22: =IF(OR(AA22="", $AU$10=""),"",AA22/$AU$10) -> 27.41688 | AU22: =IF(N22="SL", K22, "")
R23: =IF(N23="S",K23,"") | X23: =IF(N23="V", K23, IF(AND(N23="S", U23="Y"),0.25*R23,"")) | AA23: =IF(AND(AA22="",X23=""),"",IF(X23="", AA22, AA22-X23)) -> 214.4 | AD23: =IF(OR(AA23="", $AU$10=""),"",AA23/$AU$10) -> 27.41688 | AU23: =IF(N23="SL", K23, "")
R24: =IF(N24="S",K24,"") | X24: =IF(N24="V", K24, IF(AND(N24="S", U24="Y"),0.25*R24,"")) | AA24: =IF(AND(AA23="",X24=""),"",IF(X24="", AA23, AA23-X24)) -> 214.4 | AD24: =IF(OR(AA24="", $AU$10=""),"",AA24/$AU$10) -> 27.41688 | AU24: =IF(N24="SL", K24, "")
R25: =IF(N25="S",K25,"") | X25: =IF(N25="V", K25, IF(AND(N25="S", U25="Y"),0.25*R25,"")) | AA25: =IF(AND(AA24="",X25=""),"",IF(X25="", AA24, AA24-X25)) -> 214.4 | AD25: =IF(OR(AA25="", $AU$10=""),"",AA25/$AU$10) -> 27.41688 | AU25: =IF(N25="SL", K25, "")
R26: =IF(N26="S",K26,"") | X26: =IF(N26="V", K26, IF(AND(N26="S", U26="Y"),0.25*R26,"")) | AA26: =IF(AND(AA25="",X26=""),"",IF(X26="", AA25, AA25-X26)) -> 214.4 | AD26: =IF(OR(AA26="", $AU$10=""),"",AA26/$AU$10) -> 27.41688 | AU26: =IF(N26="SL", K26, "")
R27: =IF(N27="S",K27,"") | X27: =IF(N27="V", K27, IF(AND(N27="S", U27="Y"),0.25*R27,"")) | AA27: =IF(AND(AA26="",X27=""),"",IF(X27="", AA26, AA26-X27)) -> 214.4 | AD27: =IF(OR(AA27="", $AU$10=""),"",AA27/$AU$10) -> 27.41688 | AU27: =IF(N27="SL", K27, "")
R28: =IF(N28="S",K28,"") | X28: =IF(N28="V", K28, IF(AND(N28="S", U28="Y"),0.25*R28,"")) | AA28: =IF(AND(AA27="",X28=""),"",IF(X28="", AA27, AA27-X28)) -> 214.4 | AD28: =IF(OR(AA28="", $AU$10=""),"",AA28/$AU$10) -> 27.41688 | AU28: =IF(N28="SL", K28, "")
R29: =IF(N29="S",K29,"") | X29: =IF(N29="V", K29, IF(AND(N29="S", U29="Y"),0.25*R29,"")) | AA29: =IF(AND(AA28="",X29=""),"",IF(X29="", AA28, AA28-X29)) -> 214.4 | AD29: =IF(OR(AA29="", $AU$10=""),"",AA29/$AU$10) -> 27.41688 | AU29: =IF(N29="SL", K29, "")
... R35: =IF(N35="S",K35,"") | X35: =IF(N35="V", K35, IF(AND(N35="S", U35="Y"),0.25*R35,"")) | AA35: =IF(AND(AA34="",X35=""),"",IF(X35="", AA34, AA34-X35)) -> 214.4 | AD35: =IF(OR(AA35="", $AU$10=""),"",AA35/$AU$10) -> 27.41688 | AU35: =IF(N35="SL", K35, "")
R36: =IF(N36="S",K36,"") | X36: =IF(N36="V", K36, IF(AND(N36="S", U36="Y"),0.25*R36,"")) | AA36: =IF(AND(AA35="",X36=""),"",IF(X36="", AA35, AA35-X36)) -> 214.4 | AD36: =IF(OR(AA36="", $AU$10=""),"",AA36/$AU$10) -> 27.41688 | AI36: Total Hours | AU36: =SUM(AU17:AW35) -> 0

Sheet Master
U2: Vacation Hours Carried Over from Previous Year | Y2: Vacation Hours Allotted for Current Year | AE2: Total Number of Vacation Hours Available | AV2: Total Vacation Hours
AV3: =IF(AND($U$4="",$Y$4=""),"",$U$4+IF($Y$4="","0",$Y$4))
Y4: =IF(AG8="","",AG8*7) | AE4: =IF(AND(U4="",Y4=""),"",U4+IF(Y4="","0",Y4))
A6: Fill-in the three fields below to automatically calculate vacation hours allotted for current year | AF6: Date-time Code Difference | AG6: =O8-O7 -> 0
N7: Employee Leave Service Date (yyyy/mm/dd): | AF7: Years Service for Holidays | AG7: =IF(AG6<=0,"",YEAR(AG6)+1-1900)
N8: Current Year's Leave Service Anniversary Date(yyyy/mm/dd) (update annually): | AF8: Number of 7 hr Days Holiday Allotted for Current Year | AG8: =IF(AG6<=0,"",IF(ISBLANK(AG7),"",VLOOKUP(AG7,Vacation_Entitlement,2)))
N9: Enter number of hours worked per day | Y9: =IF(O9="","",O9) | AF9: Hour Days Holiday Available | AG9: =IF(O9="","",AE4/O9)
Q12: 2012 | U12: CALENDAR
A15: JANUARY | J15: FEBRUARY | S15: MARCH | AB15: APRIL | AK15: MAY
A16: SU | B16: MON | C16: TUE | D16: WED | E16: THU | F16: FRI | H16: SA | J16: SU | K16: MON | L16: TUE | M16: WED | N16: THU | O16: FRI | Q16: SA | S16: SU | T16: MON | U16: TUE | V16: WED | W16: THU | X16: FRI | Z16: SA | AB16: SU | AC16: MON | AD16: TUE | AE16: WED | AF16: THU | AG16: FRI | AI16: SA | AK16: SU | AL16: MON | AM16: TUE | AN16: WED | AO16: THU | AP16: FRI | AR16: SA
A17: 1 | B17: =A17+1 -> 2 | C17: =B17+1 -> 3 | D17: =C17+1 -> 4 | E17: =D17+1 -> 5 | F17: =E17+1 -> 6 | H17: =F17+1 -> 7 | M17: 1 | N17: =M17+1 -> 2 | O17: =N17+1 -> 3 | Q17: =O17+1 -> 4 | W17: 1 | X17: =W17+1 -> 2 | Z17: =X17+1 -> 3 | AB17: 1 | AC17: =AB17+1 -> 2 | AD17: =AC17+1 -> 3 | AE17: =AD17+1 -> 4 | AF17: =AE17+1 -> 5 | AG17: =AF17+1 -> 6 | AI17: =AG17+1 -> 7 | AM17: =AL17+1 -> 1 | AN17: =AM17+1 -> 2 | AO17: =AN17+1 -> 3 | AP17: =AO17+1 -> 4 | AR17: =AP17+1 -> 5
A18: =A17 -> 1 | B18: =A18+1 -> 2 | C18: =B18+1 -> 3 | D18: =C18+1 -> 4 | E18: =D18+1 -> 5 | F18: =E18+1 -> 6 | G18: $ | H18: =F18+1 -> 7 | M18: =C26+M17 -> 32 | N18: =M18+1 -> 33 | O18: =N18+1 -> 34 | P18: $ | Q18: =O18+1 -> 35 | W18: =M26+1 -> 61 | X18: =W18+1 -> 62 | Y18: $ | Z18: =X18+1 -> 63 | AB18: =Z26+1 -> 92 | AC18: =AB18+1 -> 93 | AD18: =AC18+1 -> 94 | AE18: =AD18+1 -> 95 | AF18: =AE18+1 -> 96 | AG18: =AF18+1 -> 97 | AI18: =AG18+1 -> 98 | AM18: =AC26+1 -> 122 | AN18: =AM18+1 -> 123 | AO18: =AN18+1 -> 124 | AP18: =AO18+1 -> 125 | AR18: =AP18+1 -> 126
A19: =H17+1 -> 8 | B19: =A19+1 -> 9 | C19: =B19+1 -> 10 | D19: =C19+1 -> 11 | E19: =D19+1 -> 12 | F19: =E19+1 -> 13 | H19: =F19+1 -> 14 | J19: =Q17+1 -> 5 | K19: =J19+1 -> 6 | L19: =K19+1 -> 7 | M19: =L19+1 -> 8 | N19: =M19+1 -> 9 | O19: =N19+1 -> 10 | Q19: =O19+1 -> 11 | S19: =Z17+1 -> 4 | T19: =S19+1 -> 5 | U19: =T19+1 -> 6 | V19: =U19+1 -> 7 | W19: =V19+1 -> 8 | X19: =W19+1 -> 9 | Z19: =X19+1 -> 10 | AB19: =AI17+1 -> 8 | AC19: =AB19+1 -> 9 | AD19: =AC19+1 -> 10 | AE19: =AD19+1 -> 11 | AF19: =AE19+1 -> 12 | AG19: =AF19+1 -> 13 | AI19: =AG19+1 -> 14 | AK19: =AR17+1 -> 6 | AL19: =AK19+1 -> 7 | AM19: =AL19+1 -> 8 | AN19: =AM19+1 -> 9 | AO19: =AN19+1 -> 10 | AP19: =AO19+1 -> 11 | AR19: =AP19+1 -> 12
A20: =H18+1 -> 8 | B20: =A20+1 -> 9 | C20: =B20+1 -> 10 | D20: =C20+1 -> 11 | E20: =D20+1 -> 12 | F20: =E20+1 -> 13 | H20: =F20+1 -> 14 | J20: =Q18+1 -> 36 | K20: =J20+1 -> 37 | L20: =K20+1 -> 38 | M20: =L20+1 -> 39 | N20: =M20+1 -> 40 | O20: =N20+1 -> 41 | Q20: =O20+1 -> 42 | S20: =Z18+1 -> 64 | T20: =S20+1 -> 65 | U20: =T20+1 -> 66 | V20: =U20+1 -> 67 | W20: =V20+1 -> 68 | X20: =W20+1 -> 69 | Z20: =X20+1 -> 70 | AB20: =AI18+1 -> 99 | AC20: =AB20+1 -> 100 | AD20: =AC20+1 -> 101 | AE20: =AD20+1 -> 102 | AF20: =AE20+1 -> 103 | AG20: =AF20+1 -> 104 | AH20: $ | AI20: =AG20+1 -> 105 | AK20: =AR18+1 -> 127 | AL20: =AK20+1 -> 128 | AM20: =AL20+1 -> 129 | AN20: =AM20+1 -> 130 | AO20: =AN20+1 -> 131 | AP20: =AO20+1 -> 132 | AQ20: $ | AR20: =AP20+1 -> 133
A21: =H19+1 -> 15 | B21: =A21+1 -> 16 | C21: =B21+1 -> 17 | D21: =C21+1 -> 18 | E21: =D21+1 -> 19 | F21: =E21+1 -> 20 | H21: =F21+1 -> 21 | J21: =Q19+1 -> 12 | K21: =J21+1 -> 13 | L21: =K21+1 -> 14 | M21: =L21+1 -> 15 | N21: =M21+1 -> 16 | O21: =N21+1 -> 17 | Q21: =O21+1 -> 18 | S21: =Z19+1 -> 11 | T21: =S21+1 -> 12 | U21: =T21+1 -> 13 | V21: =U21+1 -> 14 | W21: =V21+1 -> 15 | X21: =W21+1 -> 16 | Z21: =X21+1 -> 17 | AB21: =AI19+1 -> 15 | AC21: =AB21+1 -> 16 | AD21: =AC21+1 -> 17 | AE21: =AD21+1 -> 18 | AF21: =AE21+1 -> 19 | AG21: =AF21+1 -> 20 | AI21: =AG21+1 -> 21 | AK21: =AR19+1 -> 13 | AL21: =AK21+1 -> 14 | AM21: =AL21+1 -> 15 | AN21: =AM21+1 -> 16 | AO21: =AN21+1 -> 17 | AP21: =AO21+1 -> 18 | AR21: =AP21+1 -> 19
A22: =H20+1 -> 15 | B22: =A22+1 -> 16 | C22: =B22+1 -> 17 | D22: =C22+1 -> 18 | E22: =D22+1 -> 19 | F22: =E22+1 -> 20 | G22: $ | H22: =F22+1 -> 21 | J22: =Q20+1 -> 43 | K22: =J22+1 -> 44 | L22: =K22+1 -> 45 | M22: =L22+1 -> 46 | N22: =M22+1 -> 47 | O22: =N22+1 -> 48 | P22: $ | Q22: =O22+1 -> 49 | S22: =Z20+1 -> 71 | T22: =S22+1 -> 72 | U22: =T22+1 -> 73 | V22: =U22+1 -> 74 | W22: =V22+1 -> 75 | X22: =W22+1 -> 76 | Y22: $ | Z22: =X22+1 -> 77 | AB22: =AI20+1 -> 106 | AC22: =AB22+1 -> 107 | AD22: =AC22+1 -> 108 | AE22: =AD22+1 -> 109 | AF22: =AE22+1 -> 110 | AG22: =AF22+1 -> 111 | AI22: =AG22+1 -> 112 | AK22: =AR20+1 -> 134 | AL22: =AK22+1 -> 135 | AM22: =AL22+1 -> 136 | AN22: =AM22+1 -> 137 | AO22: =AN22+1 -> 138 | AP22: =AO22+1 -> 139 | AR22: =AP22+1 -> 140
A23: =H21+1 -> 22 | B23: =A23+1 -> 23 | C23: =B23+1 -> 24 | D23: =C23+1 -> 25 | E23: =D23+1 -> 26 | F23: =E23+1 -> 27 | H23: =F23+1 -> 28 | J23: =Q21+1 -> 19 | K23: =J23+1 -> 20 | L23: =K23+1 -> 21 | M23: =L23+1 -> 22 | N23: =M23+1 -> 23 | O23: =N23+1 -> 24 | Q23: =O23+1 -> 25 | S23: =Z21+1 -> 18 | T23: =S23+1 -> 19 | U23: =T23+1 -> 20 | V23: =U23+1 -> 21 | W23: =V23+1 -> 22 | X23: =W23+1 -> 23 | Z23: =X23+1 -> 24 | AB23: =AI21+1 -> 22 | AC23: =AB23+1 -> 23 | AD23: =AC23+1 -> 24 | AE23: =AD23+1 -> 25 | AF23: =AE23+1 -> 26 | AG23: =AF23+1 -> 27 | AI23: =AG23+1 -> 28 | AK23: =AR21+1 -> 20 | AL23: =AK23+1 -> 21 | AM23: =AL23+1 -> 22 | AN23: =AM23+1 -> 23 | AO23: =AN23+1 -> 24 | AP23: =AO23+1 -> 25 | AR23: =AP23+1 -> 26
A24: =H22+1 -> 22 | B24: =A24+1 -> 23 | C24: =B24+1 -> 24 | D24: =C24+1 -> 25 | E24: =D24+1 -> 26 | F24: =E24+1 -> 27 | H24: =F24+1 -> 28 | J24: =Q22+1 -> 50 | K24: =J24+1 -> 51 | L24: =K24+1 -> 52 | M24: =L24+1 -> 53 | N24: =M24+1 -> 54 | O24: =N24+1 -> 55 | Q24: =O24+1 -> 56 | S24: =Z22+1 -> 78 | T24: =S24+1 -> 79 | U24: =T24+1 -> 80 | V24: =U24+1 -> 81 | W24: =V24+1 -> 82 | X24: =W24+1 -> 83 | Z24: =X24+1 -> 84 | AB24: =AI22+1 -> 113 | AC24: =AB24+1 -> 114 | AD24: =AC24+1 -> 115 | AE24: =AD24+1 -> 116 | AF24: =AE24+1 -> 117 | AG24: =AF24+1 -> 118 | AH24: $ | AI24: =AG24+1 -> 119 | AK24: =AR22+1 -> 141 | AL24: =AK24+1 -> 142 | AM24: =AL24+1 -> 143 | AN24: =AM24+1 -> 144 | AO24: =AN24+1 -> 145 | AP24: =AO24+1 -> 146 | AQ24: $ | AR24: =AP24+1 -> 147
A25: =H23+1 -> 29 | B25: =A25+1 -> 30 | C25: =B25+1 -> 31 | J25: =Q23+1 -> 26 | K25: =J25+1 -> 27 | L25: =K25+1 -> 28 | M25: =L25+1 -> 29 | S25: =Z23+1 -> 25 | T25: =S25+1 -> 26 | U25: =T25+1 -> 27 | V25: =U25+1 -> 28 | W25: =V25+1 -> 29 | X25: =W25+1 -> 30 | Z25: =X25+1 -> 31 | AB25: =AI23+1 -> 29 | AC25: =AB25+1 -> 30 | AK25: =AR23+1 -> 27 | AL25: =AK25+1 -> 28 | AM25: =AL25+1 -> 29 | AN25: =AM25+1 -> 30 | AO25: =AN25+1 -> 31
A26: =H24+1 -> 29 | B26: =A26+1 -> 30 | C26: =B26+1 -> 31 | J26: =Q24+1 -> 57 | K26: =J26+1 -> 58 | L26: =K26+1 -> 59 | M26: =L26+1 -> 60 | S26: =Z24+1 -> 85 | T26: =S26+1 -> 86 | U26: =T26+1 -> 87 | V26: =U26+1 -> 88 | W26: =V26+1 -> 89 | X26: =W26+1 -> 90 | Y26: $ | Z26: =X26+1 -> 91 | AB26: =AI24+1 -> 120 | AC26: =AB26+1 -> 121 | AK26: =AR24+1 -> 148 | AL26: =AK26+1 -> 149 | AM26: =AL26+1 -> 150 | AN26: =AM26+1 -> 151 | AO26: =AN26+1 -> 152
A30: Vacation Hours Used | E30: Vac. Hours Left | J30: Vacation Hours Used | N30: Vac. Hours Left | S30: Vacation Hours Used | W30: Vac. Hours Left | AB30: Vacation Hours Used | AF30: Vac. Hours Left | AK30: Vacation Hours Used | AO30: Vac. Hours Left
E31: =IF(OR($AE$4=0,$AE$4=""),"",IF((INT($AE$4*100+0.5)-INT(A31*100+0.5))/100=0,"0",(INT($AE$4*100+0.5)-INT(A31*100+0.5))/100)) | N31: =IF(OR($AE$4=0,$AE$4=""),"",IF((INT(N13*100+0.5)-INT(J31*100+0.5))/100=0,"0",(INT(E31*100+0.5)-INT(J31*100+0.5))/100)) | W31: =IF(OR($AE$4=0,$AE$4=""),"",IF((INT(W13*100+0.5)-INT(S31*100+0.5))/100=0,"0",(INT(N31*100+0.5)-INT(S31*100+0.5))/100)) | AF31: =IF(OR($AE$4=0,$AE$4=""),"",IF((INT(AF13*100+0.5)-INT(AB31*100+0.5))/100=0,"0",(INT(W31*100+0.5)-INT(AB31*100+0.5))/100)) | AO31: =IF(OR($AE$4=0,$AE$4=""),"",IF((INT(AO13*100+0.5)-INT(AK31*100+0.5))/100=0,"0",(INT(AF31*100+0.5)-INT(AK31*100+0.5))/100))
A33: JUNE | J33: JULY | S33: AUGUST | AB33: SEPTEMBER | AK33: OCTOBER
A34: SU | B34: MON | C34: TUE | D34: WED | E34: THU | F34: FRI | H34: SA | J34: SU | K34: MON | L34: TUE | M34: WED | N34: THU | O34: FRI | Q34: SA | S34: SU | T34: MON | U34: TUE | V34: WED | W34: THU | X34: FRI | Z34: SA | AB34: SU | AC34: MON | AD34: TUE | AE34: WED | AF34: THU | AG34: FRI | AI34: SA | AK34: SU | AL34: MON | AM34: TUE | AN34: WED | AO34: THU | AP34: FRI | AR34: SA
F35: =E35+1 -> 1 | H35: =F35+1 -> 2 | J35: 1 | K35: =J35+1 -> 2 | L35: =K35+1 -> 3 | M35: =L35+1 -> 4 | N35: =M35+1 -> 5 | O35: =N35+1 -> 6 | Q35: =O35+1 -> 7 | V35: 1 | W35: =V35+1 -> 2 | X35: =W35+1 -> 3 | Z35: =X35+1 -> 4 | AI35: =AG35+1 -> 1 | AL35: 1 | AM35: =AL35+1 -> 2 | AN35: =AM35+1 -> 3 | AO35: =AN35+1 -> 4 | AP35: =AO35+1 -> 5 | AR35: =AP35+1 -> 6
F36: =AO26+1 -> 153 | H36: =F36+1 -> 154 | J36: =H44+1 -> 183 | K36: =J36+1 -> 184 | L36: =K36+1 -> 185 | M36: =L36+1 -> 186 | N36: =M36+1 -> 187 | O36: =N36+1 -> 188 | P36: $ | Q36: =O36+1 -> 189 | V36: =L44+1 -> 214 | W36: =V36+1 -> 215 | X36: =W36+1 -> 216 | Y36: $ | Z36: =X36+1 -> 217 | AI36: =X44+1 -> 245 | AL36: =AB46+1 -> 275 | AM36: =AL36+1 -> 276 | AN36: =AM36+1 -> 277 | AO36: =AN36+1 -> 278 | AP36: =AO36+1 -> 279 | AR36: =AP36+1 -> 280
A37: =H35+1 -> 3 | B37: =A37+1 -> 4 | C37: =B37+1 -> 5 | D37: =C37+1 -> 6 | E37: =D37+1 -> 7 | F37: =E37+1 -> 8 | H37: =F37+1 -> 9 | J37: =Q35+1 -> 8 | K37: =J37+1 -> 9 | L37: =K37+1 -> 10 | M37: =L37+1 -> 11 | N37: =M37+1 -> 12 | O37: =N37+1 -> 13 | Q37: =O37+1 -> 14 | S37: =Z35+1 -> 5 | T37: =S37+1 -> 6 | U37: =T37+1 -> 7 | V37: =U37+1 -> 8 | W37: =V37+1 -> 9 | X37: =W37+1 -> 10 | Z37: =X37+1 -> 11 | AB37: =AI35+1 -> 2 | AC37: =AB37+1 -> 3 | AD37: =AC37+1 -> 4 | AE37: =AD37+1 -> 5 | AF37: =AE37+1 -> 6 | AG37: =AF37+1 -> 7 | AI37: =AG37+1 -> 8 | AK37: =AR35+1 -> 7 | AL37: =AK37+1 -> 8 | AM37: =AL37+1 -> 9 | AN37: =AM37+1 -> 10 | AO37: =AN37+1 -> 11 | AP37: =AO37+1 -> 12 | AR37: =AP37+1 -> 13
A38: =H36+1 -> 155 | B38: =A38+1 -> 156 | C38: =B38+1 -> 157 | D38: =C38+1 -> 158 | E38: =D38+1 -> 159 | F38: =E38+1 -> 160 | G38: $ | H38: =F38+1 -> 161 | J38: =Q36+1 -> 190 | K38: =J38+1 -> 191 | L38: =K38+1 -> 192 | M38: =L38+1 -> 193 | N38: =M38+1 -> 194 | O38: =N38+1 -> 195 | Q38: =O38+1 -> 196 | S38: =Z36+1 -> 218 | T38: =S38+1 -> 219 | U38: =T38+1 -> 220 | V38: =U38+1 -> 221 | W38: =V38+1 -> 222 | X38: =W38+1 -> 223 | Z38: =X38+1 -> 224 | AB38: =AI36+1 -> 246 | AC38: =AB38+1 -> 247 | AD38: =AC38+1 -> 248 | AE38: =AD38+1 -> 249 | AF38: =AE38+1 -> 250 | AG38: =AF38+1 -> 251 | AI38: =AG38+1 -> 252 | AK38: =AR36+1 -> 281 | AL38: =AK38+1 -> 282 | AM38: =AL38+1 -> 283 | AN38: =AM38+1 -> 284 | AO38: =AN38+1 -> 285 | AP38: =AO38+1 -> 286 | AQ38: $ | AR38: =AP38+1 -> 287
A39: =H37+1 -> 10 | B39: =A39+1 -> 11 | C39: =B39+1 -> 12 | D39: =C39+1 -> 13 | E39: =D39+1 -> 14 | F39: =E39+1 -> 15 | H39: =F39+1 -> 16 | J39: =Q37+1 -> 15 | K39: =J39+1 -> 16 | L39: =K39+1 -> 17 | M39: =L39+1 -> 18 | N39: =M39+1 -> 19 | O39: =N39+1 -> 20 | Q39: =O39+1 -> 21 | S39: =Z37+1 -> 12 | T39: =S39+1 -> 13 | U39: =T39+1 -> 14 | V39: =U39+1 -> 15 | W39: =V39+1 -> 16 | X39: =W39+1 -> 17 | Z39: =X39+1 -> 18 | AB39: =AI37+1 -> 9 | AC39: =AB39+1 -> 10 | AD39: =AC39+1 -> 11 | AE39: =AD39+1 -> 12 | AF39: =AE39+1 -> 13 | AG39: =AF39+1 -> 14 | AI39: =AG39+1 -> 15 | AK39: =AR37+1 -> 14 | AL39: =AK39+1 -> 15 | AM39: =AL39+1 -> 16 | AN39: =AM39+1 -> 17 | AO39: =AN39+1 -> 18 | AP39: =AO39+1 -> 19 | AR39: =AP39+1 -> 20
A40: =H38+1 -> 162 | B40: =A40+1 -> 163 | C40: =B40+1 -> 164 | D40: =C40+1 -> 165 | E40: =D40+1 -> 166 | F40: =E40+1 -> 167 | H40: =F40+1 -> 168 | J40: =Q38+1 -> 197 | K40: =J40+1 -> 198 | L40: =K40+1 -> 199 | M40: =L40+1 -> 200 | N40: =M40+1 -> 201 | O40: =N40+1 -> 202 | P40: $ | Q40: =O40+1 -> 203 | S40: =Z38+1 -> 225 | T40: =S40+1 -> 226 | U40: =T40+1 -> 227 | V40: =U40+1 -> 228 | W40: =V40+1 -> 229 | X40: =W40+1 -> 230 | Y40: $ | Z40: =X40+1 -> 231 | AB40: =AI38+1 -> 253 | AC40: =AB40+1 -> 254 | AD40: =AC40+1 -> 255 | AE40: =AD40+1 -> 256 | AF40: =AE40+1 -> 257 | AG40: =AF40+1 -> 258 | AH40: $ | AI40: =AG40+1 -> 259 | AK40: =AR38+1 -> 288 | AL40: =AK40+1 -> 289 | AM40: =AL40+1 -> 290 | AN40: =AM40+1 -> 291 | AO40: =AN40+1 -> 292 | AP40: =AO40+1 -> 293 | AR40: =AP40+1 -> 294
A41: =H39+1 -> 17 | B41: =A41+1 -> 18 | C41: =B41+1 -> 19 | D41: =C41+1 -> 20 | E41: =D41+1 -> 21 | F41: =E41+1 -> 22 | H41: =F41+1 -> 23 | J41: =Q39+1 -> 22 | K41: =J41+1 -> 23 | L41: =K41+1 -> 24 | M41: =L41+1 -> 25 | N41: =M41+1 -> 26 | O41: =N41+1 -> 27 | Q41: =O41+1 -> 28 | S41: =Z39+1 -> 19 | T41: =S41+1 -> 20 | U41: =T41+1 -> 21 | V41: =U41+1 -> 22 | W41: =V41+1 -> 23 | X41: =W41+1 -> 24 | Z41: =X41+1 -> 25 | AB41: =AI39+1 -> 16 | AC41: =AB41+1 -> 17 | AD41: =AC41+1 -> 18 | AE41: =AD41+1 -> 19 | AF41: =AE41+1 -> 20 | AG41: =AF41+1 -> 21 | AI41: =AG41+1 -> 22 | AK41: =AR39+1 -> 21 | AL41: =AK41+1 -> 22 | AM41: =AL41+1 -> 23 | AN41: =AM41+1 -> 24 | AO41: =AN41+1 -> 25 | AP41: =AO41+1 -> 26 | AR41: =AP41+1 -> 27
A42: =H40+1 -> 169 | B42: =A42+1 -> 170 | C42: =B42+1 -> 171 | D42: =C42+1 -> 172 | E42: =D42+1 -> 173 | F42: =E42+1 -> 174 | G42: $ | H42: =F42+1 -> 175 | J42: =Q40+1 -> 204 | K42: =J42+1 -> 205 | L42: =K42+1 -> 206 | M42: =L42+1 -> 207 | N42: =M42+1 -> 208 | O42: =N42+1 -> 209 | Q42: =O42+1 -> 210 | S42: =Z40+1 -> 232 | T42: =S42+1 -> 233 | U42: =T42+1 -> 234 | V42: =U42+1 -> 235 | W42: =V42+1 -> 236 | X42: =W42+1 -> 237 | Z42: =X42+1 -> 238 | AB42: =AI40+1 -> 260 | AC42: =AB42+1 -> 261 | AD42: =AC42+1 -> 262 | AE42: =AD42+1 -> 263 | AF42: =AE42+1 -> 264 | AG42: =AF42+1 -> 265 | AI42: =AG42+1 -> 266 | AK42: =AR40+1 -> 295 | AL42: =AK42+1 -> 296 | AM42: =AL42+1 -> 297 | AN42: =AM42+1 -> 298 | AO42: =AN42+1 -> 299 | AP42: =AO42+1 -> 300 | AQ42: $ | AR42: =AP42+1 -> 301
A43: =H41+1 -> 24 | B43: =A43+1 -> 25 | C43: =B43+1 -> 26 | D43: =C43+1 -> 27 | E43: =D43+1 -> 28 | F43: =E43+1 -> 29 | H43: =F43+1 -> 30 | J43: =Q41+1 -> 29 | K43: =J43+1 -> 30 | L43: =K43+1 -> 31 | S43: =Z41+1 -> 26 | T43: =S43+1 -> 27 | U43: =T43+1 -> 28 | V43: =U43+1 -> 29 | W43: =V43+1 -> 30 | X43: =W43+1 -> 31 | AB43: =AI41+1 -> 23 | AC43: =AB43+1 -> 24 | AD43: =AC43+1 -> 25 | AE43: =AD43+1 -> 26 | AF43: =AE43+1 -> 27 | AG43: =AF43+1 -> 28 | AI43: =AG43+1 -> 29 | AK43: =AR41+1 -> 28 | AL43: =AK43+1 -> 29 | AM43: =AL43+1 -> 30 | AN43: =AM43+1 -> 31
A44: =H42+1 -> 176 | B44: =A44+1 -> 177 | C44: =B44+1 -> 178 | D44: =C44+1 -> 179 | E44: =D44+1 -> 180 | F44: =E44+1 -> 181 | H44: =F44+1 -> 182 | J44: =Q42+1 -> 211 | K44: =J44+1 -> 212 | L44: =K44+1 -> 213 | S44: =Z42+1 -> 239 | T44: =S44+1 -> 240 | U44: =T44+1 -> 241 | V44: =U44+1 -> 242 | W44: =V44+1 -> 243 | X44: =W44+1 -> 244 | Y44: $ | AB44: =AI42+1 -> 267 | AC44: =AB44+1 -> 268 | AD44: =AC44+1 -> 269 | AE44: =AD44+1 -> 270 | AF44: =AE44+1 -> 271 | AG44: =AF44+1 -> 272 | AH44: $ | AI44: =AG44+1 -> 273 | AK44: =AR42+1 -> 302 | AL44: =AK44+1 -> 303 | AM44: =AL44+1 -> 304 | AN44: =AM44+1 -> 305
AB45: =AI43+1 -> 30
AB46: =AI44+1 -> 274
A48: Vacation Hours Used | E48: Vac. Hours Left | J48: Vacation Hours Used | N48: Vac. Hours Left | S48: Vacation Hours Used | W48: Vac. Hours Left | AB48: Vacation Hours Used | AF48: Vac. Hours Left | AK48: Vacation Hours Used | AO48: Vac. Hours Left
E49: =IF(OR($AE$4=0,$AE$4=""),"",IF((INT(E31*100+0.5)-INT(A49*100+0.5))/100=0,"0",(INT(AO31*100+0.5)-INT(A49*100+0.5))/100)) | N49: =IF(OR($AE$4=0,$AE$4=""),"",IF((INT(E85*100+0.5)-INT(J49*100+0.5))/100=0,"0",(INT(E49*100+0.5)-INT(J49*100+0.5))/100)) | W49: =IF(OR($AE$4=0,$AE$4=""),"",IF((INT(N85*100+0.5)-INT(S49*100+0.5))/100=0,"0",(INT(N49*100+0.5)-INT(S49*100+0.5))/100)) | AF49: =IF(OR($AE$4=0,$AE$4=""),"",IF((INT(W85*100+0.5)-INT(AB49*100+0.5))/100=0,"0",(INT(W49*100+0.5)-INT(AB49*100+0.5))/100)) | AO49: =IF(OR($AE$4=0,$AE$4=""),"",IF((INT(AF85*100+0.5)-INT(AK49*100+0.5))/100=0,"0",(INT(AF49*100+0.5)-INT(AK49*100+0.5))/100))
A51: NOVEMBER | J51: DECEMBER | S51: January | W51: =Q12+1 -> 2013 | AB51: February | AF51: =Q12+1 -> 2013 | AK51: March | AO51: =Q12+1 -> 2013
A52: SU | B52: MON | C52: TUE | D52: WED | E52: THU | F52: FRI | H52: SA | J52: SU | K52: MON | L52: TUE | M52: WED | N52: THU | O52: FRI | Q52: SA | S52: SU | T52: MON | U52: TUE | V52: WED | W52: THU | X52: FRI | Z52: SA | AB52: SU | AC52: MON | AD52: TUE | AE52: WED | AF52: THU | AG52: FRI | AI52: SA | AK52: SU | AL52: MON | AM52: TUE | AN52: WED | AO52: THU | AP52: FRI | AR52: SA
E53: 1 | F53: =E53+1 -> 2 | H53: =F53+1 -> 3 | Q53: 1 | U53: =T53+1 -> 1 | V53: =U53+1 -> 2 | W53: =V53+1 -> 3 | X53: =W53+1 -> 4 | Z53: =X53+1 -> 5 | AG53: 1 | AI53: =AG53+1 -> 2 | AP53: 1 | AR53: =AP53+1 -> 2
E54: =AN44+1 -> 306 | F54: =E54+1 -> 307 | H54: =F54+1 -> 308 | Q54: =F62+1 -> 336 | U54: =K64+1 -> 367 | V54: =U54+1 -> 368 | W54: =V54+1 -> 369 | X54: =W54+1 -> 370 | Y54: $ | Z54: =X54+1 -> 371 | AG54: =W62+1 -> 398 | AH54: $ | AI54: =AG54+1 -> 399 | AP54: =AF62+1 -> 426 | AQ54: $ | AR54: =AP54+1 -> 427
A55: =H53+1 -> 4 | B55: =A55+1 -> 5 | C55: =B55+1 -> 6 | D55: =C55+1 -> 7 | E55: =D55+1 -> 8 | F55: =E55+1 -> 9 | H55: =F55+1 -> 10 | J55: =Q53+1 -> 2 | K55: =J55+1 -> 3 | L55: =K55+1 -> 4 | M55: =L55+1 -> 5 | N55: =M55+1 -> 6 | O55: =N55+1 -> 7 | Q55: =O55+1 -> 8 | S55: =Z53+1 -> 6 | T55: =S55+1 -> 7 | U55: =T55+1 -> 8 | V55: =U55+1 -> 9 | W55: =V55+1 -> 10 | X55: =W55+1 -> 11 | Z55: =X55+1 -> 12 | AB55: =AI53+1 -> 3 | AC55: =AB55+1 -> 4 | AD55: =AC55+1 -> 5 | AE55: =AD55+1 -> 6 | AF55: =AE55+1 -> 7 | AG55: =AF55+1 -> 8 | AI55: =AG55+1 -> 9 | AK55: =AR53+1 -> 3 | AL55: =AK55+1 -> 4 | AM55: =AL55+1 -> 5 | AN55: =AM55+1 -> 6 | AO55: =AN55+1 -> 7 | AP55: =AO55+1 -> 8 | AR55: =AP55+1 -> 9
A56: =H54+1 -> 309 | B56: =A56+1 -> 310 | C56: =B56+1 -> 311 | D56: =C56+1 -> 312 | E56: =D56+1 -> 313 | F56: =E56+1 -> 314 | G56: $ | H56: =F56+1 -> 315 | J56: =Q54+1 -> 337 | K56: =J56+1 -> 338 | L56: =K56+1 -> 339 | M56: =L56+1 -> 340 | N56: =M56+1 -> 341 | O56: =N56+1 -> 342 | P56: $ | Q56: =O56+1 -> 343 | S56: =Z54+1 -> 372 | T56: =S56+1 -> 373 | U56: =T56+1 -> 374 | V56: =U56+1 -> 375 | W56: =V56+1 -> 376 | X56: =W56+1 -> 377 | Z56: =X56+1 -> 378 | AB56: =AI54+1 -> 400 | AC56: =AB56+1 -> 401 | AD56: =AC56+1 -> 402 | AE56: =AD56+1 -> 403 | AF56: =AE56+1 -> 404 | AG56: =AF56+1 -> 405 | AI56: =AG56+1 -> 406 | AK56: =AR54+1 -> 428 | AL56: =AK56+1 -> 429 | AM56: =AL56+1 -> 430 | AN56: =AM56+1 -> 431 | AO56: =AN56+1 -> 432 | AP56: =AO56+1 -> 433 | AR56: =AP56+1 -> 434
A57: =H55+1 -> 11 | B57: =A57+1 -> 12 | C57: =B57+1 -> 13 | D57: =C57+1 -> 14 | E57: =D57+1 -> 15 | F57: =E57+1 -> 16 | H57: =F57+1 -> 17 | J57: =Q55+1 -> 9 | K57: =J57+1 -> 10 | L57: =K57+1 -> 11 | M57: =L57+1 -> 12 | N57: =M57+1 -> 13 | O57: =N57+1 -> 14 | Q57: =O57+1 -> 15 | S57: =Z55+1 -> 13 | T57: =S57+1 -> 14 | U57: =T57+1 -> 15 | V57: =U57+1 -> 16 | W57: =V57+1 -> 17 | X57: =W57+1 -> 18 | Z57: =X57+1 -> 19 | AB57: =AI55+1 -> 10 | AC57: =AB57+1 -> 11 | AD57: =AC57+1 -> 12 | AE57: =AD57+1 -> 13 | AF57: =AE57+1 -> 14 | AG57: =AF57+1 -> 15 | AI57: =AG57+1 -> 16 | AK57: =AR55+1 -> 10 | AL57: =AK57+1 -> 11 | AM57: =AL57+1 -> 12 | AN57: =AM57+1 -> 13 | AO57: =AN57+1 -> 14 | AP57: =AO57+1 -> 15 | AR57: =AP57+1 -> 16
A58: =H56+1 -> 316 | B58: =A58+1 -> 317 | C58: =B58+1 -> 318 | D58: =C58+1 -> 319 | E58: =D58+1 -> 320 | F58: =E58+1 -> 321 | H58: =F58+1 -> 322 | J58: =Q56+1 -> 344 | K58: =J58+1 -> 345 | L58: =K58+1 -> 346 | M58: =L58+1 -> 347 | N58: =M58+1 -> 348 | O58: =N58+1 -> 349 | Q58: =O58+1 -> 350 | S58: =Z56+1 -> 379 | T58: =S58+1 -> 380 | U58: =T58+1 -> 381 | V58: =U58+1 -> 382 | W58: =V58+1 -> 383 | X58: =W58+1 -> 384 | Y58: $ | Z58: =X58+1 -> 385 | AB58: =AI56+1 -> 407 | AC58: =AB58+1 -> 408 | AD58: =AC58+1 -> 409 | AE58: =AD58+1 -> 410 | AF58: =AE58+1 -> 411 | AG58: =AF58+1 -> 412 | AH58: $ | AI58: =AG58+1 -> 413 | AK58: =AR56+1 -> 435 | AL58: =AK58+1 -> 436 | AM58: =AL58+1 -> 437 | AN58: =AM58+1 -> 438 | AO58: =AN58+1 -> 439 | AP58: =AO58+1 -> 440 | AQ58: $ | AR58: =AP58+1 -> 441
A59: =H57+1 -> 18 | B59: =A59+1 -> 19 | C59: =B59+1 -> 20 | D59: =C59+1 -> 21 | E59: =D59+1 -> 22 | F59: =E59+1 -> 23 | H59: =F59+1 -> 24 | J59: =Q57+1 -> 16 | K59: =J59+1 -> 17 | L59: =K59+1 -> 18 | M59: =L59+1 -> 19 | N59: =M59+1 -> 20 | O59: =N59+1 -> 21 | Q59: =O59+1 -> 22 | S59: =Z57+1 -> 20 | T59: =S59+1 -> 21 | U59: =T59+1 -> 22 | V59: =U59+1 -> 23 | W59: =V59+1 -> 24 | X59: =W59+1 -> 25 | Z59: =X59+1 -> 26 | AB59: =AI57+1 -> 17 | AC59: =AB59+1 -> 18 | AD59: =AC59+1 -> 19 | AE59: =AD59+1 -> 20 | AF59: =AE59+1 -> 21 | AG59: =AF59+1 -> 22 | AI59: =AG59+1 -> 23 | AK59: =AR57+1 -> 17 | AL59: =AK59+1 -> 18 | AM59: =AL59+1 -> 19 | AN59: =AM59+1 -> 20 | AO59: =AN59+1 -> 21 | AP59: =AO59+1 -> 22 | AR59: =AP59+1 -> 23
A60: =H58+1 -> 323 | B60: =A60+1 -> 324 | C60: =B60+1 -> 325 | D60: =C60+1 -> 326 | E60: =D60+1 -> 327 | F60: =E60+1 -> 328 | G60: $ | H60: =F60+1 -> 329 | J60: =Q58+1 -> 351 | K60: =J60+1 -> 352 | L60: =K60+1 -> 353 | M60: =L60+1 -> 354 | N60: =M60+1 -> 355 | O60: =N60+1 -> 356 | P60: $ | Q60: =O60+1 -> 357 | S60: =Z58+1 -> 386 | T60: =S60+1 -> 387 | U60: =T60+1 -> 388 | V60: =U60+1 -> 389 | W60: =V60+1 -> 390 | X60: =W60+1 -> 391 | Z60: =X60+1 -> 392 | AB60: =AI58+1 -> 414 | AC60: =AB60+1 -> 415 | AD60: =AC60+1 -> 416 | AE60: =AD60+1 -> 417 | AF60: =AE60+1 -> 418 | AG60: =AF60+1 -> 419 | AI60: =AG60+1 -> 420 | AK60: =AR58+1 -> 442 | AL60: =AK60+1 -> 443 | AM60: =AL60+1 -> 444 | AN60: =AM60+1 -> 445 | AO60: =AN60+1 -> 446 | AP60: =AO60+1 -> 447 | AR60: =AP60+1 -> 448
A61: =H59+1 -> 25 | B61: =A61+1 -> 26 | C61: =B61+1 -> 27 | D61: =C61+1 -> 28 | E61: =D61+1 -> 29 | F61: =E61+1 -> 30 | J61: =Q59+1 -> 23 | K61: =J61+1 -> 24 | L61: =K61+1 -> 25 | M61: =L61+1 -> 26 | N61: =M61+1 -> 27 | O61: =N61+1 -> 28 | Q61: =O61+1 -> 29 | S61: =Z59+1 -> 27 | T61: =S61+1 -> 28 | U61: =T61+1 -> 29 | V61: =U61+1 -> 30 | W61: =V61+1 -> 31 | AB61: =AI59+1 -> 24 | AC61: =AB61+1 -> 25 | AD61: =AC61+1 -> 26 | AE61: =AD61+1 -> 27 | AF61: =AE61+1 -> 28 | AK61: =AR59+1 -> 24 | AL61: =AK61+1 -> 25 | AM61: =AL61+1 -> 26 | AN61: =AM61+1 -> 27 | AO61: =AN61+1 -> 28 | AP61: =AO61+1 -> 29 | AR61: =AP61+1 -> 30
A62: =H60+1 -> 330 | B62: =A62+1 -> 331 | C62: =B62+1 -> 332 | D62: =C62+1 -> 333 | E62: =D62+1 -> 334 | F62: =E62+1 -> 335 | J62: =Q60+1 -> 358 | K62: =J62+1 -> 359 | L62: =K62+1 -> 360 | M62: =L62+1 -> 361 | N62: =M62+1 -> 362 | O62: =N62+1 -> 363 | Q62: =O62+1 -> 364 | S62: =Z60+1 -> 393 | T62: =S62+1 -> 394 | U62: =T62+1 -> 395 | V62: =U62+1 -> 396 | W62: =V62+1 -> 397 | AB62: =AI60+1 -> 421 | AC62: =AB62+1 -> 422 | AD62: =AC62+1 -> 423 | AE62: =AD62+1 -> 424 | AF62: =AE62+1 -> 425 | AK62: =AR60+1 -> 449 | AL62: =AK62+1 -> 450 | AM62: =AL62+1 -> 451 | AN62: =AM62+1 -> 452 | AO62: =AN62+1 -> 453 | AP62: =AO62+1 -> 454 | AR62: =AP62+1 -> 455
J63: =Q61+1 -> 30 | K63: =J63+1 -> 31 | AK63: =AR61+1 -> 31
J64: =Q62+1 -> 365 | K64: =J64+1 -> 366 | AK64: =AR62+1 -> 456
A66: Vacation Hours Used | E66: Vac. Hours Left | J66: Vacation Hours Used | N66: Vac. Hours Left | S66: Vacation Hours Used | W66: Vac. Hours Left | AB66: Vacation Hours Used | AF66: Vac. Hours Left | AK66: Vacation Hours Used | AO66: Vac. Hours Left
E67: =IF(OR($AE$4=0,$AE$4=""),"",IF((INT(E49*100+0.5)-INT(A67*100+0.5))/100=0,"0",(INT(AO49*100+0.5)-INT(A67*100+0.5))/100)) | N67: =IF(OR($AE$4=0,$AE$4=""),"",IF((INT(N49*100+0.5)-INT(J67*100+0.5))/100=0,"0",(INT(E67*100+0.5)-INT(J67*100+0.5))/100)) | W67: =IF(OR($AE$4=0,$AE$4=""),"",IF((INT(W49*100+0.5)-INT(S67*100+0.5))/100=0,"0",(INT(N67*100+0.5)-INT(S67*100+0.5))/100)) | AF67: =IF(OR($AE$4=0,$AE$4=""),"",IF((INT(AF49*100+0.5)-INT(AB67*100+0.5))/100=0,"0",(INT(W67*100+0.5)-INT(AB67*100+0.5))/100)) | AO67: =IF(OR($AE$4=0,$AE$4=""),"",IF((INT(AO49*100+0.5)-INT(AK67*100+0.5))/100=0,"0",(INT(AF67*100+0.5)-INT(AK67*100+0.5))/100))
A68: 40804 | C68: KW

Sheet Master2
Q2: Paylist Number | U2: Vacation Hours Carried Over from Previous Year | Y2: Vacation Hours Allotted for Current Year | AE2: Total Number of Vacation Hours Available | AV2: Total Vacation Hours
AV3: =IF(AND($U$4="",$Y$4=""),"",$U$4+IF($Y$4="","0",$Y$4))
Y4: =IF(AG8="","",AG8*7) | AE4: =IF(AND(U4="",Y4=""),"",U4+IF(Y4="","0",Y4))
A6: Fill-in the three fields below to automatically calculate vacation hours allotted for current year | AF6: Date-time Code Difference | AG6: =O8-O7 -> 0
N7: Employee Leave Service Date (yyyy/mm/dd): | AF7: Years Service for Holidays | AG7: =IF(AG6<=0,"",YEAR(AG6)+1-1900)
N8: Current Year's Leave Service Anniversary Date(yyyy/mm/dd) (update annually): | AF8: Number of 7 hr Days Holiday Allotted for Current Year | AG8: =IF(AG6<=0,"",IF(ISBLANK(AG7),"",VLOOKUP(AG7,Vacation_Entitlement,2)))
N9: Enter number of hours worked per day | Y9: =IF(O9="","",O9) | AF9: Hour Days Holiday Available | AG9: =IF(O9="","",AE4/O9)
Q12: 2010 | U12: CALENDAR
AK13: =Q12+1 -> 2011
A15: JANUARY | J15: APRIL | S15: JULY | AB15: OCTOBER | AK15: JANUARY
A16: SU | B16: MON | C16: TUE | D16: WED | E16: THU | F16: FRI | H16: SA | J16: SU | K16: MON | L16: TUE | M16: WED | N16: THU | O16: FRI | Q16: SA | S16: SU | T16: MON | U16: TUE | V16: WED | W16: THU | X16: FRI | Z16: SA | AB16: SU | AC16: MON | AD16: TUE | AE16: WED | AF16: THU | AG16: FRI | AI16: SA | AK16: SU | AL16: MON | AM16: TUE | AN16: WED | AO16: THU | AP16: FRI | AR16: SA
F17: 1 | H17: =F17+1 -> 2 | N17: =M17+1 -> 1 | O17: =N17+1 -> 2 | Q17: =O17+1 -> 3 | W17: =V17+1 -> 1 | X17: =W17+1 -> 2 | Z17: =X17+1 -> 3 | AG17: 1 | AI17: =AG17+1 -> 2 | AR17: 1
F18: =E18+1 -> 1 | H18: =F18+1 -> 2 | N18: =D62+1 -> 91 | O18: =N18+1 -> 92 | Q18: =O18+1 -> 93 | W18: =M62+1 -> 182 | X18: =W18+1 -> 183 | Z18: =X18+1 -> 184 | AG18: =W62+1 -> 274 | AH18: $ | AI18: =AG18+1 -> 275 | AR18: =AG62+1 -> 366
A19: =H17+1 -> 3 | B19: =A19+1 -> 4 | C19: =B19+1 -> 5 | D19: =C19+1 -> 6 | E19: =D19+1 -> 7 | F19: =E19+1 -> 8 | H19: =F19+1 -> 9 | J19: =Q17+1 -> 4 | K19: =J19+1 -> 5 | L19: =K19+1 -> 6 | M19: =L19+1 -> 7 | N19: =M19+1 -> 8 | O19: =N19+1 -> 9 | Q19: =O19+1 -> 10 | S19: =Z17+1 -> 4 | T19: =S19+1 -> 5 | U19: =T19+1 -> 6 | V19: =U19+1 -> 7 | W19: =V19+1 -> 8 | X19: =W19+1 -> 9 | Z19: =X19+1 -> 10 | AB19: =AI17+1 -> 3 | AC19: =AB19+1 -> 4 | AD19: =AC19+1 -> 5 | AE19: =AD19+1 -> 6 | AF19: =AE19+1 -> 7 | AG19: =AF19+1 -> 8 | AI19: =AG19+1 -> 9 | AK19: =AR17+1 -> 2 | AL19: =AK19+1 -> 3 | AM19: =AL19+1 -> 4 | AN19: =AM19+1 -> 5 | AO19: =AN19+1 -> 6 | AP19: =AO19+1 -> 7 | AR19: =AP19+1 -> 8
A20: =H18+1 -> 3 | B20: =A20+1 -> 4 | C20: =B20+1 -> 5 | D20: =C20+1 -> 6 | E20: =D20+1 -> 7 | F20: =E20+1 -> 8 | G20: $ | H20: =F20+1 -> 9 | J20: =Q18+1 -> 94 | K20: =J20+1 -> 95 | L20: =K20+1 -> 96 | M20: =L20+1 -> 97 | N20: =M20+1 -> 98 | O20: =N20+1 -> 99 | Q20: =O20+1 -> 100 | S20: =Z18+1 -> 185 | T20: =S20+1 -> 186 | U20: =T20+1 -> 187 | V20: =U20+1 -> 188 | W20: =V20+1 -> 189 | X20: =W20+1 -> 190 | Y20: $ | Z20: =X20+1 -> 191 | AB20: =AI18+1 -> 276 | AC20: =AB20+1 -> 277 | AD20: =AC20+1 -> 278 | AE20: =AD20+1 -> 279 | AF20: =AE20+1 -> 280 | AG20: =AF20+1 -> 281 | AI20: =AG20+1 -> 282 | AK20: =AR18+1 -> 367 | AL20: =AK20+1 -> 368 | AM20: =AL20+1 -> 369 | AN20: =AM20+1 -> 370 | AO20: =AN20+1 -> 371 | AP20: =AO20+1 -> 372 | AQ20: $ | AR20: =AP20+1 -> 373
A21: =H19+1 -> 10 | B21: =A21+1 -> 11 | C21: =B21+1 -> 12 | D21: =C21+1 -> 13 | E21: =D21+1 -> 14 | F21: =E21+1 -> 15 | H21: =F21+1 -> 16 | J21: =Q19+1 -> 11 | K21: =J21+1 -> 12 | L21: =K21+1 -> 13 | M21: =L21+1 -> 14 | N21: =M21+1 -> 15 | O21: =N21+1 -> 16 | Q21: =O21+1 -> 17 | S21: =Z19+1 -> 11 | T21: =S21+1 -> 12 | U21: =T21+1 -> 13 | V21: =U21+1 -> 14 | W21: =V21+1 -> 15 | X21: =W21+1 -> 16 | Z21: =X21+1 -> 17 | AB21: =AI19+1 -> 10 | AC21: =AB21+1 -> 11 | AD21: =AC21+1 -> 12 | AE21: =AD21+1 -> 13 | AF21: =AE21+1 -> 14 | AG21: =AF21+1 -> 15 | AI21: =AG21+1 -> 16 | AK21: =AR19+1 -> 9 | AL21: =AK21+1 -> 10 | AM21: =AL21+1 -> 11 | AN21: =AM21+1 -> 12 | AO21: =AN21+1 -> 13 | AP21: =AO21+1 -> 14 | AR21: =AP21+1 -> 15
A22: =H20+1 -> 10 | B22: =A22+1 -> 11 | C22: =B22+1 -> 12 | D22: =C22+1 -> 13 | E22: =D22+1 -> 14 | F22: =E22+1 -> 15 | H22: =F22+1 -> 16 | J22: =Q20+1 -> 101 | K22: =J22+1 -> 102 | L22: =K22+1 -> 103 | M22: =L22+1 -> 104 | N22: =M22+1 -> 105 | O22: =N22+1 -> 106 | P22: $ | Q22: =O22+1 -> 107 | S22: =Z20+1 -> 192 | T22: =S22+1 -> 193 | U22: =T22+1 -> 194 | V22: =U22+1 -> 195 | W22: =V22+1 -> 196 | X22: =W22+1 -> 197 | Z22: =X22+1 -> 198 | AB22: =AI20+1 -> 283 | AC22: =AB22+1 -> 284 | AD22: =AC22+1 -> 285 | AE22: =AD22+1 -> 286 | AF22: =AE22+1 -> 287 | AG22: =AF22+1 -> 288 | AH22: $ | AI22: =AG22+1 -> 289 | AK22: =AR20+1 -> 374 | AL22: =AK22+1 -> 375 | AM22: =AL22+1 -> 376 | AN22: =AM22+1 -> 377 | AO22: =AN22+1 -> 378 | AP22: =AO22+1 -> 379 | AR22: =AP22+1 -> 380
A23: =H21+1 -> 17 | B23: =A23+1 -> 18 | C23: =B23+1 -> 19 | D23: =C23+1 -> 20 | E23: =D23+1 -> 21 | F23: =E23+1 -> 22 | H23: =F23+1 -> 23 | J23: =Q21+1 -> 18 | K23: =J23+1 -> 19 | L23: =K23+1 -> 20 | M23: =L23+1 -> 21 | N23: =M23+1 -> 22 | O23: =N23+1 -> 23 | Q23: =O23+1 -> 24 | S23: =Z21+1 -> 18 | T23: =S23+1 -> 19 | U23: =T23+1 -> 20 | V23: =U23+1 -> 21 | W23: =V23+1 -> 22 | X23: =W23+1 -> 23 | Z23: =X23+1 -> 24 | AB23: =AI21+1 -> 17 | AC23: =AB23+1 -> 18 | AD23: =AC23+1 -> 19 | AE23: =AD23+1 -> 20 | AF23: =AE23+1 -> 21 | AG23: =AF23+1 -> 22 | AI23: =AG23+1 -> 23 | AK23: =AR21+1 -> 16 | AL23: =AK23+1 -> 17 | AM23: =AL23+1 -> 18 | AN23: =AM23+1 -> 19 | AO23: =AN23+1 -> 20 | AP23: =AO23+1 -> 21 | AR23: =AP23+1 -> 22
A24: =H22+1 -> 17 | B24: =A24+1 -> 18 | C24: =B24+1 -> 19 | D24: =C24+1 -> 20 | E24: =D24+1 -> 21 | F24: =E24+1 -> 22 | G24: $ | H24: =F24+1 -> 23 | J24: =Q22+1 -> 108 | K24: =J24+1 -> 109 | L24: =K24+1 -> 110 | M24: =L24+1 -> 111 | N24: =M24+1 -> 112 | O24: =N24+1 -> 113 | Q24: =O24+1 -> 114 | S24: =Z22+1 -> 199 | T24: =S24+1 -> 200 | U24: =T24+1 -> 201 | V24: =U24+1 -> 202 | W24: =V24+1 -> 203 | X24: =W24+1 -> 204 | Y24: $ | Z24: =X24+1 -> 205 | AB24: =AI22+1 -> 290 | AC24: =AB24+1 -> 291 | AD24: =AC24+1 -> 292 | AE24: =AD24+1 -> 293 | AF24: =AE24+1 -> 294 | AG24: =AF24+1 -> 295 | AI24: =AG24+1 -> 296 | AK24: =AR22+1 -> 381 | AL24: =AK24+1 -> 382 | AM24: =AL24+1 -> 383 | AN24: =AM24+1 -> 384 | AO24: =AN24+1 -> 385 | AP24: =AO24+1 -> 386 | AQ24: $ | AR24: =AP24+1 -> 387
A25: =H23+1 -> 24 | B25: =A25+1 -> 25 | C25: =B25+1 -> 26 | D25: =C25+1 -> 27 | E25: =D25+1 -> 28 | F25: =E25+1 -> 29 | H25: =F25+1 -> 30 | J25: =Q23+1 -> 25 | K25: =J25+1 -> 26 | L25: =K25+1 -> 27 | M25: =L25+1 -> 28 | N25: =M25+1 -> 29 | O25: =N25+1 -> 30 | S25: =Z23+1 -> 25 | T25: =S25+1 -> 26 | U25: =T25+1 -> 27 | V25: =U25+1 -> 28 | W25: =V25+1 -> 29 | X25: =W25+1 -> 30 | Z25: =X25+1 -> 31 | AB25: =AI23+1 -> 24 | AC25: =AB25+1 -> 25 | AD25: =AC25+1 -> 26 | AE25: =AD25+1 -> 27 | AF25: =AE25+1 -> 28 | AG25: =AF25+1 -> 29 | AI25: =AG25+1 -> 30 | AK25: =AR23+1 -> 23 | AL25: =AK25+1 -> 24 | AM25: =AL25+1 -> 25 | AN25: =AM25+1 -> 26 | AO25: =AN25+1 -> 27 | AP25: =AO25+1 -> 28 | AR25: =AP25+1 -> 29
A26: =H24+1 -> 24 | B26: =A26+1 -> 25 | C26: =B26+1 -> 26 | D26: =C26+1 -> 27 | E26: =D26+1 -> 28 | F26: =E26+1 -> 29 | H26: =F26+1 -> 30 | J26: =Q24+1 -> 115 | K26: =J26+1 -> 116 | L26: =K26+1 -> 117 | M26: =L26+1 -> 118 | N26: =M26+1 -> 119 | O26: =N26+1 -> 120 | P26: $ | S26: =Z24+1 -> 206 | T26: =S26+1 -> 207 | U26: =T26+1 -> 208 | V26: =U26+1 -> 209 | W26: =V26+1 -> 210 | X26: =W26+1 -> 211 | Z26: =X26+1 -> 212 | AB26: =AI24+1 -> 297 | AC26: =AB26+1 -> 298 | AD26: =AC26+1 -> 299 | AE26: =AD26+1 -> 300 | AF26: =AE26+1 -> 301 | AG26: =AF26+1 -> 302 | AH26: $ | AI26: =AG26+1 -> 303 | AK26: =AR24+1 -> 388 | AL26: =AK26+1 -> 389 | AM26: =AL26+1 -> 390 | AN26: =AM26+1 -> 391 | AO26: =AN26+1 -> 392 | AP26: =AO26+1 -> 393 | AR26: =AP26+1 -> 394
A27: =H25+1 -> 31 | AB27: =AI25+1 -> 31 | AK27: =AR25+1 -> 30 | AL27: =AK27+1 -> 31
A28: =H26+1 -> 31 | AB28: =AI26+1 -> 304 | AK28: =AR26+1 -> 395 | AL28: =AK28+1 -> 396
A30: Vacation Hours Used | E30: Vac. Hours Left | J30: Vacation Hours Used | N30: Vac. Hours Left | S30: Vacation Hours Used | W30: Vac. Hours Left | AB30: Vacation Hours Used | AF30: Vac. Hours Left | AK30: Vacation Hours Used | AO30: Vac. Hours Left
E31: =IF(OR($AE$4=0,$AE$4=""),"",IF((INT($AE$4*100+0.5)-INT(A31*100+0.5))/100=0,"0",(INT($AE$4*100+0.5)-INT(A31*100+0.5))/100)) | N31: =IF(OR($AE$4=0,$AE$4=""),"",IF((INT(E67*100+0.5)-INT(J31*100+0.5))/100=0,"0",(INT(E67*100+0.5)-INT(J31*100+0.5))/100)) | W31: =IF(OR($AE$4=0,$AE$4=""),"",IF((INT(N67*100+0.5)-INT(S31*100+0.5))/100=0,"0",(INT(N67*100+0.5)-INT(S31*100+0.5))/100)) | AF31: =IF(OR($AE$4=0,$AE$4=""),"",IF((INT(W67*100+0.5)-INT(AB31*100+0.5))/100=0,"0",(INT(W67*100+0.5)-INT(AB31*100+0.5))/100)) | AO31: =IF(OR($AE$4=0,$AE$4=""),"",IF((INT(AF67*100+0.5)-INT(AK31*100+0.5))/100=0,"0",(INT(AF67*100+0.5)-INT(AK31*100+0.5))/100))
A33: FEBRUARY | J33: MAY | S33: AUGUST | AB33: NOVEMBER | AK33: FEBRUARY
A34: SU | B34: MON | C34: TUE | D34: WED | E34: THU | F34: FRI | H34: SA | J34: SU | K34: MON | L34: TUE | M34: WED | N34: THU | O34: FRI | Q34: SA | S34: SU | T34: MON | U34: TUE | V34: WED | W34: THU | X34: FRI | Z34: SA | AB34: SU | AC34: MON | AD34: TUE | AE34: WED | AF34: THU | AG34: FRI | AI34: SA | AK34: SU | AL34: MON | AM34: TUE | AN34: WED | AO34: THU | AP34: FRI | AR34: SA
B35: 1 | C35: =B35+1 -> 2 | D35: =C35+1 -> 3 | E35: =D35+1 -> 4 | F35: =E35+1 -> 5 | H35: =F35+1 -> 6 | Q35: 1 | S35: 1 | T35: =S35+1 -> 2 | U35: =T35+1 -> 3 | V35: =U35+1 -> 4 | W35: =V35+1 -> 5 | X35: =W35+1 -> 6 | Z35: =X35+1 -> 7 | AC35: 1 | AD35: =AC35+1 -> 2 | AE35: =AD35+1 -> 3 | AF35: =AE35+1 -> 4 | AG35: =AF35+1 -> 5 | AI35: =AG35+1 -> 6 | AM35: 1 | AN35: =AM35+1 -> 2 | AO35: =AN35+1 -> 3 | AP35: =AO35+1 -> 4 | AR35: =AP35+1 -> 5
B36: =A28+1 -> 32 | C36: =B36+1 -> 33 | D36: =C36+1 -> 34 | E36: =D36+1 -> 35 | F36: =E36+1 -> 36 | G36: $ | H36: =F36+1 -> 37 | Q36: =O26+1 -> 121 | S36: =Z26+1 -> 213 | T36: =S36+1 -> 214 | U36: =T36+1 -> 215 | V36: =U36+1 -> 216 | W36: =V36+1 -> 217 | X36: =W36+1 -> 218 | Y36: $ | Z36: =X36+1 -> 219 | AC36: =AB28+1 -> 305 | AD36: =AC36+1 -> 306 | AE36: =AD36+1 -> 307 | AF36: =AE36+1 -> 308 | AG36: =AF36+1 -> 309 | AI36: =AG36+1 -> 310 | AM36: =AL28+1 -> 397 | AN36: =AM36+1 -> 398 | AO36: =AN36+1 -> 399 | AP36: =AO36+1 -> 400 | AQ36: $ | AR36: =AP36+1 -> 401
A37: =H35+1 -> 7 | B37: =A37+1 -> 8 | C37: =B37+1 -> 9 | D37: =C37+1 -> 10 | E37: =D37+1 -> 11 | F37: =E37+1 -> 12 | H37: =F37+1 -> 13 | J37: =Q35+1 -> 2 | K37: =J37+1 -> 3 | L37: =K37+1 -> 4 | M37: =L37+1 -> 5 | N37: =M37+1 -> 6 | O37: =N37+1 -> 7 | Q37: =O37+1 -> 8 | S37: =Z35+1 -> 8 | T37: =S37+1 -> 9 | U37: =T37+1 -> 10 | V37: =U37+1 -> 11 | W37: =V37+1 -> 12 | X37: =W37+1 -> 13 | Z37: =X37+1 -> 14 | AB37: =AI35+1 -> 7 | AC37: =AB37+1 -> 8 | AD37: =AC37+1 -> 9 | AE37: =AD37+1 -> 10 | AF37: =AE37+1 -> 11 | AG37: =AF37+1 -> 12 | AI37: =AG37+1 -> 13 | AK37: =AR35+1 -> 6 | AL37: =AK37+1 -> 7 | AM37: =AL37+1 -> 8 | AN37: =AM37+1 -> 9 | AO37: =AN37+1 -> 10 | AP37: =AO37+1 -> 11 | AR37: =AP37+1 -> 12
A38: =H36+1 -> 38 | B38: =A38+1 -> 39 | C38: =B38+1 -> 40 | D38: =C38+1 -> 41 | E38: =D38+1 -> 42 | F38: =E38+1 -> 43 | H38: =F38+1 -> 44 | J38: =Q36+1 -> 122 | K38: =J38+1 -> 123 | L38: =K38+1 -> 124 | M38: =L38+1 -> 125 | N38: =M38+1 -> 126 | O38: =N38+1 -> 127 | Q38: =O38+1 -> 128 | S38: =Z36+1 -> 220 | T38: =S38+1 -> 221 | U38: =T38+1 -> 222 | V38: =U38+1 -> 223 | W38: =V38+1 -> 224 | X38: =W38+1 -> 225 | Z38: =X38+1 -> 226 | AB38: =AI36+1 -> 311 | AC38: =AB38+1 -> 312 | AD38: =AC38+1 -> 313 | AE38: =AD38+1 -> 314 | AF38: =AE38+1 -> 315 | AG38: =AF38+1 -> 316 | AH38: $ | AI38: =AG38+1 -> 317 | AK38: =AR36+1 -> 402 | AL38: =AK38+1 -> 403 | AM38: =AL38+1 -> 404 | AN38: =AM38+1 -> 405 | AO38: =AN38+1 -> 406 | AP38: =AO38+1 -> 407 | AR38: =AP38+1 -> 408
A39: =H37+1 -> 14 | B39: =A39+1 -> 15 | C39: =B39+1 -> 16 | D39: =C39+1 -> 17 | E39: =D39+1 -> 18 | F39: =E39+1 -> 19 | H39: =F39+1 -> 20 | J39: =Q37+1 -> 9 | K39: =J39+1 -> 10 | L39: =K39+1 -> 11 | M39: =L39+1 -> 12 | N39: =M39+1 -> 13 | O39: =N39+1 -> 14 | Q39: =O39+1 -> 15 | S39: =Z37+1 -> 15 | T39: =S39+1 -> 16 | U39: =T39+1 -> 17 | V39: =U39+1 -> 18 | W39: =V39+1 -> 19 | X39: =W39+1 -> 20 | Z39: =X39+1 -> 21 | AB39: =AI37+1 -> 14 | AC39: =AB39+1 -> 15 | AD39: =AC39+1 -> 16 | AE39: =AD39+1 -> 17 | AF39: =AE39+1 -> 18 | AG39: =AF39+1 -> 19 | AI39: =AG39+1 -> 20 | AK39: =AR37+1 -> 13 | AL39: =AK39+1 -> 14 | AM39: =AL39+1 -> 15 | AN39: =AM39+1 -> 16 | AO39: =AN39+1 -> 17 | AP39: =AO39+1 -> 18 | AR39: =AP39+1 -> 19
A40: =H38+1 -> 45 | B40: =A40+1 -> 46 | C40: =B40+1 -> 47 | D40: =C40+1 -> 48 | E40: =D40+1 -> 49 | F40: =E40+1 -> 50 | G40: $ | H40: =F40+1 -> 51 | J40: =Q38+1 -> 129 | K40: =J40+1 -> 130 | L40: =K40+1 -> 131 | M40: =L40+1 -> 132 | N40: =M40+1 -> 133 | O40: =N40+1 -> 134 | P40: $ | Q40: =O40+1 -> 135 | S40: =Z38+1 -> 227 | T40: =S40+1 -> 228 | U40: =T40+1 -> 229 | V40: =U40+1 -> 230 | W40: =V40+1 -> 231 | X40: =W40+1 -> 232 | Y40: $ | Z40: =X40+1 -> 233 | AB40: =AI38+1 -> 318 | AC40: =AB40+1 -> 319 | AD40: =AC40+1 -> 320 | AE40: =AD40+1 -> 321 | AF40: =AE40+1 -> 322 | AG40: =AF40+1 -> 323 | AI40: =AG40+1 -> 324 | AK40: =AR38+1 -> 409 | AL40: =AK40+1 -> 410 | AM40: =AL40+1 -> 411 | AN40: =AM40+1 -> 412 | AO40: =AN40+1 -> 413 | AP40: =AO40+1 -> 414 | AQ40: $ | AR40: =AP40+1 -> 415
A41: =H39+1 -> 21 | B41: =A41+1 -> 22 | C41: =B41+1 -> 23 | D41: =C41+1 -> 24 | E41: =D41+1 -> 25 | F41: =E41+1 -> 26 | H41: =F41+1 -> 27 | J41: =Q39+1 -> 16 | K41: =J41+1 -> 17 | L41: =K41+1 -> 18 | M41: =L41+1 -> 19 | N41: =M41+1 -> 20 | O41: =N41+1 -> 21 | Q41: =O41+1 -> 22 | S41: =Z39+1 -> 22 | T41: =S41+1 -> 23 | U41: =T41+1 -> 24 | V41: =U41+1 -> 25 | W41: =V41+1 -> 26 | X41: =W41+1 -> 27 | Z41: =X41+1 -> 28 | AB41: =AI39+1 -> 21 | AC41: =AB41+1 -> 22 | AD41: =AC41+1 -> 23 | AE41: =AD41+1 -> 24 | AF41: =AE41+1 -> 25 | AG41: =AF41+1 -> 26 | AI41: =AG41+1 -> 27 | AK41: =AR39+1 -> 20 | AL41: =AK41+1 -> 21 | AM41: =AL41+1 -> 22 | AN41: =AM41+1 -> 23 | AO41: =AN41+1 -> 24 | AP41: =AO41+1 -> 25 | AR41: =AP41+1 -> 26
A42: =H40+1 -> 52 | B42: =A42+1 -> 53 | C42: =B42+1 -> 54 | D42: =C42+1 -> 55 | E42: =D42+1 -> 56 | F42: =E42+1 -> 57 | H42: =F42+1 -> 58 | J42: =Q40+1 -> 136 | K42: =J42+1 -> 137 | L42: =K42+1 -> 138 | M42: =L42+1 -> 139 | N42: =M42+1 -> 140 | O42: =N42+1 -> 141 | Q42: =O42+1 -> 142 | S42: =Z40+1 -> 234 | T42: =S42+1 -> 235 | U42: =T42+1 -> 236 | V42: =U42+1 -> 237 | W42: =V42+1 -> 238 | X42: =W42+1 -> 239 | Z42: =X42+1 -> 240 | AB42: =AI40+1 -> 325 | AC42: =AB42+1 -> 326 | AD42: =AC42+1 -> 327 | AE42: =AD42+1 -> 328 | AF42: =AE42+1 -> 329 | AG42: =AF42+1 -> 330 | AH42: $ | AI42: =AG42+1 -> 331 | AK42: =AR40+1 -> 416 | AL42: =AK42+1 -> 417 | AM42: =AL42+1 -> 418 | AN42: =AM42+1 -> 419 | AO42: =AN42+1 -> 420 | AP42: =AO42+1 -> 421 | AR42: =AP42+1 -> 422
A43: =H41+1 -> 28 | J43: =Q41+1 -> 23 | K43: =J43+1 -> 24 | L43: =K43+1 -> 25 | M43: =L43+1 -> 26 | N43: =M43+1 -> 27 | O43: =N43+1 -> 28 | Q43: =O43+1 -> 29 | S43: =Z41+1 -> 29 | T43: =S43+1 -> 30 | U43: =T43+1 -> 31 | AB43: =AI41+1 -> 28 | AC43: =AB43+1 -> 29 | AD43: =AC43+1 -> 30 | AK43: =AR41+1 -> 27 | AL43: =AK43+1 -> 28
A44: =H42+1 -> 59 | J44: =Q42+1 -> 143 | K44: =J44+1 -> 144 | L44: =K44+1 -> 145 | M44: =L44+1 -> 146 | N44: =M44+1 -> 147 | O44: =N44+1 -> 148 | P44: $ | Q44: =O44+1 -> 149 | S44: =Z42+1 -> 241 | T44: =S44+1 -> 242 | U44: =T44+1 -> 243 | AB44: =AI42+1 -> 332 | AC44: =AB44+1 -> 333 | AD44: =AC44+1 -> 334 | AK44: =AR42+1 -> 423 | AL44: =AK44+1 -> 424
J45: =Q43+1 -> 30 | K45: =J45+1 -> 31
J46: =Q44+1 -> 150 | K46: =J46+1 -> 151
A48: Vacation Hours Used | E48: Vac. Hours Left | J48: Vacation Hours Used | N48: Vac. Hours Left | S48: Vacation Hours Used | W48: Vac. Hours Left | AB48: Vacation Hours Used | AF48: Vac. Hours Left | AK48: Vacation Hours Used | AO48: Vac. Hours Left
E49: =IF(OR($AE$4=0,$AE$4=""),"",IF((INT(E31*100+0.5)-INT(A49*100+0.5))/100=0,"0",(INT(E31*100+0.5)-INT(A49*100+0.5))/100)) | N49: =IF(OR($AE$4=0,$AE$4=""),"",IF((INT(N31*100+0.5)-INT(J49*100+0.5))/100=0,"0",(INT(N31*100+0.5)-INT(J49*100+0.5))/100)) | W49: =IF(OR($AE$4=0,$AE$4=""),"",IF((INT(W31*100+0.5)-INT(S49*100+0.5))/100=0,"0",(INT(W31*100+0.5)-INT(S49*100+0.5))/100)) | AF49: =IF(OR($AE$4=0,$AE$4=""),"",IF((INT(AF31*100+0.5)-INT(AB49*100+0.5))/100=0,"0",(INT(AF31*100+0.5)-INT(AB49*100+0.5))/100)) | AO49: =IF(OR($AE$4=0,$AE$4=""),"",IF((INT(AO31*100+0.5)-INT(AK49*100+0.5))/100=0,"0",(INT(AO31*100+0.5)-INT(AK49*100+0.5))/100))
A51: MARCH | J51: JUNE | S51: SEPTEMBER | AB51: DECEMBER | AK51: MARCH
A52: SU | B52: MON | C52: TUE | D52: WED | E52: THU | F52: FRI | H52: SA | J52: SU | K52: MON | L52: TUE | M52: WED | N52: THU | O52: FRI | Q52: SA | S52: SU | T52: MON | U52: TUE | V52: WED | W52: THU | X52: FRI | Z52: SA | AB52: SU | AC52: MON | AD52: TUE | AE52: WED | AF52: THU | AG52: FRI | AI52: SA | AK52: SU | AL52: MON | AM52: TUE | AN52: WED | AO52: THU | AP52: FRI | AR52: SA
B53: =A53+1 -> 1 | C53: =B53+1 -> 2 | D53: =C53+1 -> 3 | E53: =D53+1 -> 4 | F53: =E53+1 -> 5 | H53: =F53+1 -> 6 | L53: =K53+1 -> 1 | M53: =L53+1 -> 2 | N53: =M53+1 -> 3 | O53: =N53+1 -> 4 | Q53: =O53+1 -> 5 | V53: 1 | W53: =V53+1 -> 2 | X53: =W53+1 -> 3 | Z53: =X53+1 -> 4 | AE53: 1 | AF53: =AE53+1 -> 2 | AG53: =AF53+1 -> 3 | AI53: =AG53+1 -> 4 | AM53: =AL53+1 -> 1 | AN53: =AM53+1 -> 2 | AO53: =AN53+1 -> 3 | AP53: =AO53+1 -> 4 | AR53: =AP53+1 -> 5
B54: =A44+1 -> 60 | C54: =B54+1 -> 61 | D54: =C54+1 -> 62 | E54: =D54+1 -> 63 | F54: =E54+1 -> 64 | G54: $ | H54: =F54+1 -> 65 | L54: =K46+1 -> 152 | M54: =L54+1 -> 153 | N54: =M54+1 -> 154 | O54: =N54+1 -> 155 | Q54: =O54+1 -> 156 | V54: =U44+1 -> 244 | W54: =V54+1 -> 245 | X54: =W54+1 -> 246 | Y54: $ | Z54: =X54+1 -> 247 | AE54: =AD44+1 -> 335 | AF54: =AE54+1 -> 336 | AG54: =AF54+1 -> 337 | AI54: =AG54+1 -> 338 | AM54: =AL44+1 -> 425 | AN54: =AM54+1 -> 426 | AO54: =AN54+1 -> 427 | AP54: =AO54+1 -> 428 | AQ54: $ | AR54: =AP54+1 -> 429
A55: =H53+1 -> 7 | B55: =A55+1 -> 8 | C55: =B55+1 -> 9 | D55: =C55+1 -> 10 | E55: =D55+1 -> 11 | F55: =E55+1 -> 12 | H55: =F55+1 -> 13 | J55: =Q53+1 -> 6 | K55: =J55+1 -> 7 | L55: =K55+1 -> 8 | M55: =L55+1 -> 9 | N55: =M55+1 -> 10 | O55: =N55+1 -> 11 | Q55: =O55+1 -> 12 | S55: =Z53+1 -> 5 | T55: =S55+1 -> 6 | U55: =T55+1 -> 7 | V55: =U55+1 -> 8 | W55: =V55+1 -> 9 | X55: =W55+1 -> 10 | Z55: =X55+1 -> 11 | AB55: =AI53+1 -> 5 | AC55: =AB55+1 -> 6 | AD55: =AC55+1 -> 7 | AE55: =AD55+1 -> 8 | AF55: =AE55+1 -> 9 | AG55: =AF55+1 -> 10 | AI55: =AG55+1 -> 11 | AK55: =AR53+1 -> 6 | AL55: =AK55+1 -> 7 | AM55: =AL55+1 -> 8 | AN55: =AM55+1 -> 9 | AO55: =AN55+1 -> 10 | AP55: =AO55+1 -> 11 | AR55: =AP55+1 -> 12
A56: =H54+1 -> 66 | B56: =A56+1 -> 67 | C56: =B56+1 -> 68 | D56: =C56+1 -> 69 | E56: =D56+1 -> 70 | F56: =E56+1 -> 71 | H56: =F56+1 -> 72 | J56: =Q54+1 -> 157 | K56: =J56+1 -> 158 | L56: =K56+1 -> 159 | M56: =L56+1 -> 160 | N56: =M56+1 -> 161 | O56: =N56+1 -> 162 | P56: $ | Q56: =O56+1 -> 163 | S56: =Z54+1 -> 248 | T56: =S56+1 -> 249 | U56: =T56+1 -> 250 | V56: =U56+1 -> 251 | W56: =V56+1 -> 252 | X56: =W56+1 -> 253 | Z56: =X56+1 -> 254 | AB56: =AI54+1 -> 339 | AC56: =AB56+1 -> 340 | AD56: =AC56+1 -> 341 | AE56: =AD56+1 -> 342 | AF56: =AE56+1 -> 343 | AG56: =AF56+1 -> 344 | AH56: $ | AI56: =AG56+1 -> 345 | AK56: =AR54+1 -> 430 | AL56: =AK56+1 -> 431 | AM56: =AL56+1 -> 432 | AN56: =AM56+1 -> 433 | AO56: =AN56+1 -> 434 | AP56: =AO56+1 -> 435 | AR56: =AP56+1 -> 436
A57: =H55+1 -> 14 | B57: =A57+1 -> 15 | C57: =B57+1 -> 16 | D57: =C57+1 -> 17 | E57: =D57+1 -> 18 | F57: =E57+1 -> 19 | H57: =F57+1 -> 20 | J57: =Q55+1 -> 13 | K57: =J57+1 -> 14 | L57: =K57+1 -> 15 | M57: =L57+1 -> 16 | N57: =M57+1 -> 17 | O57: =N57+1 -> 18 | Q57: =O57+1 -> 19 | S57: =Z55+1 -> 12 | T57: =S57+1 -> 13 | U57: =T57+1 -> 14 | V57: =U57+1 -> 15 | W57: =V57+1 -> 16 | X57: =W57+1 -> 17 | Z57: =X57+1 -> 18 | AB57: =AI55+1 -> 12 | AC57: =AB57+1 -> 13 | AD57: =AC57+1 -> 14 | AE57: =AD57+1 -> 15 | AF57: =AE57+1 -> 16 | AG57: =AF57+1 -> 17 | AI57: =AG57+1 -> 18 | AK57: =AR55+1 -> 13 | AL57: =AK57+1 -> 14 | AM57: =AL57+1 -> 15 | AN57: =AM57+1 -> 16 | AO57: =AN57+1 -> 17 | AP57: =AO57+1 -> 18 | AR57: =AP57+1 -> 19
A58: =H56+1 -> 73 | B58: =A58+1 -> 74 | C58: =B58+1 -> 75 | D58: =C58+1 -> 76 | E58: =D58+1 -> 77 | F58: =E58+1 -> 78 | G58: $ | H58: =F58+1 -> 79 | J58: =Q56+1 -> 164 | K58: =J58+1 -> 165 | L58: =K58+1 -> 166 | M58: =L58+1 -> 167 | N58: =M58+1 -> 168 | O58: =N58+1 -> 169 | Q58: =O58+1 -> 170 | S58: =Z56+1 -> 255 | T58: =S58+1 -> 256 | U58: =T58+1 -> 257 | V58: =U58+1 -> 258 | W58: =V58+1 -> 259 | X58: =W58+1 -> 260 | Y58: $ | Z58: =X58+1 -> 261 | AB58: =AI56+1 -> 346 | AC58: =AB58+1 -> 347 | AD58: =AC58+1 -> 348 | AE58: =AD58+1 -> 349 | AF58: =AE58+1 -> 350 | AG58: =AF58+1 -> 351 | AI58: =AG58+1 -> 352 | AK58: =AR56+1 -> 437 | AL58: =AK58+1 -> 438 | AM58: =AL58+1 -> 439 | AN58: =AM58+1 -> 440 | AO58: =AN58+1 -> 441 | AP58: =AO58+1 -> 442 | AQ58: $ | AR58: =AP58+1 -> 443
A59: =H57+1 -> 21 | B59: =A59+1 -> 22 | C59: =B59+1 -> 23 | D59: =C59+1 -> 24 | E59: =D59+1 -> 25 | F59: =E59+1 -> 26 | H59: =F59+1 -> 27 | J59: =Q57+1 -> 20 | K59: =J59+1 -> 21 | L59: =K59+1 -> 22 | M59: =L59+1 -> 23 | N59: =M59+1 -> 24 | O59: =N59+1 -> 25 | Q59: =O59+1 -> 26 | S59: =Z57+1 -> 19 | T59: =S59+1 -> 20 | U59: =T59+1 -> 21 | V59: =U59+1 -> 22 | W59: =V59+1 -> 23 | X59: =W59+1 -> 24 | Z59: =X59+1 -> 25 | AB59: =AI57+1 -> 19 | AC59: =AB59+1 -> 20 | AD59: =AC59+1 -> 21 | AE59: =AD59+1 -> 22 | AF59: =AE59+1 -> 23 | AG59: =AF59+1 -> 24 | AI59: =AG59+1 -> 25 | AK59: =AR57+1 -> 20 | AL59: =AK59+1 -> 21 | AM59: =AL59+1 -> 22 | AN59: =AM59+1 -> 23 | AO59: =AN59+1 -> 24 | AP59: =AO59+1 -> 25 | AR59: =AP59+1 -> 26
A60: =H58+1 -> 80 | B60: =A60+1 -> 81 | C60: =B60+1 -> 82 | D60: =C60+1 -> 83 | E60: =D60+1 -> 84 | F60: =E60+1 -> 85 | H60: =F60+1 -> 86 | J60: =Q58+1 -> 171 | K60: =J60+1 -> 172 | L60: =K60+1 -> 173 | M60: =L60+1 -> 174 | N60: =M60+1 -> 175 | O60: =N60+1 -> 176 | P60: $ | Q60: =O60+1 -> 177 | S60: =Z58+1 -> 262 | T60: =S60+1 -> 263 | U60: =T60+1 -> 264 | V60: =U60+1 -> 265 | W60: =V60+1 -> 266 | X60: =W60+1 -> 267 | Z60: =X60+1 -> 268 | AB60: =AI58+1 -> 353 | AC60: =AB60+1 -> 354 | AD60: =AC60+1 -> 355 | AE60: =AD60+1 -> 356 | AF60: =AE60+1 -> 357 | AG60: =AF60+1 -> 358 | AH60: $ | AI60: =AG60+1 -> 359 | AK60: =AR58+1 -> 444 | AL60: =AK60+1 -> 445 | AM60: =AL60+1 -> 446 | AN60: =AM60+1 -> 447 | AO60: =AN60+1 -> 448 | AP60: =AO60+1 -> 449 | AR60: =AP60+1 -> 450
A61: =H59+1 -> 28 | B61: =A61+1 -> 29 | C61: =B61+1 -> 30 | D61: =C61+1 -> 31 | J61: =Q59+1 -> 27 | K61: =J61+1 -> 28 | L61: =K61+1 -> 29 | M61: =L61+1 -> 30 | S61: =Z59+1 -> 26 | T61: =S61+1 -> 27 | U61: =T61+1 -> 28 | V61: =U61+1 -> 29 | W61: =V61+1 -> 30 | AB61: =AI59+1 -> 26 | AC61: =AB61+1 -> 27 | AD61: =AC61+1 -> 28 | AE61: =AD61+1 -> 29 | AF61: =AE61+1 -> 30 | AG61: =AF61+1 -> 31 | AK61: =AR59+1 -> 27 | AL61: =AK61+1 -> 28 | AM61: =AL61+1 -> 29 | AN61: =AM61+1 -> 30 | AO61: =AN61+1 -> 31
A62: =H60+1 -> 87 | B62: =A62+1 -> 88 | C62: =B62+1 -> 89 | D62: =C62+1 -> 90 | J62: =Q60+1 -> 178 | K62: =J62+1 -> 179 | L62: =K62+1 -> 180 | M62: =L62+1 -> 181 | S62: =Z60+1 -> 269 | T62: =S62+1 -> 270 | U62: =T62+1 -> 271 | V62: =U62+1 -> 272 | W62: =V62+1 -> 273 | AB62: =AI60+1 -> 360 | AC62: =AB62+1 -> 361 | AD62: =AC62+1 -> 362 | AE62: =AD62+1 -> 363 | AF62: =AE62+1 -> 364 | AG62: =AF62+1 -> 365 | AK62: =AR60+1 -> 451 | AL62: =AK62+1 -> 452 | AM62: =AL62+1 -> 453 | AN62: =AM62+1 -> 454 | AO62: =AN62+1 -> 455
A66: Vacation Hours Used | E66: Vac. Hours Left | J66: Vacation Hours Used | N66: Vac. Hours Left | S66: Vacation Hours Used | W66: Vac. Hours Left | AB66: Vacation Hours Used | AF66: Vac. Hours Left | AK66: Vacation Hours Used | AO66: Vac. Hours Left
E67: =IF(OR($AE$4=0,$AE$4=""),"",IF((INT(E49*100+0.5)-INT(A67*100+0.5))/100=0,"0",(INT(E49*100+0.5)-INT(A67*100+0.5))/100)) | N67: =IF(OR($AE$4=0,$AE$4=""),"",IF((INT(N49*100+0.5)-INT(J67*100+0.5))/100=0,"0",(INT(N49*100+0.5)-INT(J67*100+0.5))/100)) | W67: =IF(OR($AE$4=0,$AE$4=""),"",IF((INT(W49*100+0.5)-INT(S67*100+0.5))/100=0,"0",(INT(W49*100+0.5)-INT(S67*100+0.5))/100)) | AF67: =IF(OR($AE$4=0,$AE$4=""),"",IF((INT(AF49*100+0.5)-INT(AB67*100+0.5))/100=0,"0",(INT(AF49*100+0.5)-INT(AB67*100+0.5))/100)) | AO67: =IF(OR($AE$4=0,$AE$4=""),"",IF((INT(AO49*100+0.5)-INT(AK67*100+0.5))/100=0,"0",(INT(AO49*100+0.5)-INT(AK67*100+0.5))/100))
A68: 40085 | C68: KW

Sheet 12 Mo Calendar
U2: Vacation Hours Carried Over from Previous Year | Y2: Vacation Hours Allotted for Current Year | AE2: Total Number of Vacation Hours Available
Y4: =IF(AG7="","",AG7*7)
A5: Fill-in the three fields below to automatically calculate vacation hours allotted for current year | AF5: Date-time Code Difference | AG5: =O7-O6 -> 0
N6: Employee Leave Service Date (yyyy/mm/dd): | AF6: Years Service for Holidays | AG6: =IF(AG5<=0,"",YEAR(AG5)+1-1900)
N7: Current Year's Leave Service Anniversary Date(yyyy/mm/dd) (update annually): | AF7: Number of 7 hr Days Holiday Allotted for Current Year | AG7: =IF(AG5<=0,"",IF(ISBLANK(AG6),"",VLOOKUP(AG6,Vacation_Entitlement,2)))
N8: Enter number of hours worked per day | Y8: =IF(O8="","",O8) | AF8: Hour Days Holiday Available | AG8: =IF(O8="","",AE4/O8)
L10: 2015 | P10: CALENDAR | AE10: Total Vacation Hours
AE11: =IF(AND(U4="",Y4=""),"",U4+IF(Y4="","0",Y4))
A13: JANUARY | J13: FEBRUARY | S13: MARCH | AB13: APRIL
A14: SU | B14: MON | C14: TUE | D14: WED | E14: THU | F14: FRI | H14: SA | J14: SU | K14: MON | L14: TUE | M14: WED | N14: THU | O14: FRI | Q14: SA | S14: SU | T14: MON | U14: TUE | V14: WED | W14: THU | X14: FRI | Z14: SA | AB14: SU | AC14: MON | AD14: TUE | AE14: WED | AF14: THU | AG14: FRI | AI14: SA
E15: =D15+1 -> 1 | F15: =E15+1 -> 2 | H15: =F15+1 -> 3 | J15: 1 | K15: 2 | L15: 3 | M15: 4 | N15: 5 | O15: 6 | Q15: =O15+1 -> 7 | S15: 1 | T15: 2 | U15: 3 | V15: 4 | W15: 5 | X15: 6 | Z15: =X15+1 -> 7 | AE15: =AD15+1 -> 1 | AF15: =AE15+1 -> 2 | AG15: =AF15+1 -> 3 | AI15: =AG15+1 -> 4
G16: $
A17: =H15+1 -> 4 | B17: =A17+1 -> 5 | C17: =B17+1 -> 6 | D17: =C17+1 -> 7 | E17: =D17+1 -> 8 | F17: =E17+1 -> 9 | H17: =F17+1 -> 10 | J17: =Q15+1 -> 8 | K17: =J17+1 -> 9 | L17: =K17+1 -> 10 | M17: =L17+1 -> 11 | N17: =M17+1 -> 12 | O17: =N17+1 -> 13 | Q17: =O17+1 -> 14 | S17: =Z15+1 -> 8 | T17: =S17+1 -> 9 | U17: =T17+1 -> 10 | V17: =U17+1 -> 11 | W17: =V17+1 -> 12 | X17: =W17+1 -> 13 | Z17: =X17+1 -> 14 | AB17: =AI15+1 -> 5 | AC17: =AB17+1 -> 6 | AD17: =AC17+1 -> 7 | AE17: =AD17+1 -> 8 | AF17: =AE17+1 -> 9 | AG17: =AF17+1 -> 10 | AI17: =AG17+1 -> 11
P18: $ | Y18: $ | AH18: $
A19: =H17+1 -> 11 | B19: =A19+1 -> 12 | C19: =B19+1 -> 13 | D19: =C19+1 -> 14 | E19: =D19+1 -> 15 | F19: =E19+1 -> 16 | H19: =F19+1 -> 17 | J19: =Q17+1 -> 15 | K19: =J19+1 -> 16 | L19: =K19+1 -> 17 | M19: =L19+1 -> 18 | N19: =M19+1 -> 19 | O19: =N19+1 -> 20 | Q19: =O19+1 -> 21 | S19: =Z17+1 -> 15 | T19: =S19+1 -> 16 | U19: =T19+1 -> 17 | V19: =U19+1 -> 18 | W19: =V19+1 -> 19 | X19: =W19+1 -> 20 | Z19: =X19+1 -> 21 | AB19: =AI17+1 -> 12 | AC19: =AB19+1 -> 13 | AD19: =AC19+1 -> 14 | AE19: =AD19+1 -> 15 | AF19: =AE19+1 -> 16 | AG19: =AF19+1 -> 17 | AI19: =AG19+1 -> 18
G20: $
A21: =H19+1 -> 18 | B21: =A21+1 -> 19 | C21: =B21+1 -> 20 | D21: =C21+1 -> 21 | E21: =D21+1 -> 22 | F21: =E21+1 -> 23 | H21: =F21+1 -> 24 | J21: =Q19+1 -> 22 | K21: =J21+1 -> 23 | L21: =K21+1 -> 24 | M21: =L21+1 -> 25 | N21: =M21+1 -> 26 | O21: =N21+1 -> 27 | Q21: =O21+1 -> 28 | S21: =Z19+1 -> 22 | T21: =S21+1 -> 23 | U21: =T21+1 -> 24 | V21: =U21+1 -> 25 | W21: =V21+1 -> 26 | X21: =W21+1 -> 27 | Z21: =X21+1 -> 28 | AB21: =AI19+1 -> 19 | AC21: =AB21+1 -> 20 | AD21: =AC21+1 -> 21 | AE21: =AD21+1 -> 22 | AF21: =AE21+1 -> 23 | AG21: =AF21+1 -> 24 | AI21: =AG21+1 -> 25
P22: $ | Y22: $ | AH22: $
A23: =H21+1 -> 25 | B23: =A23+1 -> 26 | C23: =B23+1 -> 27 | D23: =C23+1 -> 28 | E23: =D23+1 -> 29 | F23: 30 | H23: 31 | S23: =Z21+1 -> 29 | T23: =S23+1 -> 30 | U23: =T23+1 -> 31 | AB23: =AI21+1 -> 26 | AC23: =AB23+1 -> 27 | AD23: =AC23+1 -> 28 | AE23: =AD23+1 -> 29 | AF23: =AE23+1 -> 30
G24: $
A27: Vacation Hours Used | E27: Vac. Hours Left | J27: Vacation Hours Used | N27: Vac. Hours Left | S27: Vacation Hours Used | W27: Vac. Hours Left | AB27: Vacation Hours Used | AF27: Vac. Hours Left
A28: =SUM(F16)+SUM(B18:F18)+SUM(B20:F20)+SUM(B22:F22)+SUM(B24:F24) -> 0 | E28: =IF(OR($AE$4=0,$AE$4=""),"",IF((INT($AE$4*100+0.5)-INT(A28*100+0.5))/100=0,"0",(INT($AE$4*100+0.5)-INT(A28*100+0.5))/100)) | J28: =SUM(K16:O16)+SUM(L18:O18)+SUM(K20:O20)+SUM(K22:O22) -> 0 | N28: =IF(OR($AE$4=0,$AE$4=""),"",IF((INT(E28*100+0.5)-INT(J28*100+0.5))/100=0,"0",(INT(E28*100+0.5)-INT(J28*100+0.5))/100)) | S28: =SUM(T16:X16)+SUM(T18:X18)+SUM(T20:X20)+SUM(T22:X22)+SUM(T24:U24) -> 0 | W28: =IF(OR($AE$4=0,$AE$4=""),"",IF((INT(N28*100+0.5)-INT(S28*100+0.5))/100=0,"0",(INT(N28*100+0.5)-INT(S28*100+0.5))/100)) | AB28: =SUM(AE16:AF16)+SUM(AD18:AG18)+SUM(AC20:AG20)+SUM(AC22:AG22)+SUM(AC24:AD24) -> 0 | AF28: =IF(OR($AE$4=0,$AE$4=""),"",IF((INT(W28*100+0.5)-INT(AB28*100+0.5))/100=0,"0",(INT(W28*100+0.5)-INT(AB28*100+0.5))/100))
A30: MAY | J30: JUNE | S30: JULY | AB30: AUGUST
A31: SU | B31: MON | C31: TUE | D31: WED | E31: THU | F31: FRI | H31: SA | J31: SU | K31: MON | L31: TUE | M31: WED | N31: THU | O31: FRI | Q31: SA | S31: SU | T31: MON | U31: TUE | V31: WED | W31: THU | X31: FRI | Z31: SA | AB31: SU | AC31: MON | AD31: TUE | AE31: WED | AF31: THU | AG31: FRI | AI31: SA
F32: =E32+1 -> 1 | H32: =F32+1 -> 2 | K32: =J32+1 -> 1 | L32: =K32+1 -> 2 | M32: =L32+1 -> 3 | N32: =M32+1 -> 4 | O32: =N32+1 -> 5 | Q32: 6 | V32: =U32+1 -> 1 | W32: =V32+1 -> 2 | X32: =W32+1 -> 3 | Z32: =X32+1 -> 4 | AI32: =AG32+1 -> 1
P33: $ | Y33: $
A34: =H32+1 -> 3 | B34: =A34+1 -> 4 | C34: =B34+1 -> 5 | D34: =C34+1 -> 6 | E34: =D34+1 -> 7 | F34: =E34+1 -> 8 | H34: =F34+1 -> 9 | J34: =Q32+1 -> 7 | K34: =J34+1 -> 8 | L34: =K34+1 -> 9 | M34: =L34+1 -> 10 | N34: =M34+1 -> 11 | O34: =N34+1 -> 12 | Q34: 13 | S34: =Z32+1 -> 5 | T34: =S34+1 -> 6 | U34: =T34+1 -> 7 | V34: =U34+1 -> 8 | W34: =V34+1 -> 9 | X34: =W34+1 -> 10 | Z34: =X34+1 -> 11 | AB34: =AI32+1 -> 2 | AC34: =AB34+1 -> 3 | AD34: =AC34+1 -> 4 | AE34: =AD34+1 -> 5 | AF34: =AE34+1 -> 6 | AG34: =AF34+1 -> 7 | AI34: =AG34+1 -> 8
G35: $
A36: =H34+1 -> 10 | B36: =A36+1 -> 11 | C36: =B36+1 -> 12 | D36: =C36+1 -> 13 | E36: =D36+1 -> 14 | F36: =E36+1 -> 15 | H36: =F36+1 -> 16 | J36: 14 | K36: =J36+1 -> 15 | L36: =K36+1 -> 16 | M36: =L36+1 -> 17 | N36: =M36+1 -> 18 | O36: =N36+1 -> 19 | Q36: 20 | S36: =Z34+1 -> 12 | T36: =S36+1 -> 13 | U36: =T36+1 -> 14 | V36: =U36+1 -> 15 | W36: =V36+1 -> 16 | X36: =W36+1 -> 17 | Z36: =X36+1 -> 18 | AB36: =AI34+1 -> 9 | AC36: =AB36+1 -> 10 | AD36: =AC36+1 -> 11 | AE36: =AD36+1 -> 12 | AF36: =AE36+1 -> 13 | AG36: =AF36+1 -> 14 | AI36: =AG36+1 -> 15
P37: $ | Y37: $ | AH37: $
A38: =H36+1 -> 17 | B38: =A38+1 -> 18 | C38: =B38+1 -> 19 | D38: =C38+1 -> 20 | E38: =D38+1 -> 21 | F38: =E38+1 -> 22 | H38: =F38+1 -> 23 | J38: 21 | K38: 22 | L38: 23 | M38: 24 | N38: 25 | O38: 26 | Q38: 27 | S38: =Z36+1 -> 19 | T38: =S38+1 -> 20 | U38: =T38+1 -> 21 | V38: =U38+1 -> 22 | W38: =V38+1 -> 23 | X38: =W38+1 -> 24 | Z38: =X38+1 -> 25 | AB38: =AI36+1 -> 16 | AC38: =AB38+1 -> 17 | AD38: =AC38+1 -> 18 | AE38: =AD38+1 -> 19 | AF38: =AE38+1 -> 20 | AG38: =AF38+1 -> 21 | AI38: =AG38+1 -> 22
G39: $
A40: =H38+1 -> 24 | B40: =A40+1 -> 25 | C40: =B40+1 -> 26 | D40: =C40+1 -> 27 | E40: =D40+1 -> 28 | F40: =E40+1 -> 29 | H40: =F40+1 -> 30 | J40: 28 | K40: 29 | L40: 30 | S40: =Z38+1 -> 26 | T40: =S40+1 -> 27 | U40: =T40+1 -> 28 | V40: =U40+1 -> 29 | W40: 30 | X40: 31 | AB40: =AI38+1 -> 23 | AC40: =AB40+1 -> 24 | AD40: =AC40+1 -> 25 | AE40: =AD40+1 -> 26 | AF40: =AE40+1 -> 27 | AG40: =AF40+1 -> 28 | AI40: =AG40+1 -> 29
Y41: $ | AH41: $
A42: =H40+1 -> 31 | AB42: 30 | AC42: 31
S44: =Z40+1 -> 1
A47: Vacation Hours Used | E47: Vac. Hours Left | J47: Vacation Hours Used | N47: Vac. Hours Left | S47: Vacation Hours Used | W47: Vac. Hours Left | AB47: Vacation Hours Used | AF47: Vac. Hours Left
A48: =SUM(F33)+SUM(B35:F35)+SUM(B37:F37)+SUM(C39:F39)+SUM(B41:F41) -> 0 | E48: =IF(OR($AE$4=0,$AE$4=""),"",IF((INT(AF28*100+0.5)-INT(A48*100+0.5))/100=0,"0",(INT(AF28*100+0.5)-INT(A48*100+0.5))/100)) | J48: =SUM(K33:O33)+SUM(K35:O35)+SUM(K37:O37)+SUM(K39:O39)+SUM(K41:L41) -> 0 | N48: =IF(OR($AE$4=0,$AE$4=""),"",IF((INT(E28*100+0.5)-INT(J48*100+0.5))/100=0,"0",(INT(E48*100+0.5)-INT(J48*100+0.5))/100)) | S48: =SUM(W33:X33)+SUM(T35:X35)+SUM(T37:X37)+SUM(T39:X39)+SUM(T41:X41) -> 0 | W48: =IF(OR($AE$4=0,$AE$4=""),"",IF((INT(N28*100+0.5)-INT(S48*100+0.5))/100=0,"0",(INT(N48*100+0.5)-INT(S48*100+0.5))/100)) | AB48: =SUM(AD35:AG35)+SUM(AC37:AG37)+SUM(AC39:AG39)+SUM(AC41:AG41)+SUM(AC43) -> 0 | AF48: =IF(OR($AE$4=0,$AE$4=""),"",IF((INT(W28*100+0.5)-INT(AB48*100+0.5))/100=0,"0",(INT(W48*100+0.5)-INT(AB48*100+0.5))/100))
A50: SEPTEMBER | J50: OCTOBER | S50: NOVEMBER | AB50: DECEMBER
A51: SU | B51: MON | C51: TUE | D51: WED | E51: THU | F51: FRI | H51: SA | J51: SU | K51: MON | L51: TUE | M51: WED | N51: THU | O51: FRI | Q51: SA | S51: SU | T51: MON | U51: TUE | V51: WED | W51: THU | X51: FRI | Z51: SA | AB51: SU | AC51: MON | AD51: TUE | AE51: WED | AF51: THU | AG51: FRI | AI51: SA
C52: =B52+1 -> 1 | D52: =C52+1 -> 2 | E52: =D52+1 -> 3 | F52: =E52+1 -> 4 | H52: =F52+1 -> 5 | N52: =M52+1 -> 1 | O52: =N52+1 -> 2 | Q52: =O52+1 -> 3 | S52: 1 | T52: 2 | U52: 3 | V52: 4 | W52: 5 | X52: 6 | Z52: =X52+1 -> 7 | AD52: =AC52+1 -> 1 | AE52: =AD52+1 -> 2 | AF52: =AE52+1 -> 3 | AG52: =AF52+1 -> 4 | AI52: =AG52+1 -> 5
Y53: $ | AH53: $
A54: =H52+1 -> 6 | B54: =A54+1 -> 7 | C54: =B54+1 -> 8 | D54: =C54+1 -> 9 | E54: =D54+1 -> 10 | F54: =E54+1 -> 11 | H54: =F54+1 -> 12 | J54: =Q52+1 -> 4 | K54: =J54+1 -> 5 | L54: =K54+1 -> 6 | M54: =L54+1 -> 7 | N54: =M54+1 -> 8 | O54: =N54+1 -> 9 | Q54: =O54+1 -> 10 | S54: =Z52+1 -> 8 | T54: =S54+1 -> 9 | U54: =T54+1 -> 10 | V54: =U54+1 -> 11 | W54: =V54+1 -> 12 | X54: =W54+1 -> 13 | Z54: =X54+1 -> 14 | AB54: =AI52+1 -> 6 | AC54: =AB54+1 -> 7 | AD54: =AC54+1 -> 8 | AE54: =AD54+1 -> 9 | AF54: =AE54+1 -> 10 | AG54: =AF54+1 -> 11 | AI54: =AG54+1 -> 12
G55: $ | P55: $
A56: =H54+1 -> 13 | B56: =A56+1 -> 14 | C56: =B56+1 -> 15 | D56: =C56+1 -> 16 | E56: =D56+1 -> 17 | F56: =E56+1 -> 18 | H56: =F56+1 -> 19 | J56: =Q54+1 -> 11 | K56: =J56+1 -> 12 | L56: =K56+1 -> 13 | M56: =L56+1 -> 14 | N56: =M56+1 -> 15 | O56: =N56+1 -> 16 | Q56: =O56+1 -> 17 | S56: =Z54+1 -> 15 | T56: =S56+1 -> 16 | U56: =T56+1 -> 17 | V56: =U56+1 -> 18 | W56: =V56+1 -> 19 | X56: =W56+1 -> 20 | Z56: =X56+1 -> 21 | AB56: =AI54+1 -> 13 | AC56: =AB56+1 -> 14 | AD56: =AC56+1 -> 15 | AE56: =AD56+1 -> 16 | AF56: =AE56+1 -> 17 | AG56: =AF56+1 -> 18 | AI56: =AG56+1 -> 19
Y57: $ | AH57: $
A58: =H56+1 -> 20 | B58: =A58+1 -> 21 | C58: =B58+1 -> 22 | D58: =C58+1 -> 23 | E58: =D58+1 -> 24 | F58: =E58+1 -> 25 | H58: =F58+1 -> 26 | J58: =Q56+1 -> 18 | K58: =J58+1 -> 19 | L58: =K58+1 -> 20 | M58: =L58+1 -> 21 | N58: =M58+1 -> 22 | O58: =N58+1 -> 23 | Q58: =O58+1 -> 24 | S58: =Z56+1 -> 22 | T58: =S58+1 -> 23 | U58: =T58+1 -> 24 | V58: =U58+1 -> 25 | W58: =V58+1 -> 26 | X58: =W58+1 -> 27 | Z58: =X58+1 -> 28 | AB58: =AI56+1 -> 20 | AC58: =AB58+1 -> 21 | AD58: =AC58+1 -> 22 | AE58: =AD58+1 -> 23 | AF58: =AE58+1 -> 24 | AG58: =AF58+1 -> 25 | AI58: =AG58+1 -> 26
G59: $ | P59: $
A60: =H58+1 -> 27 | B60: =A60+1 -> 28 | C60: 29 | D60: 30 | J60: =Q58+1 -> 25 | K60: =J60+1 -> 26 | L60: =K60+1 -> 27 | M60: =L60+1 -> 28 | N60: =M60+1 -> 29 | O60: 30 | Q60: 31 | S60: =Z58+1 -> 29 | T60: =S60+1 -> 30 | AB60: =AI58+1 -> 27 | AC60: =AB60+1 -> 28 | AD60: =AC60+1 -> 29 | AE60: =AD60+1 -> 30 | AF60: =AE60+1 -> 31
A63: Vacation Hours Used | E63: Vac. Hours Left | J63: Vacation Hours Used | N63: Vac. Hours Left | S63: Vacation Hours Used | W63: Vac. Hours Left | AB63: Vacation Hours Used | AF63: Vac. Hours Left
A64: =SUM(C53:F53)+SUM(C55:F55)+SUM(B57:F57)+SUM(B59:F59)+SUM(B61:D61) -> 0 | E64: =IF(OR($AE$4=0,$AE$4=""),"",IF((INT(AF48*100+0.5)-INT(A64*100+0.5))/100=0,"0",(INT(AF48*100+0.5)-INT(A64*100+0.5))/100)) | J64: =SUM(N53:P53)+SUM(K55:O55)+SUM(L57:O57)+SUM(K59:O59)+SUM(K61:O61) -> 0 | N64: =IF(OR($AE$4=0,$AE$4=""),"",IF((INT(E64*100+0.5)-INT(J64*100+0.5))/100=0,"0",(INT(E64*100+0.5)-INT(J64*100+0.5))/100)) | S64: =SUM(T53:X53)+SUM(T55:U55)+SUM(W55:X55)+SUM(T57:X57)+SUM(T59:X59)+SUM(T61) -> 0 | W64: =IF(OR($AE$4=0,$AE$4=""),"",IF((INT(N64*100+0.5)-INT(S64*100+0.5))/100=0,"0",(INT(N64*100+0.5)-INT(S64*100+0.5))/100)) | AB64: =SUM(AD53:AG53)+SUM(AC55:AG55)+SUM(AC57:AG57)+SUM(AC59:AF59)+SUM(AD61:AF61) -> 0 | AF64: =IF(OR($AE$4=0,$AE$4=""),"",IF((INT(W64*100+0.5)-INT(AB64*100+0.5))/100=0,"0",(INT(W64*100+0.5)-INT(AB64*100+0.5))/100))
A65: 42009 | C65: BvDB

Sheet 15 Mo Special
Q2: Paylist Number | U2: Vacation Hours Carried Over from Previous Year | Y2: Vacation Hours Allotted for Current Year | AE2: Total Number of Vacation Hours Available | AV2: Total Vacation Hours
AV3: =IF(AND($U$4="",$Y$4=""),"",$U$4+IF($Y$4="","0",$Y$4))
Y4: =IF(AG8="","",AG8*7) | AE4: =IF(AND(U4="",Y4=""),"",U4+IF(Y4="","0",Y4))
A6: Fill-in the three fields below to automatically calculate vacation hours allotted for current year | AF6: Date-time Code Difference | AG6: =O8-O7 -> 0
N7: Employee Leave Service Date (yyyy/mm/dd): | AF7: Years Service for Holidays | AG7: =IF(AG6<=0,"",YEAR(AG6)+1-1900)
N8: Current Year's Leave Service Anniversary Date(yyyy/mm/dd) (update annually): | AF8: Number of 7 hr Days Holiday Allotted for Current Year | AG8: =IF(AG6<=0,"",IF(ISBLANK(AG7),"",VLOOKUP(AG7,Vacation_Entitlement,2)))
N9: Enter number of hours worked per day | Y9: =IF(O9="","",O9) | AF9: Hour Days Holiday Available | AG9: =IF(O9="","",AE4/O9)
Q12: 2010 | U12: CALENDAR
AK13: =Q12+1 -> 2011
A15: JANUARY | J15: APRIL | S15: JULY | AB15: OCTOBER | AK15: JANUARY
A16: SU | B16: MON | C16: TUE | D16: WED | E16: THU | F16: FRI | H16: SA | J16: SU | K16: MON | L16: TUE | M16: WED | N16: THU | O16: FRI | Q16: SA | S16: SU | T16: MON | U16: TUE | V16: WED | W16: THU | X16: FRI | Z16: SA | AB16: SU | AC16: MON | AD16: TUE | AE16: WED | AF16: THU | AG16: FRI | AI16: SA | AK16: SU | AL16: MON | AM16: TUE | AN16: WED | AO16: THU | AP16: FRI | AR16: SA
F17: 1 | H17: =F17+1 -> 2 | N17: =M17+1 -> 1 | O17: =N17+1 -> 2 | Q17: =O17+1 -> 3 | W17: =V17+1 -> 1 | X17: =W17+1 -> 2 | Z17: =X17+1 -> 3 | AG17: 1 | AI17: =AG17+1 -> 2 | AR17: 1
F18: =E18+1 -> 1 | H18: =F18+1 -> 2 | N18: =D62+1 -> 91 | O18: =N18+1 -> 92 | Q18: =O18+1 -> 93 | W18: =M62+1 -> 182 | X18: =W18+1 -> 183 | Y18: $ | Z18: =X18+1 -> 184 | AG18: =W62+1 -> 274 | AI18: =AG18+1 -> 275 | AR18: =AG62+1 -> 366
A19: =H17+1 -> 3 | B19: =A19+1 -> 4 | C19: =B19+1 -> 5 | D19: =C19+1 -> 6 | E19: =D19+1 -> 7 | F19: =E19+1 -> 8 | H19: =F19+1 -> 9 | J19: =Q17+1 -> 4 | K19: =J19+1 -> 5 | L19: =K19+1 -> 6 | M19: =L19+1 -> 7 | N19: =M19+1 -> 8 | O19: =N19+1 -> 9 | Q19: =O19+1 -> 10 | S19: =Z17+1 -> 4 | T19: =S19+1 -> 5 | U19: =T19+1 -> 6 | V19: =U19+1 -> 7 | W19: =V19+1 -> 8 | X19: =W19+1 -> 9 | Z19: =X19+1 -> 10 | AB19: =AI17+1 -> 3 | AC19: =AB19+1 -> 4 | AD19: =AC19+1 -> 5 | AE19: =AD19+1 -> 6 | AF19: =AE19+1 -> 7 | AG19: =AF19+1 -> 8 | AI19: =AG19+1 -> 9 | AK19: =AR17+1 -> 2 | AL19: =AK19+1 -> 3 | AM19: =AL19+1 -> 4 | AN19: =AM19+1 -> 5 | AO19: =AN19+1 -> 6 | AP19: =AO19+1 -> 7 | AR19: =AP19+1 -> 8
A20: =H18+1 -> 3 | B20: =A20+1 -> 4 | C20: =B20+1 -> 5 | D20: =C20+1 -> 6 | E20: =D20+1 -> 7 | F20: =E20+1 -> 8 | G20: $ | H20: =F20+1 -> 9 | J20: =Q18+1 -> 94 | K20: =J20+1 -> 95 | L20: =K20+1 -> 96 | M20: =L20+1 -> 97 | N20: =M20+1 -> 98 | O20: =N20+1 -> 99 | P20: $ | Q20: =O20+1 -> 100 | S20: =Z18+1 -> 185 | T20: =S20+1 -> 186 | U20: =T20+1 -> 187 | V20: =U20+1 -> 188 | W20: =V20+1 -> 189 | X20: =W20+1 -> 190 | Z20: =X20+1 -> 191 | AB20: =AI18+1 -> 276 | AC20: =AB20+1 -> 277 | AD20: =AC20+1 -> 278 | AE20: =AD20+1 -> 279 | AF20: =AE20+1 -> 280 | AG20: =AF20+1 -> 281 | AH20: $ | AI20: =AG20+1 -> 282 | AK20: =AR18+1 -> 367 | AL20: =AK20+1 -> 368 | AM20: =AL20+1 -> 369 | AN20: =AM20+1 -> 370 | AO20: =AN20+1 -> 371 | AP20: =AO20+1 -> 372 | AR20: =AP20+1 -> 373
A21: =H19+1 -> 10 | B21: =A21+1 -> 11 | C21: =B21+1 -> 12 | D21: =C21+1 -> 13 | E21: =D21+1 -> 14 | F21: =E21+1 -> 15 | H21: =F21+1 -> 16 | J21: =Q19+1 -> 11 | K21: =J21+1 -> 12 | L21: =K21+1 -> 13 | M21: =L21+1 -> 14 | N21: =M21+1 -> 15 | O21: =N21+1 -> 16 | Q21: =O21+1 -> 17 | S21: =Z19+1 -> 11 | T21: =S21+1 -> 12 | U21: =T21+1 -> 13 | V21: =U21+1 -> 14 | W21: =V21+1 -> 15 | X21: =W21+1 -> 16 | Z21: =X21+1 -> 17 | AB21: =AI19+1 -> 10 | AC21: =AB21+1 -> 11 | AD21: =AC21+1 -> 12 | AE21: =AD21+1 -> 13 | AF21: =AE21+1 -> 14 | AG21: =AF21+1 -> 15 | AI21: =AG21+1 -> 16 | AK21: =AR19+1 -> 9 | AL21: =AK21+1 -> 10 | AM21: =AL21+1 -> 11 | AN21: =AM21+1 -> 12 | AO21: =AN21+1 -> 13 | AP21: =AO21+1 -> 14 | AR21: =AP21+1 -> 15
A22: =H20+1 -> 10 | B22: =A22+1 -> 11 | C22: =B22+1 -> 12 | D22: =C22+1 -> 13 | E22: =D22+1 -> 14 | F22: =E22+1 -> 15 | H22: =F22+1 -> 16 | J22: =Q20+1 -> 101 | K22: =J22+1 -> 102 | L22: =K22+1 -> 103 | M22: =L22+1 -> 104 | N22: =M22+1 -> 105 | O22: =N22+1 -> 106 | Q22: =O22+1 -> 107 | S22: =Z20+1 -> 192 | T22: =S22+1 -> 193 | U22: =T22+1 -> 194 | V22: =U22+1 -> 195 | W22: =V22+1 -> 196 | X22: =W22+1 -> 197 | Y22: $ | Z22: =X22+1 -> 198 | AB22: =AI20+1 -> 283 | AC22: =AB22+1 -> 284 | AD22: =AC22+1 -> 285 | AE22: =AD22+1 -> 286 | AF22: =AE22+1 -> 287 | AG22: =AF22+1 -> 288 | AI22: =AG22+1 -> 289 | AK22: =AR20+1 -> 374 | AL22: =AK22+1 -> 375 | AM22: =AL22+1 -> 376 | AN22: =AM22+1 -> 377 | AO22: =AN22+1 -> 378 | AP22: =AO22+1 -> 379 | AQ22: $ | AR22: =AP22+1 -> 380
A23: =H21+1 -> 17 | B23: =A23+1 -> 18 | C23: =B23+1 -> 19 | D23: =C23+1 -> 20 | E23: =D23+1 -> 21 | F23: =E23+1 -> 22 | H23: =F23+1 -> 23 | J23: =Q21+1 -> 18 | K23: =J23+1 -> 19 | L23: =K23+1 -> 20 | M23: =L23+1 -> 21 | N23: =M23+1 -> 22 | O23: =N23+1 -> 23 | Q23: =O23+1 -> 24 | S23: =Z21+1 -> 18 | T23: =S23+1 -> 19 | U23: =T23+1 -> 20 | V23: =U23+1 -> 21 | W23: =V23+1 -> 22 | X23: =W23+1 -> 23 | Z23: =X23+1 -> 24 | AB23: =AI21+1 -> 17 | AC23: =AB23+1 -> 18 | AD23: =AC23+1 -> 19 | AE23: =AD23+1 -> 20 | AF23: =AE23+1 -> 21 | AG23: =AF23+1 -> 22 | AI23: =AG23+1 -> 23 | AK23: =AR21+1 -> 16 | AL23: =AK23+1 -> 17 | AM23: =AL23+1 -> 18 | AN23: =AM23+1 -> 19 | AO23: =AN23+1 -> 20 | AP23: =AO23+1 -> 21 | AR23: =AP23+1 -> 22
A24: =H22+1 -> 17 | B24: =A24+1 -> 18 | C24: =B24+1 -> 19 | D24: =C24+1 -> 20 | E24: =D24+1 -> 21 | F24: =E24+1 -> 22 | G24: $ | H24: =F24+1 -> 23 | J24: =Q22+1 -> 108 | K24: =J24+1 -> 109 | L24: =K24+1 -> 110 | M24: =L24+1 -> 111 | N24: =M24+1 -> 112 | O24: =N24+1 -> 113 | P24: $ | Q24: =O24+1 -> 114 | S24: =Z22+1 -> 199 | T24: =S24+1 -> 200 | U24: =T24+1 -> 201 | V24: =U24+1 -> 202 | W24: =V24+1 -> 203 | X24: =W24+1 -> 204 | Z24: =X24+1 -> 205 | AB24: =AI22+1 -> 290 | AC24: =AB24+1 -> 291 | AD24: =AC24+1 -> 292 | AE24: =AD24+1 -> 293 | AF24: =AE24+1 -> 294 | AG24: =AF24+1 -> 295 | AH24: $ | AI24: =AG24+1 -> 296 | AK24: =AR22+1 -> 381 | AL24: =AK24+1 -> 382 | AM24: =AL24+1 -> 383 | AN24: =AM24+1 -> 384 | AO24: =AN24+1 -> 385 | AP24: =AO24+1 -> 386 | AR24: =AP24+1 -> 387
A25: =H23+1 -> 24 | B25: =A25+1 -> 25 | C25: =B25+1 -> 26 | D25: =C25+1 -> 27 | E25: =D25+1 -> 28 | F25: =E25+1 -> 29 | H25: =F25+1 -> 30 | J25: =Q23+1 -> 25 | K25: =J25+1 -> 26 | L25: =K25+1 -> 27 | M25: =L25+1 -> 28 | N25: =M25+1 -> 29 | O25: =N25+1 -> 30 | S25: =Z23+1 -> 25 | T25: =S25+1 -> 26 | U25: =T25+1 -> 27 | V25: =U25+1 -> 28 | W25: =V25+1 -> 29 | X25: =W25+1 -> 30 | Z25: =X25+1 -> 31 | AB25: =AI23+1 -> 24 | AC25: =AB25+1 -> 25 | AD25: =AC25+1 -> 26 | AE25: =AD25+1 -> 27 | AF25: =AE25+1 -> 28 | AG25: =AF25+1 -> 29 | AI25: =AG25+1 -> 30 | AK25: =AR23+1 -> 23 | AL25: =AK25+1 -> 24 | AM25: =AL25+1 -> 25 | AN25: =AM25+1 -> 26 | AO25: =AN25+1 -> 27 | AP25: =AO25+1 -> 28 | AR25: =AP25+1 -> 29
A26: =H24+1 -> 24 | B26: =A26+1 -> 25 | C26: =B26+1 -> 26 | D26: =C26+1 -> 27 | E26: =D26+1 -> 28 | F26: =E26+1 -> 29 | H26: =F26+1 -> 30 | J26: =Q24+1 -> 115 | K26: =J26+1 -> 116 | L26: =K26+1 -> 117 | M26: =L26+1 -> 118 | N26: =M26+1 -> 119 | O26: =N26+1 -> 120 | S26: =Z24+1 -> 206 | T26: =S26+1 -> 207 | U26: =T26+1 -> 208 | V26: =U26+1 -> 209 | W26: =V26+1 -> 210 | X26: =W26+1 -> 211 | Y26: $ | Z26: =X26+1 -> 212 | AB26: =AI24+1 -> 297 | AC26: =AB26+1 -> 298 | AD26: =AC26+1 -> 299 | AE26: =AD26+1 -> 300 | AF26: =AE26+1 -> 301 | AG26: =AF26+1 -> 302 | AI26: =AG26+1 -> 303 | AK26: =AR24+1 -> 388 | AL26: =AK26+1 -> 389 | AM26: =AL26+1 -> 390 | AN26: =AM26+1 -> 391 | AO26: =AN26+1 -> 392 | AP26: =AO26+1 -> 393 | AQ26: $ | AR26: =AP26+1 -> 394
A27: =H25+1 -> 31 | AB27: =AI25+1 -> 31 | AK27: =AR25+1 -> 30 | AL27: =AK27+1 -> 31
A28: =H26+1 -> 31 | AB28: =AI26+1 -> 304 | AK28: =AR26+1 -> 395 | AL28: =AK28+1 -> 396
A30: Vacation Hours Used | E30: Vac. Hours Left | J30: Vacation Hours Used | N30: Vac. Hours Left | S30: Vacation Hours Used | W30: Vac. Hours Left | AB30: Vacation Hours Used | AF30: Vac. Hours Left | AK30: Vacation Hours Used | AO30: Vac. Hours Left
E31: =IF(OR($AE$4=0,$AE$4=""),"",IF((INT($AE$4*100+0.5)-INT(A31*100+0.5))/100=0,"0",(INT($AE$4*100+0.5)-INT(A31*100+0.5))/100)) | N31: =IF(OR($AE$4=0,$AE$4=""),"",IF((INT(E67*100+0.5)-INT(J31*100+0.5))/100=0,"0",(INT(E67*100+0.5)-INT(J31*100+0.5))/100)) | W31: =IF(OR($AE$4=0,$AE$4=""),"",IF((INT(N67*100+0.5)-INT(S31*100+0.5))/100=0,"0",(INT(N67*100+0.5)-INT(S31*100+0.5))/100)) | AF31: =IF(OR($AE$4=0,$AE$4=""),"",IF((INT(W67*100+0.5)-INT(AB31*100+0.5))/100=0,"0",(INT(W67*100+0.5)-INT(AB31*100+0.5))/100)) | AO31: =IF(OR($AE$4=0,$AE$4=""),"",IF((INT(AF67*100+0.5)-INT(AK31*100+0.5))/100=0,"0",(INT(AF67*100+0.5)-INT(AK31*100+0.5))/100))
A33: FEBRUARY | J33: MAY | S33: AUGUST | AB33: NOVEMBER | AK33: FEBRUARY
A34: SU | B34: MON | C34: TUE | D34: WED | E34: THU | F34: FRI | H34: SA | J34: SU | K34: MON | L34: TUE | M34: WED | N34: THU | O34: FRI | Q34: SA | S34: SU | T34: MON | U34: TUE | V34: WED | W34: THU | X34: FRI | Z34: SA | AB34: SU | AC34: MON | AD34: TUE | AE34: WED | AF34: THU | AG34: FRI | AI34: SA | AK34: SU | AL34: MON | AM34: TUE | AN34: WED | AO34: THU | AP34: FRI | AR34: SA
B35: 1 | C35: =B35+1 -> 2 | D35: =C35+1 -> 3 | E35: =D35+1 -> 4 | F35: =E35+1 -> 5 | H35: =F35+1 -> 6 | Q35: 1 | S35: 1 | T35: =S35+1 -> 2 | U35: =T35+1 -> 3 | V35: =U35+1 -> 4 | W35: =V35+1 -> 5 | X35: =W35+1 -> 6 | Z35: =X35+1 -> 7 | AC35: 1 | AD35: =AC35+1 -> 2 | AE35: =AD35+1 -> 3 | AF35: =AE35+1 -> 4 | AG35: =AF35+1 -> 5 | AI35: =AG35+1 -> 6 | AM35: 1 | AN35: =AM35+1 -> 2 | AO35: =AN35+1 -> 3 | AP35: =AO35+1 -> 4 | AR35: =AP35+1 -> 5
B36: =A28+1 -> 32 | C36: =B36+1 -> 33 | D36: =C36+1 -> 34 | E36: =D36+1 -> 35 | F36: =E36+1 -> 36 | G36: $ | H36: =F36+1 -> 37 | Q36: =O26+1 -> 121 | S36: =Z26+1 -> 213 | T36: =S36+1 -> 214 | U36: =T36+1 -> 215 | V36: =U36+1 -> 216 | W36: =V36+1 -> 217 | X36: =W36+1 -> 218 | Z36: =X36+1 -> 219 | AC36: =AB28+1 -> 305 | AD36: =AC36+1 -> 306 | AE36: =AD36+1 -> 307 | AF36: =AE36+1 -> 308 | AG36: =AF36+1 -> 309 | AH36: $ | AI36: =AG36+1 -> 310 | AM36: =AL28+1 -> 397 | AN36: =AM36+1 -> 398 | AO36: =AN36+1 -> 399 | AP36: =AO36+1 -> 400 | AR36: =AP36+1 -> 401
A37: =H35+1 -> 7 | B37: =A37+1 -> 8 | C37: =B37+1 -> 9 | D37: =C37+1 -> 10 | E37: =D37+1 -> 11 | F37: =E37+1 -> 12 | H37: =F37+1 -> 13 | J37: =Q35+1 -> 2 | K37: =J37+1 -> 3 | L37: =K37+1 -> 4 | M37: =L37+1 -> 5 | N37: =M37+1 -> 6 | O37: =N37+1 -> 7 | Q37: =O37+1 -> 8 | S37: =Z35+1 -> 8 | T37: =S37+1 -> 9 | U37: =T37+1 -> 10 | V37: =U37+1 -> 11 | W37: =V37+1 -> 12 | X37: =W37+1 -> 13 | Z37: =X37+1 -> 14 | AB37: =AI35+1 -> 7 | AC37: =AB37+1 -> 8 | AD37: =AC37+1 -> 9 | AE37: =AD37+1 -> 10 | AF37: =AE37+1 -> 11 | AG37: =AF37+1 -> 12 | AI37: =AG37+1 -> 13 | AK37: =AR35+1 -> 6 | AL37: =AK37+1 -> 7 | AM37: =AL37+1 -> 8 | AN37: =AM37+1 -> 9 | AO37: =AN37+1 -> 10 | AP37: =AO37+1 -> 11 | AR37: =AP37+1 -> 12
A38: =H36+1 -> 38 | B38: =A38+1 -> 39 | C38: =B38+1 -> 40 | D38: =C38+1 -> 41 | E38: =D38+1 -> 42 | F38: =E38+1 -> 43 | H38: =F38+1 -> 44 | J38: =Q36+1 -> 122 | K38: =J38+1 -> 123 | L38: =K38+1 -> 124 | M38: =L38+1 -> 125 | N38: =M38+1 -> 126 | O38: =N38+1 -> 127 | P38: $ | Q38: =O38+1 -> 128 | S38: =Z36+1 -> 220 | T38: =S38+1 -> 221 | U38: =T38+1 -> 222 | V38: =U38+1 -> 223 | W38: =V38+1 -> 224 | X38: =W38+1 -> 225 | Y38: $ | Z38: =X38+1 -> 226 | AB38: =AI36+1 -> 311 | AC38: =AB38+1 -> 312 | AD38: =AC38+1 -> 313 | AE38: =AD38+1 -> 314 | AF38: =AE38+1 -> 315 | AG38: =AF38+1 -> 316 | AI38: =AG38+1 -> 317 | AK38: =AR36+1 -> 402 | AL38: =AK38+1 -> 403 | AM38: =AL38+1 -> 404 | AN38: =AM38+1 -> 405 | AO38: =AN38+1 -> 406 | AP38: =AO38+1 -> 407 | AQ38: $ | AR38: =AP38+1 -> 408
A39: =H37+1 -> 14 | B39: =A39+1 -> 15 | C39: =B39+1 -> 16 | D39: =C39+1 -> 17 | E39: =D39+1 -> 18 | F39: =E39+1 -> 19 | H39: =F39+1 -> 20 | J39: =Q37+1 -> 9 | K39: =J39+1 -> 10 | L39: =K39+1 -> 11 | M39: =L39+1 -> 12 | N39: =M39+1 -> 13 | O39: =N39+1 -> 14 | Q39: =O39+1 -> 15 | S39: =Z37+1 -> 15 | T39: =S39+1 -> 16 | U39: =T39+1 -> 17 | V39: =U39+1 -> 18 | W39: =V39+1 -> 19 | X39: =W39+1 -> 20 | Z39: =X39+1 -> 21 | AB39: =AI37+1 -> 14 | AC39: =AB39+1 -> 15 | AD39: =AC39+1 -> 16 | AE39: =AD39+1 -> 17 | AF39: =AE39+1 -> 18 | AG39: =AF39+1 -> 19 | AI39: =AG39+1 -> 20 | AK39: =AR37+1 -> 13 | AL39: =AK39+1 -> 14 | AM39: =AL39+1 -> 15 | AN39: =AM39+1 -> 16 | AO39: =AN39+1 -> 17 | AP39: =AO39+1 -> 18 | AR39: =AP39+1 -> 19
A40: =H38+1 -> 45 | B40: =A40+1 -> 46 | C40: =B40+1 -> 47 | D40: =C40+1 -> 48 | E40: =D40+1 -> 49 | F40: =E40+1 -> 50 | G40: $ | H40: =F40+1 -> 51 | J40: =Q38+1 -> 129 | K40: =J40+1 -> 130 | L40: =K40+1 -> 131 | M40: =L40+1 -> 132 | N40: =M40+1 -> 133 | O40: =N40+1 -> 134 | Q40: =O40+1 -> 135 | S40: =Z38+1 -> 227 | T40: =S40+1 -> 228 | U40: =T40+1 -> 229 | V40: =U40+1 -> 230 | W40: =V40+1 -> 231 | X40: =W40+1 -> 232 | Z40: =X40+1 -> 233 | AB40: =AI38+1 -> 318 | AC40: =AB40+1 -> 319 | AD40: =AC40+1 -> 320 | AE40: =AD40+1 -> 321 | AF40: =AE40+1 -> 322 | AG40: =AF40+1 -> 323 | AH40: $ | AI40: =AG40+1 -> 324 | AK40: =AR38+1 -> 409 | AL40: =AK40+1 -> 410 | AM40: =AL40+1 -> 411 | AN40: =AM40+1 -> 412 | AO40: =AN40+1 -> 413 | AP40: =AO40+1 -> 414 | AR40: =AP40+1 -> 415
A41: =H39+1 -> 21 | B41: =A41+1 -> 22 | C41: =B41+1 -> 23 | D41: =C41+1 -> 24 | E41: =D41+1 -> 25 | F41: =E41+1 -> 26 | H41: =F41+1 -> 27 | J41: =Q39+1 -> 16 | K41: =J41+1 -> 17 | L41: =K41+1 -> 18 | M41: =L41+1 -> 19 | N41: =M41+1 -> 20 | O41: =N41+1 -> 21 | Q41: =O41+1 -> 22 | S41: =Z39+1 -> 22 | T41: =S41+1 -> 23 | U41: =T41+1 -> 24 | V41: =U41+1 -> 25 | W41: =V41+1 -> 26 | X41: =W41+1 -> 27 | Z41: =X41+1 -> 28 | AB41: =AI39+1 -> 21 | AC41: =AB41+1 -> 22 | AD41: =AC41+1 -> 23 | AE41: =AD41+1 -> 24 | AF41: =AE41+1 -> 25 | AG41: =AF41+1 -> 26 | AI41: =AG41+1 -> 27 | AK41: =AR39+1 -> 20 | AL41: =AK41+1 -> 21 | AM41: =AL41+1 -> 22 | AN41: =AM41+1 -> 23 | AO41: =AN41+1 -> 24 | AP41: =AO41+1 -> 25 | AR41: =AP41+1 -> 26
A42: =H40+1 -> 52 | B42: =A42+1 -> 53 | C42: =B42+1 -> 54 | D42: =C42+1 -> 55 | E42: =D42+1 -> 56 | F42: =E42+1 -> 57 | H42: =F42+1 -> 58 | J42: =Q40+1 -> 136 | K42: =J42+1 -> 137 | L42: =K42+1 -> 138 | M42: =L42+1 -> 139 | N42: =M42+1 -> 140 | O42: =N42+1 -> 141 | P42: $ | Q42: =O42+1 -> 142 | S42: =Z40+1 -> 234 | T42: =S42+1 -> 235 | U42: =T42+1 -> 236 | V42: =U42+1 -> 237 | W42: =V42+1 -> 238 | X42: =W42+1 -> 239 | Y42: $ | Z42: =X42+1 -> 240 | AB42: =AI40+1 -> 325 | AC42: =AB42+1 -> 326 | AD42: =AC42+1 -> 327 | AE42: =AD42+1 -> 328 | AF42: =AE42+1 -> 329 | AG42: =AF42+1 -> 330 | AI42: =AG42+1 -> 331 | AK42: =AR40+1 -> 416 | AL42: =AK42+1 -> 417 | AM42: =AL42+1 -> 418 | AN42: =AM42+1 -> 419 | AO42: =AN42+1 -> 420 | AP42: =AO42+1 -> 421 | AQ42: $ | AR42: =AP42+1 -> 422
A43: =H41+1 -> 28 | J43: =Q41+1 -> 23 | K43: =J43+1 -> 24 | L43: =K43+1 -> 25 | M43: =L43+1 -> 26 | N43: =M43+1 -> 27 | O43: =N43+1 -> 28 | Q43: =O43+1 -> 29 | S43: =Z41+1 -> 29 | T43: =S43+1 -> 30 | U43: =T43+1 -> 31 | AB43: =AI41+1 -> 28 | AC43: =AB43+1 -> 29 | AD43: =AC43+1 -> 30 | AK43: =AR41+1 -> 27 | AL43: =AK43+1 -> 28
A44: =H42+1 -> 59 | J44: =Q42+1 -> 143 | K44: =J44+1 -> 144 | L44: =K44+1 -> 145 | M44: =L44+1 -> 146 | N44: =M44+1 -> 147 | O44: =N44+1 -> 148 | Q44: =O44+1 -> 149 | S44: =Z42+1 -> 241 | T44: =S44+1 -> 242 | U44: =T44+1 -> 243 | AB44: =AI42+1 -> 332 | AC44: =AB44+1 -> 333 | AD44: =AC44+1 -> 334 | AK44: =AR42+1 -> 423 | AL44: =AK44+1 -> 424
J45: =Q43+1 -> 30 | K45: =J45+1 -> 31
J46: =Q44+1 -> 150 | K46: =J46+1 -> 151
A48: Vacation Hours Used | E48: Vac. Hours Left | J48: Vacation Hours Used | N48: Vac. Hours Left | S48: Vacation Hours Used | W48: Vac. Hours Left | AB48: Vacation Hours Used | AF48: Vac. Hours Left | AK48: Vacation Hours Used | AO48: Vac. Hours Left
E49: =IF(OR($AE$4=0,$AE$4=""),"",IF((INT(E31*100+0.5)-INT(A49*100+0.5))/100=0,"0",(INT(E31*100+0.5)-INT(A49*100+0.5))/100)) | N49: =IF(OR($AE$4=0,$AE$4=""),"",IF((INT(N31*100+0.5)-INT(J49*100+0.5))/100=0,"0",(INT(N31*100+0.5)-INT(J49*100+0.5))/100)) | W49: =IF(OR($AE$4=0,$AE$4=""),"",IF((INT(W31*100+0.5)-INT(S49*100+0.5))/100=0,"0",(INT(W31*100+0.5)-INT(S49*100+0.5))/100)) | AF49: =IF(OR($AE$4=0,$AE$4=""),"",IF((INT(AF31*100+0.5)-INT(AB49*100+0.5))/100=0,"0",(INT(AF31*100+0.5)-INT(AB49*100+0.5))/100)) | AO49: =IF(OR($AE$4=0,$AE$4=""),"",IF((INT(AO31*100+0.5)-INT(AK49*100+0.5))/100=0,"0",(INT(AO31*100+0.5)-INT(AK49*100+0.5))/100))
A51: MARCH | J51: JUNE | S51: SEPTEMBER | AB51: DECEMBER | AK51: MARCH
A52: SU | B52: MON | C52: TUE | D52: WED | E52: THU | F52: FRI | H52: SA | J52: SU | K52: MON | L52: TUE | M52: WED | N52: THU | O52: FRI | Q52: SA | S52: SU | T52: MON | U52: TUE | V52: WED | W52: THU | X52: FRI | Z52: SA | AB52: SU | AC52: MON | AD52: TUE | AE52: WED | AF52: THU | AG52: FRI | AI52: SA | AK52: SU | AL52: MON | AM52: TUE | AN52: WED | AO52: THU | AP52: FRI | AR52: SA
B53: =A53+1 -> 1 | C53: =B53+1 -> 2 | D53: =C53+1 -> 3 | E53: =D53+1 -> 4 | F53: =E53+1 -> 5 | H53: =F53+1 -> 6 | L53: =K53+1 -> 1 | M53: =L53+1 -> 2 | N53: =M53+1 -> 3 | O53: =N53+1 -> 4 | Q53: =O53+1 -> 5 | V53: 1 | W53: =V53+1 -> 2 | X53: =W53+1 -> 3 | Z53: =X53+1 -> 4 | AE53: 1 | AF53: =AE53+1 -> 2 | AG53: =AF53+1 -> 3 | AI53: =AG53+1 -> 4 | AM53: =AL53+1 -> 1 | AN53: =AM53+1 -> 2 | AO53: =AN53+1 -> 3 | AP53: =AO53+1 -> 4 | AR53: =AP53+1 -> 5
B54: =A44+1 -> 60 | C54: =B54+1 -> 61 | D54: =C54+1 -> 62 | E54: =D54+1 -> 63 | F54: =E54+1 -> 64 | G54: $ | H54: =F54+1 -> 65 | L54: =K46+1 -> 152 | M54: =L54+1 -> 153 | N54: =M54+1 -> 154 | O54: =N54+1 -> 155 | P54: $ | Q54: =O54+1 -> 156 | V54: =U44+1 -> 244 | W54: =V54+1 -> 245 | X54: =W54+1 -> 246 | Z54: =X54+1 -> 247 | AE54: =AD44+1 -> 335 | AF54: =AE54+1 -> 336 | AG54: =AF54+1 -> 337 | AH54: $ | AI54: =AG54+1 -> 338 | AM54: =AL44+1 -> 425 | AN54: =AM54+1 -> 426 | AO54: =AN54+1 -> 427 | AP54: =AO54+1 -> 428 | AR54: =AP54+1 -> 429
A55: =H53+1 -> 7 | B55: =A55+1 -> 8 | C55: =B55+1 -> 9 | D55: =C55+1 -> 10 | E55: =D55+1 -> 11 | F55: =E55+1 -> 12 | H55: =F55+1 -> 13 | J55: =Q53+1 -> 6 | K55: =J55+1 -> 7 | L55: =K55+1 -> 8 | M55: =L55+1 -> 9 | N55: =M55+1 -> 10 | O55: =N55+1 -> 11 | Q55: =O55+1 -> 12 | S55: =Z53+1 -> 5 | T55: =S55+1 -> 6 | U55: =T55+1 -> 7 | V55: =U55+1 -> 8 | W55: =V55+1 -> 9 | X55: =W55+1 -> 10 | Z55: =X55+1 -> 11 | AB55: =AI53+1 -> 5 | AC55: =AB55+1 -> 6 | AD55: =AC55+1 -> 7 | AE55: =AD55+1 -> 8 | AF55: =AE55+1 -> 9 | AG55: =AF55+1 -> 10 | AI55: =AG55+1 -> 11 | AK55: =AR53+1 -> 6 | AL55: =AK55+1 -> 7 | AM55: =AL55+1 -> 8 | AN55: =AM55+1 -> 9 | AO55: =AN55+1 -> 10 | AP55: =AO55+1 -> 11 | AR55: =AP55+1 -> 12
A56: =H54+1 -> 66 | B56: =A56+1 -> 67 | C56: =B56+1 -> 68 | D56: =C56+1 -> 69 | E56: =D56+1 -> 70 | F56: =E56+1 -> 71 | H56: =F56+1 -> 72 | J56: =Q54+1 -> 157 | K56: =J56+1 -> 158 | L56: =K56+1 -> 159 | M56: =L56+1 -> 160 | N56: =M56+1 -> 161 | O56: =N56+1 -> 162 | Q56: =O56+1 -> 163 | S56: =Z54+1 -> 248 | T56: =S56+1 -> 249 | U56: =T56+1 -> 250 | V56: =U56+1 -> 251 | W56: =V56+1 -> 252 | X56: =W56+1 -> 253 | Y56: $ | Z56: =X56+1 -> 254 | AB56: =AI54+1 -> 339 | AC56: =AB56+1 -> 340 | AD56: =AC56+1 -> 341 | AE56: =AD56+1 -> 342 | AF56: =AE56+1 -> 343 | AG56: =AF56+1 -> 344 | AI56: =AG56+1 -> 345 | AK56: =AR54+1 -> 430 | AL56: =AK56+1 -> 431 | AM56: =AL56+1 -> 432 | AN56: =AM56+1 -> 433 | AO56: =AN56+1 -> 434 | AP56: =AO56+1 -> 435 | AQ56: $ | AR56: =AP56+1 -> 436
A57: =H55+1 -> 14 | B57: =A57+1 -> 15 | C57: =B57+1 -> 16 | D57: =C57+1 -> 17 | E57: =D57+1 -> 18 | F57: =E57+1 -> 19 | H57: =F57+1 -> 20 | J57: =Q55+1 -> 13 | K57: =J57+1 -> 14 | L57: =K57+1 -> 15 | M57: =L57+1 -> 16 | N57: =M57+1 -> 17 | O57: =N57+1 -> 18 | Q57: =O57+1 -> 19 | S57: =Z55+1 -> 12 | T57: =S57+1 -> 13 | U57: =T57+1 -> 14 | V57: =U57+1 -> 15 | W57: =V57+1 -> 16 | X57: =W57+1 -> 17 | Z57: =X57+1 -> 18 | AB57: =AI55+1 -> 12 | AC57: =AB57+1 -> 13 | AD57: =AC57+1 -> 14 | AE57: =AD57+1 -> 15 | AF57: =AE57+1 -> 16 | AG57: =AF57+1 -> 17 | AI57: =AG57+1 -> 18 | AK57: =AR55+1 -> 13 | AL57: =AK57+1 -> 14 | AM57: =AL57+1 -> 15 | AN57: =AM57+1 -> 16 | AO57: =AN57+1 -> 17 | AP57: =AO57+1 -> 18 | AR57: =AP57+1 -> 19
A58: =H56+1 -> 73 | B58: =A58+1 -> 74 | C58: =B58+1 -> 75 | D58: =C58+1 -> 76 | E58: =D58+1 -> 77 | F58: =E58+1 -> 78 | G58: $ | H58: =F58+1 -> 79 | J58: =Q56+1 -> 164 | K58: =J58+1 -> 165 | L58: =K58+1 -> 166 | M58: =L58+1 -> 167 | N58: =M58+1 -> 168 | O58: =N58+1 -> 169 | P58: $ | Q58: =O58+1 -> 170 | S58: =Z56+1 -> 255 | T58: =S58+1 -> 256 | U58: =T58+1 -> 257 | V58: =U58+1 -> 258 | W58: =V58+1 -> 259 | X58: =W58+1 -> 260 | Z58: =X58+1 -> 261 | AB58: =AI56+1 -> 346 | AC58: =AB58+1 -> 347 | AD58: =AC58+1 -> 348 | AE58: =AD58+1 -> 349 | AF58: =AE58+1 -> 350 | AG58: =AF58+1 -> 351 | AH58: $ | AI58: =AG58+1 -> 352 | AK58: =AR56+1 -> 437 | AL58: =AK58+1 -> 438 | AM58: =AL58+1 -> 439 | AN58: =AM58+1 -> 440 | AO58: =AN58+1 -> 441 | AP58: =AO58+1 -> 442 | AR58: =AP58+1 -> 443
A59: =H57+1 -> 21 | B59: =A59+1 -> 22 | C59: =B59+1 -> 23 | D59: =C59+1 -> 24 | E59: =D59+1 -> 25 | F59: =E59+1 -> 26 | H59: =F59+1 -> 27 | J59: =Q57+1 -> 20 | K59: =J59+1 -> 21 | L59: =K59+1 -> 22 | M59: =L59+1 -> 23 | N59: =M59+1 -> 24 | O59: =N59+1 -> 25 | Q59: =O59+1 -> 26 | S59: =Z57+1 -> 19 | T59: =S59+1 -> 20 | U59: =T59+1 -> 21 | V59: =U59+1 -> 22 | W59: =V59+1 -> 23 | X59: =W59+1 -> 24 | Z59: =X59+1 -> 25 | AB59: =AI57+1 -> 19 | AC59: =AB59+1 -> 20 | AD59: =AC59+1 -> 21 | AE59: =AD59+1 -> 22 | AF59: =AE59+1 -> 23 | AG59: =AF59+1 -> 24 | AI59: =AG59+1 -> 25 | AK59: =AR57+1 -> 20 | AL59: =AK59+1 -> 21 | AM59: =AL59+1 -> 22 | AN59: =AM59+1 -> 23 | AO59: =AN59+1 -> 24 | AP59: =AO59+1 -> 25 | AR59: =AP59+1 -> 26
A60: =H58+1 -> 80 | B60: =A60+1 -> 81 | C60: =B60+1 -> 82 | D60: =C60+1 -> 83 | E60: =D60+1 -> 84 | F60: =E60+1 -> 85 | H60: =F60+1 -> 86 | J60: =Q58+1 -> 171 | K60: =J60+1 -> 172 | L60: =K60+1 -> 173 | M60: =L60+1 -> 174 | N60: =M60+1 -> 175 | O60: =N60+1 -> 176 | Q60: =O60+1 -> 177 | S60: =Z58+1 -> 262 | T60: =S60+1 -> 263 | U60: =T60+1 -> 264 | V60: =U60+1 -> 265 | W60: =V60+1 -> 266 | X60: =W60+1 -> 267 | Y60: $ | Z60: =X60+1 -> 268 | AB60: =AI58+1 -> 353 | AC60: =AB60+1 -> 354 | AD60: =AC60+1 -> 355 | AE60: =AD60+1 -> 356 | AF60: =AE60+1 -> 357 | AG60: =AF60+1 -> 358 | AI60: =AG60+1 -> 359 | AK60: =AR58+1 -> 444 | AL60: =AK60+1 -> 445 | AM60: =AL60+1 -> 446 | AN60: =AM60+1 -> 447 | AO60: =AN60+1 -> 448 | AP60: =AO60+1 -> 449 | AQ60: $ | AR60: =AP60+1 -> 450
A61: =H59+1 -> 28 | B61: =A61+1 -> 29 | C61: =B61+1 -> 30 | D61: =C61+1 -> 31 | J61: =Q59+1 -> 27 | K61: =J61+1 -> 28 | L61: =K61+1 -> 29 | M61: =L61+1 -> 30 | S61: =Z59+1 -> 26 | T61: =S61+1 -> 27 | U61: =T61+1 -> 28 | V61: =U61+1 -> 29 | W61: =V61+1 -> 30 | AB61: =AI59+1 -> 26 | AC61: =AB61+1 -> 27 | AD61: =AC61+1 -> 28 | AE61: =AD61+1 -> 29 | AF61: =AE61+1 -> 30 | AG61: =AF61+1 -> 31 | AK61: =AR59+1 -> 27 | AL61: =AK61+1 -> 28 | AM61: =AL61+1 -> 29 | AN61: =AM61+1 -> 30 | AO61: =AN61+1 -> 31
A62: =H60+1 -> 87 | B62: =A62+1 -> 88 | C62: =B62+1 -> 89 | D62: =C62+1 -> 90 | J62: =Q60+1 -> 178 | K62: =J62+1 -> 179 | L62: =K62+1 -> 180 | M62: =L62+1 -> 181 | S62: =Z60+1 -> 269 | T62: =S62+1 -> 270 | U62: =T62+1 -> 271 | V62: =U62+1 -> 272 | W62: =V62+1 -> 273 | AB62: =AI60+1 -> 360 | AC62: =AB62+1 -> 361 | AD62: =AC62+1 -> 362 | AE62: =AD62+1 -> 363 | AF62: =AE62+1 -> 364 | AG62: =AF62+1 -> 365 | AH62: $ | AK62: =AR60+1 -> 451 | AL62: =AK62+1 -> 452 | AM62: =AL62+1 -> 453 | AN62: =AM62+1 -> 454 | AO62: =AN62+1 -> 455
A66: Vacation Hours Used | E66: Vac. Hours Left | J66: Vacation Hours Used | N66: Vac. Hours Left | S66: Vacation Hours Used | W66: Vac. Hours Left | AB66: Vacation Hours Used | AF66: Vac. Hours Left | AK66: Vacation Hours Used | AO66: Vac. Hours Left
E67: =IF(OR($AE$4=0,$AE$4=""),"",IF((INT(E49*100+0.5)-INT(A67*100+0.5))/100=0,"0",(INT(E49*100+0.5)-INT(A67*100+0.5))/100)) | N67: =IF(OR($AE$4=0,$AE$4=""),"",IF((INT(N49*100+0.5)-INT(J67*100+0.5))/100=0,"0",(INT(N49*100+0.5)-INT(J67*100+0.5))/100)) | W67: =IF(OR($AE$4=0,$AE$4=""),"",IF((INT(W49*100+0.5)-INT(S67*100+0.5))/100=0,"0",(INT(W49*100+0.5)-INT(S67*100+0.5))/100)) | AF67: =IF(OR($AE$4=0,$AE$4=""),"",IF((INT(AF49*100+0.5)-INT(AB67*100+0.5))/100=0,"0",(INT(AF49*100+0.5)-INT(AB67*100+0.5))/100)) | AO67: =IF(OR($AE$4=0,$AE$4=""),"",IF((INT(AO49*100+0.5)-INT(AK67*100+0.5))/100=0,"0",(INT(AO49*100+0.5)-INT(AK67*100+0.5))/100))
A68: 40085 | C68: KW

Sheet 15 Mo Portrait
Q2: Paylist Number | U2: Vacation Hours Carried Over from Previous Year | Y2: Vacation Hours Allotted for Current Year | AE2: Total Number of Vacation Hours Available | AV2: Total Vacation Hours
AV3: =IF(AND($U$4="",$Y$4=""),"",$U$4+IF($Y$4="","0",$Y$4))
Y4: =IF(AG8="","",AG8*7) | AE4: =IF(AND(U4="",Y4=""),"",U4+IF(Y4="","0",Y4))
A6: Fill-in the three fields below to automatically calculate vacation hours allotted for current year | AF6: Date-time Code Difference | AG6: =O8-O7 -> 0
N7: Employee Leave Service Date (yyyy/mm/dd): | AF7: Years Service for Holidays | AG7: =IF(AG6<=0,"",YEAR(AG6)+1-1900)
N8: Current Year's Leave Service Anniversary Date(yyyy/mm/dd) (update annually): | AF8: Number of 7 hr Days Holiday Allotted for Current Year | AG8: =IF(AG6<=0,"",IF(ISBLANK(AG7),"",VLOOKUP(AG7,Vacation_Entitlement,2)))
N9: Enter number of hours worked per day | Y9: =IF(O9="","",O9) | AF9: Hour Days Holiday Available | AG9: =IF(O9="","",AE4/O9)
J12: =Master!Q12 -> 2012 | N12: CALENDAR
A15: JANUARY | J15: FEBRUARY | S15: MARCH
A16: SU | B16: MON | C16: TUE | D16: WED | E16: THU | F16: FRI | H16: SA | J16: SU | K16: MON | L16: TUE | M16: WED | N16: THU | O16: FRI | Q16: SA | S16: SU | T16: MON | U16: TUE | V16: WED | W16: THU | X16: FRI | Z16: SA
F17: 1 | H17: =F17+1 -> 2 | K17: 1 | L17: =K17+1 -> 2 | M17: =L17+1 -> 3 | N17: =M17+1 -> 4 | O17: =N17+1 -> 5 | Q17: =O17+1 -> 6 | T17: =S17+1 -> 1 | U17: =T17+1 -> 2 | V17: =U17+1 -> 3 | W17: =V17+1 -> 4 | X17: =W17+1 -> 5 | Z17: =X17+1 -> 6
F18: =E18+1 -> 1 | H18: =F18+1 -> 2 | K18: =A28+1 -> 32 | L18: =K18+1 -> 33 | M18: =L18+1 -> 34 | N18: =M18+1 -> 35 | O18: =N18+1 -> 36 | P18: $ | Q18: =O18+1 -> 37 | T18: =J26+1 -> 60 | U18: =T18+1 -> 61 | V18: =U18+1 -> 62 | W18: =V18+1 -> 63 | X18: =W18+1 -> 64 | Y18: $ | Z18: =X18+1 -> 65
A19: =H17+1 -> 3 | B19: =A19+1 -> 4 | C19: =B19+1 -> 5 | D19: =C19+1 -> 6 | E19: =D19+1 -> 7 | F19: =E19+1 -> 8 | H19: =F19+1 -> 9 | J19: =Q17+1 -> 7 | K19: =J19+1 -> 8 | L19: =K19+1 -> 9 | M19: =L19+1 -> 10 | N19: =M19+1 -> 11 | O19: =N19+1 -> 12 | Q19: =O19+1 -> 13 | S19: =Z17+1 -> 7 | T19: =S19+1 -> 8 | U19: =T19+1 -> 9 | V19: =U19+1 -> 10 | W19: =V19+1 -> 11 | X19: =W19+1 -> 12 | Z19: =X19+1 -> 13
A20: =H18+1 -> 3 | B20: =A20+1 -> 4 | C20: =B20+1 -> 5 | D20: =C20+1 -> 6 | E20: =D20+1 -> 7 | F20: =E20+1 -> 8 | G20: $ | H20: =F20+1 -> 9 | J20: =Q18+1 -> 38 | K20: =J20+1 -> 39 | L20: =K20+1 -> 40 | M20: =L20+1 -> 41 | N20: =M20+1 -> 42 | O20: =N20+1 -> 43 | Q20: =O20+1 -> 44 | S20: =Z18+1 -> 66 | T20: =S20+1 -> 67 | U20: =T20+1 -> 68 | V20: =U20+1 -> 69 | W20: =V20+1 -> 70 | X20: =W20+1 -> 71 | Z20: =X20+1 -> 72
A21: =H19+1 -> 10 | B21: =A21+1 -> 11 | C21: =B21+1 -> 12 | D21: =C21+1 -> 13 | E21: =D21+1 -> 14 | F21: =E21+1 -> 15 | H21: =F21+1 -> 16 | J21: =Q19+1 -> 14 | K21: =J21+1 -> 15 | L21: =K21+1 -> 16 | M21: =L21+1 -> 17 | N21: =M21+1 -> 18 | O21: =N21+1 -> 19 | Q21: =O21+1 -> 20 | S21: =Z19+1 -> 14 | T21: =S21+1 -> 15 | U21: =T21+1 -> 16 | V21: =U21+1 -> 17 | W21: =V21+1 -> 18 | X21: =W21+1 -> 19 | Z21: =X21+1 -> 20
A22: =H20+1 -> 10 | B22: =A22+1 -> 11 | C22: =B22+1 -> 12 | D22: =C22+1 -> 13 | E22: =D22+1 -> 14 | F22: =E22+1 -> 15 | H22: =F22+1 -> 16 | J22: =Q20+1 -> 45 | K22: =J22+1 -> 46 | L22: =K22+1 -> 47 | M22: =L22+1 -> 48 | N22: =M22+1 -> 49 | O22: =N22+1 -> 50 | P22: $ | Q22: =O22+1 -> 51 | S22: =Z20+1 -> 73 | T22: =S22+1 -> 74 | U22: =T22+1 -> 75 | V22: =U22+1 -> 76 | W22: =V22+1 -> 77 | X22: =W22+1 -> 78 | Y22: $ | Z22: =X22+1 -> 79
A23: =H21+1 -> 17 | B23: =A23+1 -> 18 | C23: =B23+1 -> 19 | D23: =C23+1 -> 20 | E23: =D23+1 -> 21 | F23: =E23+1 -> 22 | H23: =F23+1 -> 23 | J23: =Q21+1 -> 21 | K23: =J23+1 -> 22 | L23: =K23+1 -> 23 | M23: =L23+1 -> 24 | N23: =M23+1 -> 25 | O23: =N23+1 -> 26 | Q23: =O23+1 -> 27 | S23: =Z21+1 -> 21 | T23: =S23+1 -> 22 | U23: =T23+1 -> 23 | V23: =U23+1 -> 24 | W23: =V23+1 -> 25 | X23: =W23+1 -> 26 | Z23: =X23+1 -> 27
A24: =H22+1 -> 17 | B24: =A24+1 -> 18 | C24: =B24+1 -> 19 | D24: =C24+1 -> 20 | E24: =D24+1 -> 21 | F24: =E24+1 -> 22 | G24: $ | H24: =F24+1 -> 23 | J24: =Q22+1 -> 52 | K24: =J24+1 -> 53 | L24: =K24+1 -> 54 | M24: =L24+1 -> 55 | N24: =M24+1 -> 56 | O24: =N24+1 -> 57 | Q24: =O24+1 -> 58 | S24: =Z22+1 -> 80 | T24: =S24+1 -> 81 | U24: =T24+1 -> 82 | V24: =U24+1 -> 83 | W24: =V24+1 -> 84 | X24: =W24+1 -> 85 | Z24: =X24+1 -> 86
A25: =H23+1 -> 24 | B25: =A25+1 -> 25 | C25: =B25+1 -> 26 | D25: =C25+1 -> 27 | E25: =D25+1 -> 28 | F25: =E25+1 -> 29 | H25: =F25+1 -> 30 | J25: =Q23+1 -> 28 | S25: =Z23+1 -> 28 | T25: =S25+1 -> 29 | U25: =T25+1 -> 30 | V25: =U25+1 -> 31
A26: =H24+1 -> 24 | B26: =A26+1 -> 25 | C26: =B26+1 -> 26 | D26: =C26+1 -> 27 | E26: =D26+1 -> 28 | F26: =E26+1 -> 29 | H26: =F26+1 -> 30 | J26: =Q24+1 -> 59 | S26: =Z24+1 -> 87 | T26: =S26+1 -> 88 | U26: =T26+1 -> 89 | V26: =U26+1 -> 90
A27: =H25+1 -> 31
A28: =H26+1 -> 31
A30: Vacation Hours Used | E30: Vac. Hours Left | J30: Vacation Hours Used | N30: Vac. Hours Left | S30: Vacation Hours Used | W30: Vac. Hours Left
E31: =IF(OR($AE$4=0,$AE$4=""),"",IF((INT($AE$4*100+0.5)-INT(A31*100+0.5))/100=0,"0",(INT($AE$4*100+0.5)-INT(A31*100+0.5))/100)) | N31: =IF(OR($AE$4=0,$AE$4=""),"",IF((INT(N13*100+0.5)-INT(J31*100+0.5))/100=0,"0",(INT(N13*100+0.5)-INT(J31*100+0.5))/100)) | W31: =IF(OR($AE$4=0,$AE$4=""),"",IF((INT(W13*100+0.5)-INT(S31*100+0.5))/100=0,"0",(INT(W13*100+0.5)-INT(S31*100+0.5))/100))
A33: APRIL | J33: MAY | S33: JUNE
A34: SU | B34: MON | C34: TUE | D34: WED | E34: THU | F34: FRI | H34: SA | J34: SU | K34: MON | L34: TUE | M34: WED | N34: THU | O34: FRI | Q34: SA | S34: SU | T34: MON | U34: TUE | V34: WED | W34: THU | X34: FRI | Z34: SA
E35: =D35+1 -> 1 | F35: =E35+1 -> 2 | H35: =F35+1 -> 3 | Q35: 1 | U35: =T35+1 -> 1 | V35: =U35+1 -> 2 | W35: =V35+1 -> 3 | X35: =W35+1 -> 4 | Z35: =X35+1 -> 5
E36: =V26+1 -> 91 | F36: =E36+1 -> 92 | H36: =F36+1 -> 93 | Q36: =F44+1 -> 121 | U36: =K46+1 -> 152 | V36: =U36+1 -> 153 | W36: =V36+1 -> 154 | X36: =W36+1 -> 155 | Z36: =X36+1 -> 156
A37: =H35+1 -> 4 | B37: =A37+1 -> 5 | C37: =B37+1 -> 6 | D37: =C37+1 -> 7 | E37: =D37+1 -> 8 | F37: =E37+1 -> 9 | H37: =F37+1 -> 10 | J37: =Q35+1 -> 2 | K37: =J37+1 -> 3 | L37: =K37+1 -> 4 | M37: =L37+1 -> 5 | N37: =M37+1 -> 6 | O37: =N37+1 -> 7 | Q37: =O37+1 -> 8 | S37: =Z35+1 -> 6 | T37: =S37+1 -> 7 | U37: =T37+1 -> 8 | V37: =U37+1 -> 9 | W37: =V37+1 -> 10 | X37: =W37+1 -> 11 | Z37: =X37+1 -> 12
A38: =H36+1 -> 94 | B38: =A38+1 -> 95 | C38: =B38+1 -> 96 | D38: =C38+1 -> 97 | E38: =D38+1 -> 98 | F38: =E38+1 -> 99 | H38: =F38+1 -> 100 | J38: =Q36+1 -> 122 | K38: =J38+1 -> 123 | L38: =K38+1 -> 124 | M38: =L38+1 -> 125 | N38: =M38+1 -> 126 | O38: =N38+1 -> 127 | Q38: =O38+1 -> 128 | S38: =Z36+1 -> 157 | T38: =S38+1 -> 158 | U38: =T38+1 -> 159 | V38: =U38+1 -> 160 | W38: =V38+1 -> 161 | X38: =W38+1 -> 162 | Y38: $ | Z38: =X38+1 -> 163
A39: =H37+1 -> 11 | B39: =A39+1 -> 12 | C39: =B39+1 -> 13 | D39: =C39+1 -> 14 | E39: =D39+1 -> 15 | F39: =E39+1 -> 16 | H39: =F39+1 -> 17 | J39: =Q37+1 -> 9 | K39: =J39+1 -> 10 | L39: =K39+1 -> 11 | M39: =L39+1 -> 12 | N39: =M39+1 -> 13 | O39: =N39+1 -> 14 | Q39: =O39+1 -> 15 | S39: =Z37+1 -> 13 | T39: =S39+1 -> 14 | U39: =T39+1 -> 15 | V39: =U39+1 -> 16 | W39: =V39+1 -> 17 | X39: =W39+1 -> 18 | Z39: =X39+1 -> 19
A40: =H38+1 -> 101 | B40: =A40+1 -> 102 | C40: =B40+1 -> 103 | D40: =C40+1 -> 104 | E40: =D40+1 -> 105 | F40: =E40+1 -> 106 | G40: $ | H40: =F40+1 -> 107 | J40: =Q38+1 -> 129 | K40: =J40+1 -> 130 | L40: =K40+1 -> 131 | M40: =L40+1 -> 132 | N40: =M40+1 -> 133 | O40: =N40+1 -> 134 | P40: $ | Q40: =O40+1 -> 135 | S40: =Z38+1 -> 164 | T40: =S40+1 -> 165 | U40: =T40+1 -> 166 | V40: =U40+1 -> 167 | W40: =V40+1 -> 168 | X40: =W40+1 -> 169 | Z40: =X40+1 -> 170
A41: =H39+1 -> 18 | B41: =A41+1 -> 19 | C41: =B41+1 -> 20 | D41: =C41+1 -> 21 | E41: =D41+1 -> 22 | F41: =E41+1 -> 23 | H41: =F41+1 -> 24 | J41: =Q39+1 -> 16 | K41: =J41+1 -> 17 | L41: =K41+1 -> 18 | M41: =L41+1 -> 19 | N41: =M41+1 -> 20 | O41: =N41+1 -> 21 | Q41: =O41+1 -> 22 | S41: =Z39+1 -> 20 | T41: =S41+1 -> 21 | U41: =T41+1 -> 22 | V41: =U41+1 -> 23 | W41: =V41+1 -> 24 | X41: =W41+1 -> 25 | Z41: =X41+1 -> 26
A42: =H40+1 -> 108 | B42: =A42+1 -> 109 | C42: =B42+1 -> 110 | D42: =C42+1 -> 111 | E42: =D42+1 -> 112 | F42: =E42+1 -> 113 | H42: =F42+1 -> 114 | J42: =Q40+1 -> 136 | K42: =J42+1 -> 137 | L42: =K42+1 -> 138 | M42: =L42+1 -> 139 | N42: =M42+1 -> 140 | O42: =N42+1 -> 141 | Q42: =O42+1 -> 142 | S42: =Z40+1 -> 171 | T42: =S42+1 -> 172 | U42: =T42+1 -> 173 | V42: =U42+1 -> 174 | W42: =V42+1 -> 175 | X42: =W42+1 -> 176 | Y42: $ | Z42: =X42+1 -> 177
A43: =H41+1 -> 25 | B43: =A43+1 -> 26 | C43: =B43+1 -> 27 | D43: =C43+1 -> 28 | E43: =D43+1 -> 29 | F43: =E43+1 -> 30 | J43: =Q41+1 -> 23 | K43: =J43+1 -> 24 | L43: =K43+1 -> 25 | M43: =L43+1 -> 26 | N43: =M43+1 -> 27 | O43: =N43+1 -> 28 | Q43: =O43+1 -> 29 | S43: =Z41+1 -> 27 | T43: =S43+1 -> 28 | U43: =T43+1 -> 29 | V43: =U43+1 -> 30
A44: =H42+1 -> 115 | B44: =A44+1 -> 116 | C44: =B44+1 -> 117 | D44: =C44+1 -> 118 | E44: =D44+1 -> 119 | F44: =E44+1 -> 120 | G44: $ | J44: =Q42+1 -> 143 | K44: =J44+1 -> 144 | L44: =K44+1 -> 145 | M44: =L44+1 -> 146 | N44: =M44+1 -> 147 | O44: =N44+1 -> 148 | P44: $ | Q44: =O44+1 -> 149 | S44: =Z42+1 -> 178 | T44: =S44+1 -> 179 | U44: =T44+1 -> 180 | V44: =U44+1 -> 181
J45: =Q43+1 -> 30 | K45: =J45+1 -> 31
J46: =Q44+1 -> 150 | K46: =J46+1 -> 151
A48: Vacation Hours Used | E48: Vac. Hours Left | J48: Vacation Hours Used | N48: Vac. Hours Left | S48: Vacation Hours Used | W48: Vac. Hours Left
E49: =IF(OR($AE$4=0,$AE$4=""),"",IF((INT(#REF!*100+0.5)-INT(A49*100+0.5))/100=0,"0",(INT(#REF!*100+0.5)-INT(A49*100+0.5))/100)) | N49: =IF(OR($AE$4=0,$AE$4=""),"",IF((INT(N31*100+0.5)-INT(J49*100+0.5))/100=0,"0",(INT(N31*100+0.5)-INT(J49*100+0.5))/100)) | W49: =IF(OR($AE$4=0,$AE$4=""),"",IF((INT(W31*100+0.5)-INT(S49*100+0.5))/100=0,"0",(INT(W31*100+0.5)-INT(S49*100+0.5))/100))
A51: JULY | J51: AUGUST | S51: SEPTEMBER
A52: SU | B52: MON | C52: TUE | D52: WED | E52: THU | F52: FRI | H52: SA | J52: SU | K52: MON | L52: TUE | M52: WED | N52: THU | O52: FRI | Q52: SA | S52: SU | T52: MON | U52: TUE | V52: WED | W52: THU | X52: FRI | Z52: SA
E53: =D53+1 -> 1 | F53: =E53+1 -> 2 | H53: =F53+1 -> 3 | J53: 1 | K53: =J53+1 -> 2 | L53: =K53+1 -> 3 | M53: =L53+1 -> 4 | N53: =M53+1 -> 5 | O53: =N53+1 -> 6 | Q53: =O53+1 -> 7 | V53: 1 | W53: =V53+1 -> 2 | X53: =W53+1 -> 3 | Z53: =X53+1 -> 4
E54: =V44+1 -> 182 | F54: =E54+1 -> 183 | H54: =F54+1 -> 184 | J54: =H62+1 -> 213 | K54: =J54+1 -> 214 | L54: =K54+1 -> 215 | M54: =L54+1 -> 216 | N54: =M54+1 -> 217 | O54: =N54+1 -> 218 | P54: $ | Q54: =O54+1 -> 219 | V54: =L62+1 -> 244 | W54: =V54+1 -> 245 | X54: =W54+1 -> 246 | Y54: $ | Z54: =X54+1 -> 247
A55: =H53+1 -> 4 | B55: =A55+1 -> 5 | C55: =B55+1 -> 6 | D55: =C55+1 -> 7 | E55: =D55+1 -> 8 | F55: =E55+1 -> 9 | H55: =F55+1 -> 10 | J55: =Q53+1 -> 8 | K55: =J55+1 -> 9 | L55: =K55+1 -> 10 | M55: =L55+1 -> 11 | N55: =M55+1 -> 12 | O55: =N55+1 -> 13 | Q55: =O55+1 -> 14 | S55: =Z53+1 -> 5 | T55: =S55+1 -> 6 | U55: =T55+1 -> 7 | V55: =U55+1 -> 8 | W55: =V55+1 -> 9 | X55: =W55+1 -> 10 | Z55: =X55+1 -> 11
A56: =H54+1 -> 185 | B56: =A56+1 -> 186 | C56: =B56+1 -> 187 | D56: =C56+1 -> 188 | E56: =D56+1 -> 189 | F56: =E56+1 -> 190 | G56: $ | H56: =F56+1 -> 191 | J56: =Q54+1 -> 220 | K56: =J56+1 -> 221 | L56: =K56+1 -> 222 | M56: =L56+1 -> 223 | N56: =M56+1 -> 224 | O56: =N56+1 -> 225 | Q56: =O56+1 -> 226 | S56: =Z54+1 -> 248 | T56: =S56+1 -> 249 | U56: =T56+1 -> 250 | V56: =U56+1 -> 251 | W56: =V56+1 -> 252 | X56: =W56+1 -> 253 | Z56: =X56+1 -> 254
A57: =H55+1 -> 11 | B57: =A57+1 -> 12 | C57: =B57+1 -> 13 | D57: =C57+1 -> 14 | E57: =D57+1 -> 15 | F57: =E57+1 -> 16 | H57: =F57+1 -> 17 | J57: =Q55+1 -> 15 | K57: =J57+1 -> 16 | L57: =K57+1 -> 17 | M57: =L57+1 -> 18 | N57: =M57+1 -> 19 | O57: =N57+1 -> 20 | Q57: =O57+1 -> 21 | S57: =Z55+1 -> 12 | T57: =S57+1 -> 13 | U57: =T57+1 -> 14 | V57: =U57+1 -> 15 | W57: =V57+1 -> 16 | X57: =W57+1 -> 17 | Z57: =X57+1 -> 18
A58: =H56+1 -> 192 | B58: =A58+1 -> 193 | C58: =B58+1 -> 194 | D58: =C58+1 -> 195 | E58: =D58+1 -> 196 | F58: =E58+1 -> 197 | H58: =F58+1 -> 198 | J58: =Q56+1 -> 227 | K58: =J58+1 -> 228 | L58: =K58+1 -> 229 | M58: =L58+1 -> 230 | N58: =M58+1 -> 231 | O58: =N58+1 -> 232 | P58: $ | Q58: =O58+1 -> 233 | S58: =Z56+1 -> 255 | T58: =S58+1 -> 256 | U58: =T58+1 -> 257 | V58: =U58+1 -> 258 | W58: =V58+1 -> 259 | X58: =W58+1 -> 260 | Y58: $ | Z58: =X58+1 -> 261
A59: =H57+1 -> 18 | B59: =A59+1 -> 19 | C59: =B59+1 -> 20 | D59: =C59+1 -> 21 | E59: =D59+1 -> 22 | F59: =E59+1 -> 23 | H59: =F59+1 -> 24 | J59: =Q57+1 -> 22 | K59: =J59+1 -> 23 | L59: =K59+1 -> 24 | M59: =L59+1 -> 25 | N59: =M59+1 -> 26 | O59: =N59+1 -> 27 | Q59: =O59+1 -> 28 | S59: =Z57+1 -> 19 | T59: =S59+1 -> 20 | U59: =T59+1 -> 21 | V59: =U59+1 -> 22 | W59: =V59+1 -> 23 | X59: =W59+1 -> 24 | Z59: =X59+1 -> 25
A60: =H58+1 -> 199 | B60: =A60+1 -> 200 | C60: =B60+1 -> 201 | D60: =C60+1 -> 202 | E60: =D60+1 -> 203 | F60: =E60+1 -> 204 | G60: $ | H60: =F60+1 -> 205 | J60: =Q58+1 -> 234 | K60: =J60+1 -> 235 | L60: =K60+1 -> 236 | M60: =L60+1 -> 237 | N60: =M60+1 -> 238 | O60: =N60+1 -> 239 | Q60: =O60+1 -> 240 | S60: =Z58+1 -> 262 | T60: =S60+1 -> 263 | U60: =T60+1 -> 264 | V60: =U60+1 -> 265 | W60: =V60+1 -> 266 | X60: =W60+1 -> 267 | Z60: =X60+1 -> 268
A61: =H59+1 -> 25 | B61: =A61+1 -> 26 | C61: =B61+1 -> 27 | D61: =C61+1 -> 28 | E61: =D61+1 -> 29 | F61: =E61+1 -> 30 | H61: =F61+1 -> 31 | J61: =Q59+1 -> 29 | K61: =J61+1 -> 30 | L61: =K61+1 -> 31 | S61: =Z59+1 -> 26 | T61: =S61+1 -> 27 | U61: =T61+1 -> 28 | V61: =U61+1 -> 29 | W61: =V61+1 -> 30
A62: =H60+1 -> 206 | B62: =A62+1 -> 207 | C62: =B62+1 -> 208 | D62: =C62+1 -> 209 | E62: =D62+1 -> 210 | F62: =E62+1 -> 211 | H62: =F62+1 -> 212 | J62: =Q60+1 -> 241 | K62: =J62+1 -> 242 | L62: =K62+1 -> 243 | S62: =Z60+1 -> 269 | T62: =S62+1 -> 270 | U62: =T62+1 -> 271 | V62: =U62+1 -> 272 | W62: =V62+1 -> 273
A66: Vacation Hours Used | E66: Vac. Hours Left | J66: Vacation Hours Used | N66: Vac. Hours Left | S66: Vacation Hours Used | W66: Vac. Hours Left
E67: =IF(OR($AE$4=0,$AE$4=""),"",IF((INT(#REF!*100+0.5)-INT(A67*100+0.5))/100=0,"0",(INT(#REF!*100+0.5)-INT(A67*100+0.5))/100)) | N67: =IF(OR($AE$4=0,$AE$4=""),"",IF((INT(N49*100+0.5)-INT(J67*100+0.5))/100=0,"0",(INT(N49*100+0.5)-INT(J67*100+0.5))/100)) | W67: =IF(OR($AE$4=0,$AE$4=""),"",IF((INT(W49*100+0.5)-INT(S67*100+0.5))/100=0,"0",(INT(W49*100+0.5)-INT(S67*100+0.5))/100))
A69: OCTOBER | J69: NOVEMBER | S69: DECEMBER
A70: SU | B70: MON | C70: TUE | D70: WED | E70: THU | F70: FRI | H70: SA | J70: SU | K70: MON | L70: TUE | M70: WED | N70: THU | O70: FRI | Q70: SA | S70: SU | T70: MON | U70: TUE | V70: WED | W70: THU | X70: FRI | Z70: SA
F71: 1 | H71: =F71+1 -> 2 | K71: 1 | L71: =K71+1 -> 2 | M71: =L71+1 -> 3 | N71: =M71+1 -> 4 | O71: =N71+1 -> 5 | Q71: =O71+1 -> 6 | V71: 1 | W71: =V71+1 -> 2 | X71: =W71+1 -> 3 | Z71: =X71+1 -> 4
F72: =W62+1 -> 274 | G72: $ | H72: =F72+1 -> 275 | K72: =A82+1 -> 305 | L72: =K72+1 -> 306 | M72: =L72+1 -> 307 | N72: =M72+1 -> 308 | O72: =N72+1 -> 309 | Q72: =O72+1 -> 310 | V72: =L80+1 -> 335 | W72: =V72+1 -> 336 | X72: =W72+1 -> 337 | Z72: =X72+1 -> 338
A73: =H71+1 -> 3 | B73: =A73+1 -> 4 | C73: =B73+1 -> 5 | D73: =C73+1 -> 6 | E73: =D73+1 -> 7 | F73: =E73+1 -> 8 | H73: =F73+1 -> 9 | J73: =Q71+1 -> 7 | K73: =J73+1 -> 8 | L73: =K73+1 -> 9 | M73: =L73+1 -> 10 | N73: =M73+1 -> 11 | O73: =N73+1 -> 12 | Q73: =O73+1 -> 13 | S73: =Z71+1 -> 5 | T73: =S73+1 -> 6 | U73: =T73+1 -> 7 | V73: =U73+1 -> 8 | W73: =V73+1 -> 9 | X73: =W73+1 -> 10 | Z73: =X73+1 -> 11
A74: =H72+1 -> 276 | B74: =A74+1 -> 277 | C74: =B74+1 -> 278 | D74: =C74+1 -> 279 | E74: =D74+1 -> 280 | F74: =E74+1 -> 281 | H74: =F74+1 -> 282 | J74: =Q72+1 -> 311 | K74: =J74+1 -> 312 | L74: =K74+1 -> 313 | M74: =L74+1 -> 314 | N74: =M74+1 -> 315 | O74: =N74+1 -> 316 | P74: $ | Q74: =O74+1 -> 317 | S74: =Z72+1 -> 339 | T74: =S74+1 -> 340 | U74: =T74+1 -> 341 | V74: =U74+1 -> 342 | W74: =V74+1 -> 343 | X74: =W74+1 -> 344 | Y74: $ | Z74: =X74+1 -> 345
A75: =H73+1 -> 10 | B75: =A75+1 -> 11 | C75: =B75+1 -> 12 | D75: =C75+1 -> 13 | E75: =D75+1 -> 14 | F75: =E75+1 -> 15 | H75: =F75+1 -> 16 | J75: =Q73+1 -> 14 | K75: =J75+1 -> 15 | L75: =K75+1 -> 16 | M75: =L75+1 -> 17 | N75: =M75+1 -> 18 | O75: =N75+1 -> 19 | Q75: =O75+1 -> 20 | S75: =Z73+1 -> 12 | T75: =S75+1 -> 13 | U75: =T75+1 -> 14 | V75: =U75+1 -> 15 | W75: =V75+1 -> 16 | X75: =W75+1 -> 17 | Z75: =X75+1 -> 18
A76: =H74+1 -> 283 | B76: =A76+1 -> 284 | C76: =B76+1 -> 285 | D76: =C76+1 -> 286 | E76: =D76+1 -> 287 | F76: =E76+1 -> 288 | G76: $ | H76: =F76+1 -> 289 | J76: =Q74+1 -> 318 | K76: =J76+1 -> 319 | L76: =K76+1 -> 320 | M76: =L76+1 -> 321 | N76: =M76+1 -> 322 | O76: =N76+1 -> 323 | Q76: =O76+1 -> 324 | S76: =Z74+1 -> 346 | T76: =S76+1 -> 347 | U76: =T76+1 -> 348 | V76: =U76+1 -> 349 | W76: =V76+1 -> 350 | X76: =W76+1 -> 351 | Z76: =X76+1 -> 352
A77: =H75+1 -> 17 | B77: =A77+1 -> 18 | C77: =B77+1 -> 19 | D77: =C77+1 -> 20 | E77: =D77+1 -> 21 | F77: =E77+1 -> 22 | H77: =F77+1 -> 23 | J77: =Q75+1 -> 21 | K77: =J77+1 -> 22 | L77: =K77+1 -> 23 | M77: =L77+1 -> 24 | N77: =M77+1 -> 25 | O77: =N77+1 -> 26 | Q77: =O77+1 -> 27 | S77: =Z75+1 -> 19 | T77: =S77+1 -> 20 | U77: =T77+1 -> 21 | V77: =U77+1 -> 22 | W77: =V77+1 -> 23 | X77: =W77+1 -> 24 | Z77: =X77+1 -> 25
A78: =H76+1 -> 290 | B78: =A78+1 -> 291 | C78: =B78+1 -> 292 | D78: =C78+1 -> 293 | E78: =D78+1 -> 294 | F78: =E78+1 -> 295 | H78: =F78+1 -> 296 | J78: =Q76+1 -> 325 | K78: =J78+1 -> 326 | L78: =K78+1 -> 327 | M78: =L78+1 -> 328 | N78: =M78+1 -> 329 | O78: =N78+1 -> 330 | P78: $ | Q78: =O78+1 -> 331 | S78: =Z76+1 -> 353 | T78: =S78+1 -> 354 | U78: =T78+1 -> 355 | V78: =U78+1 -> 356 | W78: =V78+1 -> 357 | X78: =W78+1 -> 358 | Y78: $ | Z78: =X78+1 -> 359
A79: =H77+1 -> 24 | B79: =A79+1 -> 25 | C79: =B79+1 -> 26 | D79: =C79+1 -> 27 | E79: =D79+1 -> 28 | F79: =E79+1 -> 29 | H79: =F79+1 -> 30 | J79: =Q77+1 -> 28 | K79: =J79+1 -> 29 | L79: =K79+1 -> 30 | S79: =Z77+1 -> 26 | T79: =S79+1 -> 27 | U79: =T79+1 -> 28 | V79: =U79+1 -> 29 | W79: =V79+1 -> 30 | X79: =W79+1 -> 31
A80: =H78+1 -> 297 | B80: =A80+1 -> 298 | C80: =B80+1 -> 299 | D80: =C80+1 -> 300 | E80: =D80+1 -> 301 | F80: =E80+1 -> 302 | G80: $ | H80: =F80+1 -> 303 | J80: =Q78+1 -> 332 | K80: =J80+1 -> 333 | L80: =K80+1 -> 334 | S80: =Z78+1 -> 360 | T80: =S80+1 -> 361 | U80: =T80+1 -> 362 | V80: =U80+1 -> 363 | W80: =V80+1 -> 364 | X80: =W80+1 -> 365
A81: =H79+1 -> 31
A82: =H80+1 -> 304
A84: Vacation Hours Used | E84: Vac. Hours Left | J84: Vacation Hours Used | N84: Vac. Hours Left | S84: Vacation Hours Used | W84: Vac. Hours Left
E85: =IF(OR($AE$4=0,$AE$4=""),"",IF((INT(#REF!*100+0.5)-INT(A85*100+0.5))/100=0,"0",(INT(#REF!*100+0.5)-INT(A85*100+0.5))/100)) | N85: =IF(OR($AE$4=0,$AE$4=""),"",IF((INT(N67*100+0.5)-INT(J85*100+0.5))/100=0,"0",(INT(N67*100+0.5)-INT(J85*100+0.5))/100)) | W85: =IF(OR($AE$4=0,$AE$4=""),"",IF((INT(W67*100+0.5)-INT(S85*100+0.5))/100=0,"0",(INT(W67*100+0.5)-INT(S85*100+0.5))/100))
J87: =J12+1 -> 2013
A89: JANUARY | J89: FEBRUARY | S89: MARCH
A90: SU | B90: MON | C90: TUE | D90: WED | E90: THU | F90: FRI | H90: SA | J90: SU | K90: MON | L90: TUE | M90: WED | N90: THU | O90: FRI | Q90: SA | S90: SU | T90: MON | U90: TUE | V90: WED | W90: THU | X90: FRI | Z90: SA
H91: 1 | L91: 1 | M91: =L91+1 -> 2 | N91: =M91+1 -> 3 | O91: =N91+1 -> 4 | Q91: =O91+1 -> 5 | U91: =T91+1 -> 1 | V91: =U91+1 -> 2 | W91: =V91+1 -> 3 | X91: =W91+1 -> 4 | Z91: =X91+1 -> 5
H92: =X80+1 -> 366 | L92: =B102+1 -> 397 | M92: =L92+1 -> 398 | N92: =M92+1 -> 399 | O92: =N92+1 -> 400 | P92: $ | Q92: =O92+1 -> 401 | U92: =K100+1 -> 425 | V92: =U92+1 -> 426 | W92: =V92+1 -> 427 | X92: =W92+1 -> 428 | Y92: $ | Z92: =X92+1 -> 429
A93: =H91+1 -> 2 | B93: =A93+1 -> 3 | C93: =B93+1 -> 4 | D93: =C93+1 -> 5 | E93: =D93+1 -> 6 | F93: =E93+1 -> 7 | H93: =F93+1 -> 8 | J93: =Q91+1 -> 6 | K93: =J93+1 -> 7 | L93: =K93+1 -> 8 | M93: =L93+1 -> 9 | N93: =M93+1 -> 10 | O93: =N93+1 -> 11 | Q93: =O93+1 -> 12 | S93: =Z91+1 -> 6 | T93: =S93+1 -> 7 | U93: =T93+1 -> 8 | V93: =U93+1 -> 9 | W93: =V93+1 -> 10 | X93: =W93+1 -> 11 | Z93: =X93+1 -> 12
A94: =H92+1 -> 367 | B94: =A94+1 -> 368 | C94: =B94+1 -> 369 | D94: =C94+1 -> 370 | E94: =D94+1 -> 371 | F94: =E94+1 -> 372 | G94: $ | H94: =F94+1 -> 373 | J94: =Q92+1 -> 402 | K94: =J94+1 -> 403 | L94: =K94+1 -> 404 | M94: =L94+1 -> 405 | N94: =M94+1 -> 406 | O94: =N94+1 -> 407 | Q94: =O94+1 -> 408 | S94: =Z92+1 -> 430 | T94: =S94+1 -> 431 | U94: =T94+1 -> 432 | V94: =U94+1 -> 433 | W94: =V94+1 -> 434 | X94: =W94+1 -> 435 | Z94: =X94+1 -> 436
A95: =H93+1 -> 9 | B95: =A95+1 -> 10 | C95: =B95+1 -> 11 | D95: =C95+1 -> 12 | E95: =D95+1 -> 13 | F95: =E95+1 -> 14 | H95: =F95+1 -> 15 | J95: =Q93+1 -> 13 | K95: =J95+1 -> 14 | L95: =K95+1 -> 15 | M95: =L95+1 -> 16 | N95: =M95+1 -> 17 | O95: =N95+1 -> 18 | Q95: =O95+1 -> 19 | S95: =Z93+1 -> 13 | T95: =S95+1 -> 14 | U95: =T95+1 -> 15 | V95: =U95+1 -> 16 | W95: =V95+1 -> 17 | X95: =W95+1 -> 18 | Z95: =X95+1 -> 19
A96: =H94+1 -> 374 | B96: =A96+1 -> 375 | C96: =B96+1 -> 376 | D96: =C96+1 -> 377 | E96: =D96+1 -> 378 | F96: =E96+1 -> 379 | H96: =F96+1 -> 380 | J96: =Q94+1 -> 409 | K96: =J96+1 -> 410 | L96: =K96+1 -> 411 | M96: =L96+1 -> 412 | N96: =M96+1 -> 413 | O96: =N96+1 -> 414 | P96: $ | Q96: =O96+1 -> 415 | S96: =Z94+1 -> 437 | T96: =S96+1 -> 438 | U96: =T96+1 -> 439 | V96: =U96+1 -> 440 | W96: =V96+1 -> 441 | X96: =W96+1 -> 442 | Y96: $ | Z96: =X96+1 -> 443
A97: =H95+1 -> 16 | B97: =A97+1 -> 17 | C97: =B97+1 -> 18 | D97: =C97+1 -> 19 | E97: =D97+1 -> 20 | F97: =E97+1 -> 21 | H97: =F97+1 -> 22 | J97: =Q95+1 -> 20 | K97: =J97+1 -> 21 | L97: =K97+1 -> 22 | M97: =L97+1 -> 23 | N97: =M97+1 -> 24 | O97: =N97+1 -> 25 | Q97: =O97+1 -> 26 | S97: =Z95+1 -> 20 | T97: =S97+1 -> 21 | U97: =T97+1 -> 22 | V97: =U97+1 -> 23 | W97: =V97+1 -> 24 | X97: =W97+1 -> 25 | Z97: =X97+1 -> 26
A98: =H96+1 -> 381 | B98: =A98+1 -> 382 | C98: =B98+1 -> 383 | D98: =C98+1 -> 384 | E98: =D98+1 -> 385 | F98: =E98+1 -> 386 | G98: $ | H98: =F98+1 -> 387 | J98: =Q96+1 -> 416 | K98: =J98+1 -> 417 | L98: =K98+1 -> 418 | M98: =L98+1 -> 419 | N98: =M98+1 -> 420 | O98: =N98+1 -> 421 | Q98: =O98+1 -> 422 | S98: =Z96+1 -> 444 | T98: =S98+1 -> 445 | U98: =T98+1 -> 446 | V98: =U98+1 -> 447 | W98: =V98+1 -> 448 | X98: =W98+1 -> 449 | Z98: =X98+1 -> 450
A99: =H97+1 -> 23 | B99: =A99+1 -> 24 | C99: =B99+1 -> 25 | D99: =C99+1 -> 26 | E99: =D99+1 -> 27 | F99: =E99+1 -> 28 | H99: =F99+1 -> 29 | J99: =Q97+1 -> 27 | K99: =J99+1 -> 28 | S99: =Z97+1 -> 27 | T99: =S99+1 -> 28 | U99: =T99+1 -> 29 | V99: =U99+1 -> 30 | W99: =V99+1 -> 31
A100: =H98+1 -> 388 | B100: =A100+1 -> 389 | C100: =B100+1 -> 390 | D100: =C100+1 -> 391 | E100: =D100+1 -> 392 | F100: =E100+1 -> 393 | H100: =F100+1 -> 394 | J100: =Q98+1 -> 423 | K100: =J100+1 -> 424 | S100: =Z98+1 -> 451 | T100: =S100+1 -> 452 | U100: =T100+1 -> 453 | V100: =U100+1 -> 454 | W100: =V100+1 -> 455
A101: =H99+1 -> 30 | B101: =A101+1 -> 31
A102: =H100+1 -> 395 | B102: =A102+1 -> 396
A104: Vacation Hours Used | E104: Vac. Hours Left | J104: Vacation Hours Used | N104: Vac. Hours Left | S104: Vacation Hours Used | W104: Vac. Hours Left
E105: =IF(OR($AE$4=0,$AE$4=""),"",IF((INT(#REF!*100+0.5)-INT(A105*100+0.5))/100=0,"0",(INT(#REF!*100+0.5)-INT(A105*100+0.5))/100)) | N105: =IF(OR($AE$4=0,$AE$4=""),"",IF((INT(N87*100+0.5)-INT(J105*100+0.5))/100=0,"0",(INT(N87*100+0.5)-INT(J105*100+0.5))/100)) | W105: =IF(OR($AE$4=0,$AE$4=""),"",IF((INT(W87*100+0.5)-INT(S105*100+0.5))/100=0,"0",(INT(W87*100+0.5)-INT(S105*100+0.5))/100))
A106: =Master2!A68 -> 40085 | C106: KW

Sheet 15 Mo Calendar
U2: Vacation Hours Carried Over from Previous Year | Y2: Vacation Hours Allotted for Current Year | AE2: Total Number of Vacation Hours Available | AV2: Total Vacation Hours
AV3: =IF(AND($U$4="",$Y$4=""),"",$U$4+IF($Y$4="","0",$Y$4))
Y4: =IF(AG8="","",AG8*7) | AE4: =IF(AND(U4="",Y4=""),"",U4+IF(Y4="","0",Y4))
A6: Fill-in the three fields below to automatically calculate vacation hours allotted for current year | AF6: Date-time Code Difference | AG6: =O8-O7 -> 0
N7: Employee Leave Service Date (yyyy/mm/dd): | AF7: Years Service for Holidays | AG7: =IF(AG6<=0,"",YEAR(AG6)+1-1900)
N8: Current Year's Leave Service Anniversary Date(yyyy/mm/dd) (update annually): | AF8: Number of 7 hr Days Holiday Allotted for Current Year | AG8: =IF(AG6<=0,"",IF(ISBLANK(AG7),"",VLOOKUP(AG7,Vacation_Entitlement,2)))
N9: Enter number of hours worked per day | Y9: =IF(O9="","",O9) | AF9: Hour Days Holiday Available | AG9: =IF(O9="","",AE4/O9)
Q12: 2015 | U12: CALENDAR
A15: JANUARY | J15: FEBRUARY | S15: MARCH | AB15: APRIL | AK15: MAY
A16: SU | B16: MON | C16: TUE | D16: WED | E16: THU | F16: FRI | H16: SA | J16: SU | K16: MON | L16: TUE | M16: WED | N16: THU | O16: FRI | Q16: SA | S16: SU | T16: MON | U16: TUE | V16: WED | W16: THU | X16: FRI | Z16: SA | AB16: SU | AC16: MON | AD16: TUE | AE16: WED | AF16: THU | AG16: FRI | AI16: SA | AK16: SU | AL16: MON | AM16: TUE | AN16: WED | AO16: THU | AP16: FRI | AR16: SA
E17: =D17+1 -> 1 | F17: =E17+1 -> 2 | H17: =F17+1 -> 3 | J17: 1 | K17: 2 | L17: 3 | M17: 4 | N17: 5 | O17: 6 | Q17: 7 | S17: 1 | T17: 2 | U17: 3 | V17: 4 | W17: 5 | X17: 6 | Z17: 7 | AE17: =AD17+1 -> 1 | AF17: =AE17+1 -> 2 | AG17: =AF17+1 -> 3 | AI17: =AG17+1 -> 4 | AP17: =AO17+1 -> 1 | AR17: =AP17+1 -> 2
E18: =D18+1 -> 1 | F18: =E18+1 -> 2 | G18: $ | H18: =F18+1 -> 3 | J18: 32 | K18: 33 | L18: 31 | M18: 35 | N18: 36 | O18: 37 | Q18: 38 | S18: 60 | T18: 61 | U18: 62 | V18: 63 | W18: 64 | X18: 68 | Z18: 66 | AE18: 91 | AF18: =AE18+1 -> 92 | AG18: =AF18+1 -> 93 | AI18: =AG18+1 -> 94 | AP18: =AF26+1 -> 121 | AR18: =AP18+1 -> 122
A19: =H17+1 -> 4 | B19: =A19+1 -> 5 | C19: =B19+1 -> 6 | D19: =C19+1 -> 7 | E19: =D19+1 -> 8 | F19: =E19+1 -> 9 | H19: =F19+1 -> 10 | J19: =Q17+1 -> 8 | K19: =J19+1 -> 9 | L19: =K19+1 -> 10 | M19: =L19+1 -> 11 | N19: =M19+1 -> 12 | O19: =N19+1 -> 13 | Q19: =O19+1 -> 14 | S19: =Z17+1 -> 8 | T19: =S19+1 -> 9 | U19: =T19+1 -> 10 | V19: =U19+1 -> 11 | W19: =V19+1 -> 12 | X19: =W19+1 -> 13 | Z19: =X19+1 -> 14 | AB19: =AI17+1 -> 5 | AC19: =AB19+1 -> 6 | AD19: =AC19+1 -> 7 | AE19: =AD19+1 -> 8 | AF19: =AE19+1 -> 9 | AG19: =AF19+1 -> 10 | AI19: =AG19+1 -> 11 | AK19: =AR17+1 -> 3 | AL19: =AK19+1 -> 4 | AM19: =AL19+1 -> 5 | AN19: =AM19+1 -> 6 | AO19: =AN19+1 -> 7 | AP19: =AO19+1 -> 8 | AR19: =AP19+1 -> 9
A20: =H18+1 -> 4 | B20: =A20+1 -> 5 | C20: =B20+1 -> 6 | D20: =C20+1 -> 7 | E20: =D20+1 -> 8 | F20: =E20+1 -> 9 | H20: =F20+1 -> 10 | J20: =Q18+1 -> 39 | K20: =J20+1 -> 40 | L20: =K20+1 -> 41 | M20: =L20+1 -> 42 | N20: =M20+1 -> 43 | O20: =N20+1 -> 44 | P20: $ | Q20: =O20+1 -> 45 | S20: =Z18+1 -> 67 | T20: =S20+1 -> 68 | U20: =T20+1 -> 69 | V20: =U20+1 -> 70 | W20: =V20+1 -> 71 | X20: =W20+1 -> 72 | Y20: $ | Z20: =X20+1 -> 73 | AB20: =AI18+1 -> 95 | AC20: =AB20+1 -> 96 | AD20: =AC20+1 -> 97 | AE20: =AD20+1 -> 98 | AF20: =AE20+1 -> 99 | AG20: =AF20+1 -> 100 | AH20: $ | AI20: =AG20+1 -> 101 | AK20: =AR18+1 -> 123 | AL20: =AK20+1 -> 124 | AM20: =AL20+1 -> 125 | AN20: =AM20+1 -> 126 | AO20: =AN20+1 -> 127 | AP20: =AO20+1 -> 128 | AQ20: $ | AR20: =AP20+1 -> 129
A21: =H19+1 -> 11 | B21: =A21+1 -> 12 | C21: =B21+1 -> 13 | D21: =C21+1 -> 14 | E21: =D21+1 -> 15 | F21: =E21+1 -> 16 | H21: =F21+1 -> 17 | J21: =Q19+1 -> 15 | K21: =J21+1 -> 16 | L21: =K21+1 -> 17 | M21: =L21+1 -> 18 | N21: =M21+1 -> 19 | O21: =N21+1 -> 20 | Q21: =O21+1 -> 21 | S21: =Z19+1 -> 15 | T21: =S21+1 -> 16 | U21: =T21+1 -> 17 | V21: =U21+1 -> 18 | W21: =V21+1 -> 19 | X21: =W21+1 -> 20 | Z21: =X21+1 -> 21 | AB21: =AI19+1 -> 12 | AC21: =AB21+1 -> 13 | AD21: =AC21+1 -> 14 | AE21: =AD21+1 -> 15 | AF21: =AE21+1 -> 16 | AG21: =AF21+1 -> 17 | AI21: =AG21+1 -> 18 | AK21: =AR19+1 -> 10 | AL21: =AK21+1 -> 11 | AM21: =AL21+1 -> 12 | AN21: =AM21+1 -> 13 | AO21: =AN21+1 -> 14 | AP21: =AO21+1 -> 15 | AR21: =AP21+1 -> 16
A22: =H20+1 -> 11 | B22: =A22+1 -> 12 | C22: =B22+1 -> 13 | D22: =C22+1 -> 14 | E22: =D22+1 -> 15 | F22: =E22+1 -> 16 | G22: $ | H22: =F22+1 -> 17 | J22: =Q20+1 -> 46 | K22: =J22+1 -> 47 | L22: =K22+1 -> 48 | M22: =L22+1 -> 49 | N22: =M22+1 -> 50 | O22: =N22+1 -> 51 | Q22: =O22+1 -> 52 | S22: =Z20+1 -> 74 | T22: =S22+1 -> 75 | U22: =T22+1 -> 76 | V22: =U22+1 -> 77 | W22: =V22+1 -> 78 | X22: =W22+1 -> 79 | Z22: =X22+1 -> 80 | AB22: =AI20+1 -> 102 | AC22: =AB22+1 -> 103 | AD22: =AC22+1 -> 104 | AE22: =AD22+1 -> 105 | AF22: =AE22+1 -> 106 | AG22: =AF22+1 -> 107 | AI22: =AG22+1 -> 108 | AK22: =AR20+1 -> 130 | AL22: =AK22+1 -> 131 | AM22: =AL22+1 -> 132 | AN22: =AM22+1 -> 133 | AO22: =AN22+1 -> 134 | AP22: =AO22+1 -> 135 | AR22: =AP22+1 -> 136
A23: =H21+1 -> 18 | B23: =A23+1 -> 19 | C23: =B23+1 -> 20 | D23: =C23+1 -> 21 | E23: =D23+1 -> 22 | F23: =E23+1 -> 23 | H23: =F23+1 -> 24 | J23: =Q21+1 -> 22 | K23: =J23+1 -> 23 | L23: =K23+1 -> 24 | M23: =L23+1 -> 25 | N23: =M23+1 -> 26 | O23: =N23+1 -> 27 | Q23: =O23+1 -> 28 | S23: =Z21+1 -> 22 | T23: =S23+1 -> 23 | U23: =T23+1 -> 24 | V23: =U23+1 -> 25 | W23: =V23+1 -> 26 | X23: =W23+1 -> 27 | Z23: =X23+1 -> 28 | AB23: =AI21+1 -> 19 | AC23: =AB23+1 -> 20 | AD23: =AC23+1 -> 21 | AE23: =AD23+1 -> 22 | AF23: =AE23+1 -> 23 | AG23: =AF23+1 -> 24 | AI23: =AG23+1 -> 25 | AK23: =AR21+1 -> 17 | AL23: =AK23+1 -> 18 | AM23: =AL23+1 -> 19 | AN23: =AM23+1 -> 20 | AO23: =AN23+1 -> 21 | AP23: =AO23+1 -> 22 | AR23: =AP23+1 -> 23
A24: =H22+1 -> 18 | B24: =A24+1 -> 19 | C24: =B24+1 -> 20 | D24: =C24+1 -> 21 | E24: =D24+1 -> 22 | F24: =E24+1 -> 23 | H24: =F24+1 -> 24 | J24: =Q22+1 -> 53 | K24: =J24+1 -> 54 | L24: =K24+1 -> 55 | M24: =L24+1 -> 56 | N24: =M24+1 -> 57 | O24: =N24+1 -> 58 | P24: $ | Q24: =O24+1 -> 59 | S24: =Z22+1 -> 81 | T24: =S24+1 -> 82 | U24: =T24+1 -> 83 | V24: =U24+1 -> 84 | W24: =V24+1 -> 85 | X24: =W24+1 -> 86 | Y24: $ | Z24: =X24+1 -> 87 | AB24: =AI22+1 -> 109 | AC24: =AB24+1 -> 110 | AD24: =AC24+1 -> 111 | AE24: =AD24+1 -> 112 | AF24: =AE24+1 -> 113 | AG24: =AF24+1 -> 114 | AH24: $ | AI24: =AG24+1 -> 115 | AK24: =AR22+1 -> 137 | AL24: =AK24+1 -> 138 | AM24: =AL24+1 -> 139 | AN24: =AM24+1 -> 140 | AO24: =AN24+1 -> 141 | AP24: =AO24+1 -> 142 | AQ24: $ | AR24: =AP24+1 -> 143
A25: =H23+1 -> 25 | B25: =A25+1 -> 26 | C25: =B25+1 -> 27 | D25: =C25+1 -> 28 | E25: =D25+1 -> 29 | F25: =E25+1 -> 30 | H25: 31 | S25: =Z23+1 -> 29 | T25: =S25+1 -> 30 | U25: =T25+1 -> 31 | AB25: =AI23+1 -> 26 | AC25: =AB25+1 -> 27 | AD25: =AC25+1 -> 28 | AE25: =AD25+1 -> 29 | AF25: 30 | AK25: =AR23+1 -> 24 | AL25: =AK25+1 -> 25 | AM25: =AL25+1 -> 26 | AN25: =AM25+1 -> 27 | AO25: =AN25+1 -> 28 | AP25: =AO25+1 -> 29 | AR25: =AP25+1 -> 30
A26: =H24+1 -> 25 | B26: =A26+1 -> 26 | C26: =B26+1 -> 27 | D26: =C26+1 -> 28 | E26: =D26+1 -> 29 | F26: =E26+1 -> 30 | G26: $ | H26: 31 | S26: =Z24+1 -> 88 | T26: =S26+1 -> 89 | U26: =T26+1 -> 90 | AB26: =AI24+1 -> 116 | AC26: =AB26+1 -> 117 | AD26: =AC26+1 -> 118 | AE26: =AD26+1 -> 119 | AF26: =AE26+1 -> 120 | AK26: =AR24+1 -> 144 | AL26: =AK26+1 -> 145 | AM26: =AL26+1 -> 146 | AN26: =AM26+1 -> 147 | AO26: =AN26+1 -> 148 | AP26: =AO26+1 -> 149 | AR26: =AP26+1 -> 150
AK27: 30
AK28: =AR26+1 -> 151
A32: Vacation Hours Used | E32: Vac. Hours Left | J32: Vacation Hours Used | N32: Vac. Hours Left | S32: Vacation Hours Used | W32: Vac. Hours Left | AB32: Vacation Hours Used | AF32: Vac. Hours Left | AK32: Vacation Hours Used | AO32: Vac. Hours Left
E33: =IF(OR($AE$4=0,$AE$4=""),"",IF((INT($AE$4*100+0.5)-INT(A33*100+0.5))/100=0,"0",(INT($AE$4*100+0.5)-INT(A33*100+0.5))/100)) | N33: =IF(OR($AE$4=0,$AE$4=""),"",IF((INT(N13*100+0.5)-INT(J33*100+0.5))/100=0,"0",(INT(E33*100+0.5)-INT(J33*100+0.5))/100)) | W33: =IF(OR($AE$4=0,$AE$4=""),"",IF((INT(W13*100+0.5)-INT(S33*100+0.5))/100=0,"0",(INT(N33*100+0.5)-INT(S33*100+0.5))/100)) | AF33: =IF(OR($AE$4=0,$AE$4=""),"",IF((INT(AF13*100+0.5)-INT(AB33*100+0.5))/100=0,"0",(INT(W33*100+0.5)-INT(AB33*100+0.5))/100)) | AO33: =IF(OR($AE$4=0,$AE$4=""),"",IF((INT(AO13*100+0.5)-INT(AK33*100+0.5))/100=0,"0",(INT(AF33*100+0.5)-INT(AK33*100+0.5))/100))
A35: JUNE | J35: JULY | S35: AUGUST | AB35: SEPTEMBER | AK35: OCTOBER
A36: SU | B36: MON | C36: TUE | D36: WED | E36: THU | F36: FRI | H36: SA | J36: SU | K36: MON | L36: TUE | M36: WED | N36: THU | O36: FRI | Q36: SA | S36: SU | T36: MON | U36: TUE | V36: WED | W36: THU | X36: FRI | Z36: SA | AB36: SU | AC36: MON | AD36: TUE | AE36: WED | AF36: THU | AG36: FRI | AI36: SA | AK36: SU | AL36: MON | AM36: TUE | AN36: WED | AO36: THU | AP36: FRI | AR36: SA
B37: =A37+1 -> 1 | C37: =B37+1 -> 2 | D37: =C37+1 -> 3 | E37: =D37+1 -> 4 | F37: =E37+1 -> 5 | H37: =F37+1 -> 6 | M37: =L37+1 -> 1 | N37: =M37+1 -> 2 | O37: =N37+1 -> 3 | Q37: =O37+1 -> 4 | Z37: =X37+1 -> 1 | AD37: =AC37+1 -> 1 | AE37: =AD37+1 -> 2 | AF37: =AE37+1 -> 3 | AG37: =AF37+1 -> 4 | AI37: =AG37+1 -> 5 | AO37: =AN37+1 -> 1 | AP37: =AO37+1 -> 2 | AR37: =AP37+1 -> 3
B38: =AK28+1 -> 152 | C38: =B38+1 -> 153 | D38: =C38+1 -> 154 | E38: =D38+1 -> 155 | F38: =E38+1 -> 156 | G38: $ | H38: =F38+1 -> 157 | M38: =C46+1 -> 182 | N38: =M38+1 -> 183 | O38: =N38+1 -> 184 | P38: $ | Q38: =O38+1 -> 185 | Z38: =O46+1 -> 213 | AD38: =T48+1 -> 244 | AE38: =AD38+1 -> 245 | AF38: =AE38+1 -> 246 | AG38: =AF38+1 -> 247 | AI38: =AG38+1 -> 248 | AO38: =AE46+1 -> 274 | AP38: =AO38+1 -> 275 | AR38: =AP38+1 -> 276
A39: =H37+1 -> 7 | B39: =A39+1 -> 8 | C39: =B39+1 -> 9 | D39: =C39+1 -> 10 | E39: =D39+1 -> 11 | F39: =E39+1 -> 12 | H39: =F39+1 -> 13 | J39: =Q37+1 -> 5 | K39: =J39+1 -> 6 | L39: =K39+1 -> 7 | M39: =L39+1 -> 8 | N39: =M39+1 -> 9 | O39: =N39+1 -> 10 | Q39: =O39+1 -> 11 | S39: =Z37+1 -> 2 | T39: =S39+1 -> 3 | U39: =T39+1 -> 4 | V39: =U39+1 -> 5 | W39: =V39+1 -> 6 | X39: =W39+1 -> 7 | Z39: =X39+1 -> 8 | AB39: =AI37+1 -> 6 | AC39: =AB39+1 -> 7 | AD39: =AC39+1 -> 8 | AE39: =AD39+1 -> 9 | AF39: =AE39+1 -> 10 | AG39: =AF39+1 -> 11 | AI39: =AG39+1 -> 12 | AK39: =AR37+1 -> 4 | AL39: =AK39+1 -> 5 | AM39: =AL39+1 -> 6 | AN39: =AM39+1 -> 7 | AO39: =AN39+1 -> 8 | AP39: =AO39+1 -> 9 | AR39: =AP39+1 -> 10
A40: =H38+1 -> 158 | B40: =A40+1 -> 159 | C40: =B40+1 -> 160 | D40: =C40+1 -> 161 | E40: =D40+1 -> 162 | F40: =E40+1 -> 163 | H40: =F40+1 -> 164 | J40: =Q38+1 -> 186 | K40: =J40+1 -> 187 | L40: =K40+1 -> 188 | M40: =L40+1 -> 189 | N40: =M40+1 -> 190 | O40: =N40+1 -> 191 | Q40: =O40+1 -> 192 | S40: =Z38+1 -> 214 | T40: =S40+1 -> 215 | U40: =T40+1 -> 216 | V40: =U40+1 -> 217 | W40: =V40+1 -> 218 | X40: =W40+1 -> 219 | Z40: =X40+1 -> 220 | AB40: =AI38+1 -> 249 | AC40: =AB40+1 -> 250 | AD40: =AC40+1 -> 251 | AE40: =AD40+1 -> 252 | AF40: =AE40+1 -> 253 | AG40: =AF40+1 -> 254 | AH40: $ | AI40: =AG40+1 -> 255 | AK40: =AR38+1 -> 277 | AL40: =AK40+1 -> 278 | AM40: =AL40+1 -> 279 | AN40: =AM40+1 -> 280 | AO40: =AN40+1 -> 281 | AP40: =AO40+1 -> 282 | AQ40: $ | AR40: =AP40+1 -> 283
A41: =H39+1 -> 14 | B41: =A41+1 -> 15 | C41: =B41+1 -> 16 | D41: =C41+1 -> 17 | E41: =D41+1 -> 18 | F41: =E41+1 -> 19 | H41: =F41+1 -> 20 | J41: =Q39+1 -> 12 | K41: =J41+1 -> 13 | L41: =K41+1 -> 14 | M41: =L41+1 -> 15 | N41: =M41+1 -> 16 | O41: =N41+1 -> 17 | Q41: =O41+1 -> 18 | S41: =Z39+1 -> 9 | T41: =S41+1 -> 10 | U41: =T41+1 -> 11 | V41: =U41+1 -> 12 | W41: =V41+1 -> 13 | X41: =W41+1 -> 14 | Z41: =X41+1 -> 15 | AB41: =AI39+1 -> 13 | AC41: =AB41+1 -> 14 | AD41: =AC41+1 -> 15 | AE41: =AD41+1 -> 16 | AF41: =AE41+1 -> 17 | AG41: =AF41+1 -> 18 | AI41: =AG41+1 -> 19 | AK41: =AR39+1 -> 11 | AL41: =AK41+1 -> 12 | AM41: =AL41+1 -> 13 | AN41: =AM41+1 -> 14 | AO41: =AN41+1 -> 15 | AP41: =AO41+1 -> 16 | AR41: =AP41+1 -> 17
A42: =H40+1 -> 165 | B42: =A42+1 -> 166 | C42: =B42+1 -> 167 | D42: =C42+1 -> 168 | E42: =D42+1 -> 169 | F42: =E42+1 -> 170 | G42: $ | H42: =F42+1 -> 171 | J42: =Q40+1 -> 193 | K42: =J42+1 -> 194 | L42: =K42+1 -> 195 | M42: =L42+1 -> 196 | N42: =M42+1 -> 197 | O42: =N42+1 -> 198 | P42: $ | Q42: =O42+1 -> 199 | S42: =Z40+1 -> 221 | T42: =S42+1 -> 222 | U42: =T42+1 -> 223 | V42: =U42+1 -> 224 | W42: =V42+1 -> 225 | X42: =W42+1 -> 226 | Y42: $ | Z42: =X42+1 -> 227 | AB42: =AI40+1 -> 256 | AC42: =AB42+1 -> 257 | AD42: =AC42+1 -> 258 | AE42: =AD42+1 -> 259 | AF42: =AE42+1 -> 260 | AG42: =AF42+1 -> 261 | AI42: =AG42+1 -> 262 | AK42: =AR40+1 -> 284 | AL42: =AK42+1 -> 285 | AM42: =AL42+1 -> 286 | AN42: =AM42+1 -> 287 | AO42: =AN42+1 -> 288 | AP42: =AO42+1 -> 289 | AR42: =AP42+1 -> 290
A43: =H41+1 -> 21 | B43: =A43+1 -> 22 | C43: =B43+1 -> 23 | D43: =C43+1 -> 24 | E43: =D43+1 -> 25 | F43: =E43+1 -> 26 | H43: =F43+1 -> 27 | J43: =Q41+1 -> 19 | K43: =J43+1 -> 20 | L43: =K43+1 -> 21 | M43: =L43+1 -> 22 | N43: =M43+1 -> 23 | O43: =N43+1 -> 24 | Q43: =O43+1 -> 25 | S43: =Z41+1 -> 16 | T43: =S43+1 -> 17 | U43: =T43+1 -> 18 | V43: =U43+1 -> 19 | W43: =V43+1 -> 20 | X43: =W43+1 -> 21 | Z43: =X43+1 -> 22 | AB43: =AI41+1 -> 20 | AC43: =AB43+1 -> 21 | AD43: =AC43+1 -> 22 | AE43: =AD43+1 -> 23 | AF43: =AE43+1 -> 24 | AG43: =AF43+1 -> 25 | AH43: $ | AI43: =AG43+1 -> 26 | AK43: =AR41+1 -> 18 | AL43: =AK43+1 -> 19 | AM43: =AL43+1 -> 20 | AN43: =AM43+1 -> 21 | AO43: =AN43+1 -> 22 | AP43: =AO43+1 -> 23 | AR43: =AP43+1 -> 24
A44: =H42+1 -> 172 | B44: =A44+1 -> 173 | C44: =B44+1 -> 174 | D44: =C44+1 -> 175 | E44: =D44+1 -> 176 | F44: =E44+1 -> 177 | H44: =F44+1 -> 178 | J44: =Q42+1 -> 200 | K44: =J44+1 -> 201 | L44: =K44+1 -> 202 | M44: =L44+1 -> 203 | N44: =M44+1 -> 204 | O44: =N44+1 -> 205 | Q44: =O44+1 -> 206 | S44: =Z42+1 -> 228 | T44: =S44+1 -> 229 | U44: =T44+1 -> 230 | V44: =U44+1 -> 231 | W44: =V44+1 -> 232 | X44: =W44+1 -> 233 | Z44: =X44+1 -> 234 | AB44: =AI42+1 -> 263 | AC44: =AB44+1 -> 264 | AD44: =AC44+1 -> 265 | AE44: =AD44+1 -> 266 | AF44: =AE44+1 -> 267 | AG44: =AF44+1 -> 268 | AI44: =AG44+1 -> 269 | AK44: =AR42+1 -> 291 | AL44: =AK44+1 -> 292 | AM44: =AL44+1 -> 293 | AN44: =AM44+1 -> 294 | AO44: =AN44+1 -> 295 | AP44: =AO44+1 -> 296 | AQ44: $ | AR44: =AP44+1 -> 297
A45: =H43+1 -> 28 | B45: =A45+1 -> 29 | C45: =B45+1 -> 30 | J45: =Q43+1 -> 26 | K45: =J45+1 -> 27 | L45: =K45+1 -> 28 | M45: =L45+1 -> 29 | N45: =M45+1 -> 30 | O45: =N45+1 -> 31 | S45: =Z43+1 -> 23 | T45: =S45+1 -> 24 | U45: =T45+1 -> 25 | V45: =U45+1 -> 26 | W45: =V45+1 -> 27 | X45: =W45+1 -> 28 | Z45: =X45+1 -> 29 | AB45: =AI43+1 -> 27 | AC45: =AB45+1 -> 28 | AD45: =AC45+1 -> 29 | AE45: =AD45+1 -> 30 | AK45: =AR43+1 -> 25 | AL45: =AK45+1 -> 26 | AM45: =AL45+1 -> 27 | AN45: =AM45+1 -> 28 | AO45: =AN45+1 -> 29 | AP45: =AO45+1 -> 30 | AR45: =AP45+1 -> 31
A46: =H44+1 -> 179 | B46: =A46+1 -> 180 | C46: =B46+1 -> 181 | J46: =Q44+1 -> 207 | K46: =J46+1 -> 208 | L46: =K46+1 -> 209 | M46: =L46+1 -> 210 | N46: =M46+1 -> 211 | O46: =N46+1 -> 212 | P46: $ | S46: =Z44+1 -> 235 | T46: =S46+1 -> 236 | U46: =T46+1 -> 237 | V46: =U46+1 -> 238 | W46: =V46+1 -> 239 | X46: =W46+1 -> 240 | Y46: $ | Z46: =X46+1 -> 241 | AB46: =AI44+1 -> 270 | AC46: =AB46+1 -> 271 | AD46: =AC46+1 -> 272 | AE46: =AD46+1 -> 273 | AK46: =AR44+1 -> 298 | AL46: =AK46+1 -> 299 | AM46: =AL46+1 -> 300 | AN46: =AM46+1 -> 301 | AO46: =AN46+1 -> 302 | AP46: =AO46+1 -> 303 | AR46: =AP46+1 -> 304
S47: =Z45+1 -> 30 | T47: =S47+1 -> 31
S48: =Z46+1 -> 242 | T48: =S48+1 -> 243
A50: Vacation Hours Used | E50: Vac. Hours Left | J50: Vacation Hours Used | N50: Vac. Hours Left | S50: Vacation Hours Used | W50: Vac. Hours Left | AB50: Vacation Hours Used | AF50: Vac. Hours Left | AK50: Vacation Hours Used | AO50: Vac. Hours Left
E51: =IF(OR($AE$4=0,$AE$4=""),"",IF((INT(E33*100+0.5)-INT(A51*100+0.5))/100=0,"0",(INT(AO33*100+0.5)-INT(A51*100+0.5))/100)) | N51: =IF(OR($AE$4=0,$AE$4=""),"",IF((INT(E87*100+0.5)-INT(J51*100+0.5))/100=0,"0",(INT(E51*100+0.5)-INT(J51*100+0.5))/100)) | W51: =IF(OR($AE$4=0,$AE$4=""),"",IF((INT(N87*100+0.5)-INT(S51*100+0.5))/100=0,"0",(INT(N51*100+0.5)-INT(S51*100+0.5))/100)) | AF51: =IF(OR($AE$4=0,$AE$4=""),"",IF((INT(W87*100+0.5)-INT(AB51*100+0.5))/100=0,"0",(INT(W51*100+0.5)-INT(AB51*100+0.5))/100)) | AO51: =IF(OR($AE$4=0,$AE$4=""),"",IF((INT(AF87*100+0.5)-INT(AK51*100+0.5))/100=0,"0",(INT(AF51*100+0.5)-INT(AK51*100+0.5))/100))
A53: NOVEMBER | J53: DECEMBER | S53: January | W53: =Q12+1 -> 2016 | AB53: February | AF53: =Q12+1 -> 2016 | AK53: March | AO53: =Q12+1 -> 2016
A54: SU | B54: MON | C54: TUE | D54: WED | E54: THU | F54: FRI | H54: SA | J54: SU | K54: MON | L54: TUE | M54: WED | N54: THU | O54: FRI | Q54: SA | S54: SU | T54: MON | U54: TUE | V54: WED | W54: THU | X54: FRI | Z54: SA | AB54: SU | AC54: MON | AD54: TUE | AE54: WED | AF54: THU | AG54: FRI | AI54: SA | AK54: SU | AL54: MON | AM54: TUE | AN54: WED | AO54: THU | AP54: FRI | AR54: SA
A55: 1 | B55: 2 | C55: 3 | D55: 4 | E55: 5 | F55: 6 | H55: =F55+1 -> 7 | L55: =K55+1 -> 1 | M55: =L55+1 -> 2 | N55: =M55+1 -> 3 | O55: =N55+1 -> 4 | Q55: =O55+1 -> 5 | X55: =W55+1 -> 1 | Z55: =X55+1 -> 2 | AC55: =AB55+1 -> 1 | AD55: =AC55+1 -> 2 | AE55: =AD55+1 -> 3 | AF55: =AE55+1 -> 4 | AG55: =AF55+1 -> 5 | AI55: =AG55+1 -> 6 | AM55: =AL55+1 -> 1 | AN55: =AM55+1 -> 2 | AO55: =AN55+1 -> 3 | AP55: =AO55+1 -> 4 | AR55: =AP55+1 -> 5
A56: =AR46+1 -> 305 | B56: =A56+1 -> 306 | C56: =B56+1 -> 307 | D56: =C56+1 -> 308 | E56: =D56+1 -> 309 | F56: =E56+1 -> 310 | G56: $ | H56: =F56+1 -> 311 | L56: =B64+1 -> 335 | M56: =L56+1 -> 336 | N56: =M56+1 -> 337 | O56: =N56+1 -> 338 | P56: $ | Q56: =O56+1 -> 339 | X56: =W56+1 -> 1 | Z56: =X56+1 -> 2 | AC56: =S66+1 -> 32 | AD56: =AC56+1 -> 33 | AE56: =AD56+1 -> 34 | AF56: =AE56+1 -> 35 | AG56: =AF56+1 -> 36 | AH56: $ | AI56: =AG56+1 -> 37 | AM56: =AC64+1 -> 61 | AN56: =AM56+1 -> 62 | AO56: =AN56+1 -> 63 | AP56: =AO56+1 -> 64 | AQ56: $ | AR56: =AP56+1 -> 65
A57: =H55+1 -> 8 | B57: =A57+1 -> 9 | C57: =B57+1 -> 10 | D57: =C57+1 -> 11 | E57: =D57+1 -> 12 | F57: =E57+1 -> 13 | H57: =F57+1 -> 14 | J57: =Q55+1 -> 6 | K57: =J57+1 -> 7 | L57: =K57+1 -> 8 | M57: =L57+1 -> 9 | N57: =M57+1 -> 10 | O57: =N57+1 -> 11 | Q57: =O57+1 -> 12 | S57: =Z55+1 -> 3 | T57: =S57+1 -> 4 | U57: =T57+1 -> 5 | V57: =U57+1 -> 6 | W57: =V57+1 -> 7 | X57: =W57+1 -> 8 | Z57: =X57+1 -> 9 | AB57: =AI55+1 -> 7 | AC57: =AB57+1 -> 8 | AD57: =AC57+1 -> 9 | AE57: =AD57+1 -> 10 | AF57: =AE57+1 -> 11 | AG57: =AF57+1 -> 12 | AI57: =AG57+1 -> 13 | AK57: =AR55+1 -> 6 | AL57: =AK57+1 -> 7 | AM57: =AL57+1 -> 8 | AN57: =AM57+1 -> 9 | AO57: =AN57+1 -> 10 | AP57: =AO57+1 -> 11 | AR57: =AP57+1 -> 12
A58: =H56+1 -> 312 | B58: =A58+1 -> 313 | C58: =B58+1 -> 314 | D58: =C58+1 -> 315 | E58: =D58+1 -> 316 | F58: =E58+1 -> 317 | H58: =F58+1 -> 318 | J58: =Q56+1 -> 340 | K58: =J58+1 -> 341 | L58: =K58+1 -> 342 | M58: =L58+1 -> 343 | N58: =M58+1 -> 344 | O58: =N58+1 -> 345 | Q58: =O58+1 -> 346 | S58: =Z56+1 -> 3 | T58: =S58+1 -> 4 | U58: =T58+1 -> 5 | V58: =U58+1 -> 6 | W58: =V58+1 -> 7 | X58: =W58+1 -> 8 | Y58: $ | Z58: =X58+1 -> 9 | AB58: =AI56+1 -> 38 | AC58: =AB58+1 -> 39 | AD58: =AC58+1 -> 40 | AE58: =AD58+1 -> 41 | AF58: =AE58+1 -> 42 | AG58: =AF58+1 -> 43 | AI58: =AG58+1 -> 44 | AK58: =AR56+1 -> 66 | AL58: =AK58+1 -> 67 | AM58: =AL58+1 -> 68 | AN58: =AM58+1 -> 69 | AO58: =AN58+1 -> 70 | AP58: =AO58+1 -> 71 | AR58: =AP58+1 -> 72
A59: =H57+1 -> 15 | B59: =A59+1 -> 16 | C59: =B59+1 -> 17 | D59: =C59+1 -> 18 | E59: =D59+1 -> 19 | F59: =E59+1 -> 20 | H59: =F59+1 -> 21 | J59: =Q57+1 -> 13 | K59: =J59+1 -> 14 | L59: =K59+1 -> 15 | M59: =L59+1 -> 16 | N59: =M59+1 -> 17 | O59: =N59+1 -> 18 | Q59: =O59+1 -> 19 | S59: =Z57+1 -> 10 | T59: =S59+1 -> 11 | U59: =T59+1 -> 12 | V59: =U59+1 -> 13 | W59: =V59+1 -> 14 | X59: =W59+1 -> 15 | Z59: =X59+1 -> 16 | AB59: =AI57+1 -> 14 | AC59: =AB59+1 -> 15 | AD59: =AC59+1 -> 16 | AE59: =AD59+1 -> 17 | AF59: =AE59+1 -> 18 | AG59: =AF59+1 -> 19 | AI59: =AG59+1 -> 20 | AK59: =AR57+1 -> 13 | AL59: =AK59+1 -> 14 | AM59: =AL59+1 -> 15 | AN59: =AM59+1 -> 16 | AO59: =AN59+1 -> 17 | AP59: =AO59+1 -> 18 | AR59: =AP59+1 -> 19
A60: =H58+1 -> 319 | B60: =A60+1 -> 320 | C60: =B60+1 -> 321 | D60: =C60+1 -> 322 | E60: =D60+1 -> 323 | F60: =E60+1 -> 324 | G60: $ | H60: =F60+1 -> 325 | J60: =Q58+1 -> 347 | K60: =J60+1 -> 348 | L60: =K60+1 -> 349 | M60: =L60+1 -> 350 | N60: =M60+1 -> 351 | O60: =N60+1 -> 352 | P60: $ | Q60: =O60+1 -> 353 | S60: =Z58+1 -> 10 | T60: =S60+1 -> 11 | U60: =T60+1 -> 12 | V60: =U60+1 -> 13 | W60: =V60+1 -> 14 | X60: =W60+1 -> 15 | Z60: =X60+1 -> 16 | AB60: =AI58+1 -> 45 | AC60: =AB60+1 -> 46 | AD60: =AC60+1 -> 47 | AE60: =AD60+1 -> 48 | AF60: =AE60+1 -> 49 | AG60: =AF60+1 -> 50 | AH60: $ | AI60: =AG60+1 -> 51 | AK60: =AR58+1 -> 73 | AL60: =AK60+1 -> 74 | AM60: =AL60+1 -> 75 | AN60: =AM60+1 -> 76 | AO60: =AN60+1 -> 77 | AP60: =AO60+1 -> 78 | AQ60: $ | AR60: =AP60+1 -> 79
A61: =H59+1 -> 22 | B61: =A61+1 -> 23 | C61: =B61+1 -> 24 | D61: =C61+1 -> 25 | E61: =D61+1 -> 26 | F61: =E61+1 -> 27 | H61: =F61+1 -> 28 | J61: =Q59+1 -> 20 | K61: =J61+1 -> 21 | L61: =K61+1 -> 22 | M61: =L61+1 -> 23 | N61: =M61+1 -> 24 | O61: =N61+1 -> 25 | Q61: =O61+1 -> 26 | S61: =Z59+1 -> 17 | T61: =S61+1 -> 18 | U61: =T61+1 -> 19 | V61: =U61+1 -> 20 | W61: =V61+1 -> 21 | X61: =W61+1 -> 22 | Z61: =X61+1 -> 23 | AB61: =AI59+1 -> 21 | AC61: =AB61+1 -> 22 | AD61: =AC61+1 -> 23 | AE61: =AD61+1 -> 24 | AF61: =AE61+1 -> 25 | AG61: =AF61+1 -> 26 | AI61: =AG61+1 -> 27 | AK61: =AR59+1 -> 20 | AL61: =AK61+1 -> 21 | AM61: =AL61+1 -> 22 | AN61: =AM61+1 -> 23 | AO61: =AN61+1 -> 24 | AP61: =AO61+1 -> 25 | AR61: =AP61+1 -> 26
A62: =H60+1 -> 326 | B62: =A62+1 -> 327 | C62: =B62+1 -> 328 | D62: =C62+1 -> 329 | E62: =D62+1 -> 330 | F62: =E62+1 -> 331 | H62: =F62+1 -> 332 | J62: =Q60+1 -> 354 | K62: =J62+1 -> 355 | L62: =K62+1 -> 356 | M62: =L62+1 -> 357 | N62: =M62+1 -> 358 | O62: =N62+1 -> 359 | Q62: =O62+1 -> 360 | S62: =Z60+1 -> 17 | T62: =S62+1 -> 18 | U62: =T62+1 -> 19 | V62: =U62+1 -> 20 | W62: =V62+1 -> 21 | X62: =W62+1 -> 22 | Y62: $ | Z62: =X62+1 -> 23 | AB62: =AI60+1 -> 52 | AC62: =AB62+1 -> 53 | AD62: =AC62+1 -> 54 | AE62: =AD62+1 -> 55 | AF62: =AE62+1 -> 56 | AG62: =AF62+1 -> 57 | AI62: =AG62+1 -> 58 | AK62: =AR60+1 -> 80 | AL62: =AK62+1 -> 81 | AM62: =AL62+1 -> 82 | AN62: =AM62+1 -> 83 | AO62: =AN62+1 -> 84 | AP62: =AO62+1 -> 85 | AR62: =AP62+1 -> 86
A63: =H61+1 -> 29 | B63: =A63+1 -> 30 | J63: =Q61+1 -> 27 | K63: =J63+1 -> 28 | L63: =K63+1 -> 29 | M63: =L63+1 -> 30 | N63: =M63+1 -> 31 | S63: =Z61+1 -> 24 | T63: =S63+1 -> 25 | U63: =T63+1 -> 26 | V63: =U63+1 -> 27 | W63: =V63+1 -> 28 | X63: =W63+1 -> 29 | Z63: =X63+1 -> 30 | AB63: =AI61+1 -> 28 | AC63: =AB63+1 -> 29 | AK63: =AR61+1 -> 27 | AL63: =AK63+1 -> 28 | AM63: =AL63+1 -> 29 | AN63: =AM63+1 -> 30 | AO63: =AN63+1 -> 31
A64: =H62+1 -> 333 | B64: =A64+1 -> 334 | J64: =Q62+1 -> 361 | K64: =J64+1 -> 362 | L64: =K64+1 -> 363 | M64: =L64+1 -> 364 | N64: =M64+1 -> 365 | S64: =Z62+1 -> 24 | T64: =S64+1 -> 25 | U64: =T64+1 -> 26 | V64: =U64+1 -> 27 | W64: =V64+1 -> 28 | X64: =W64+1 -> 29 | Z64: =X64+1 -> 30 | AB64: =AI62+1 -> 59 | AC64: =AB64+1 -> 60 | AK64: =AR62+1 -> 87 | AL64: =AK64+1 -> 88 | AM64: =AL64+1 -> 89 | AN64: =AM64+1 -> 90 | AO64: =AN64+1 -> 91
S65: =Z63+1 -> 31
S66: =Z64+1 -> 31
A68: Vacation Hours Used | E68: Vac. Hours Left | J68: Vacation Hours Used | N68: Vac. Hours Left | S68: Vacation Hours Used | W68: Vac. Hours Left | AB68: Vacation Hours Used | AF68: Vac. Hours Left | AK68: Vacation Hours Used | AO68: Vac. Hours Left
E69: =IF(OR($AE$4=0,$AE$4=""),"",IF((INT(E51*100+0.5)-INT(A69*100+0.5))/100=0,"0",(INT(AO51*100+0.5)-INT(A69*100+0.5))/100)) | N69: =IF(OR($AE$4=0,$AE$4=""),"",IF((INT(N51*100+0.5)-INT(J69*100+0.5))/100=0,"0",(INT(E69*100+0.5)-INT(J69*100+0.5))/100)) | W69: =IF(OR($AE$4=0,$AE$4=""),"",IF((INT(W51*100+0.5)-INT(S69*100+0.5))/100=0,"0",(INT(N69*100+0.5)-INT(S69*100+0.5))/100)) | AF69: =IF(OR($AE$4=0,$AE$4=""),"",IF((INT(AF51*100+0.5)-INT(AB69*100+0.5))/100=0,"0",(INT(W69*100+0.5)-INT(AB69*100+0.5))/100)) | AO69: =IF(OR($AE$4=0,$AE$4=""),"",IF((INT(AO51*100+0.5)-INT(AK69*100+0.5))/100=0,"0",(INT(AF69*100+0.5)-INT(AK69*100+0.5))/100))
A70: 2014.11.06 | C70: BvDB

Sheet Holiday Schedule
I1: 2015 | M1: HOLIDAY SCHEDULE
A3: MONTH | B3: NAME | C3: RELATIVE SENIORITY | D3: 1 | E3: 2 | F3: 3 | G3: 4 | H3: 5 | I3: 6 | J3: 7 | K3: 8 | L3: 9 | M3: 10 | N3: 11 | O3: 12 | P3: 13 | Q3: 14 | R3: 15 | S3: 16 | T3: 17 | U3: 18 | V3: 19 | W3: 20 | X3: 21 | Y3: 22 | Z3: 23 | AA3: 24 | AB3: 25 | AC3: 26 | AD3: 27 | AE3: 28 | AF3: 29 | AG3: 30 | AH3: 31
D4: T | E4: $F | F4: S | G4: S | H4: M | I4: T | J4: W | K4: T | L4: F | M4: S | N4: S | O4: M | P4: T | Q4: W | R4: T | S4: $F | T4: S | U4: S | V4: M | W4: T | X4: W | Y4: T | Z4: F | AA4: S | AB4: S | AC4: M | AD4: T | AE4: W | AF4: T | AG4: $F | AH4: S
A5: J A N U A R Y
D35: S | E35: M | F35: T | G35: W | H35: T | I35: F | J35: S | K35: S | L35: M | M35: T | N35: W | O35: T | P35: $F | Q35: S | R35: S | S35: M | T35: T | U35: W | V35: T | W35: F | X35: S | Y35: S | Z35: M | AA35: T | AB35: W | AC35: T | AD35: $F | AE35: S
A36: F E B R U A R Y
D66: S | E66: M | F66: T | G66: W | H66: T | I66: F | J66: S | K66: S | L66: M | M66: T | N66: W | O66: T | P66: $F | Q66: S | R66: S | S66: M | T66: T | U66: W | V66: T | W66: F | X66: S | Y66: S | Z66: M | AA66: T | AB66: W | AC66: T | AD66: $F | AE66: S | AF66: S | AG66: M | AH66: T
A67: M A R C H
D97: W | E97: T | F97: F | G97: S | H97: S | I97: M | J97: T | K97: W | L97: T | M97: $F | N97: S | O97: S | P97: M | Q97: T | R97: W | S97: T | T97: F | U97: S | V97: S | W97: M | X97: T | Y97: W | Z97: T | AA97: $F | AB97: S | AC97: S | AD97: M | AE97: T | AF97: W | AG97: T
A98: A P R I L
D128: F | E128: S | F128: S | G128: M | H128: T | I128: W | J128: T | K128: $F | L128: S | M128: S | N128: M | O128: T | P128: W | Q128: T | R128: F | S128: S | T128: S | U128: M | V128: T | W128: W | X128: T | Y128: $F | Z128: S | AA128: S | AB128: M | AC128: T | AD128: W | AE128: T | AF128: F | AG128: S | AH128: S
A129: M A Y
D159: M | E159: T | F159: W | G159: T | H159: $F | I159: S | J159: S | K159: M | L159: T | M159: W | N159: T | O159: F | P159: S | Q159: S | R159: M | S159: T | T159: W | U159: T | V159: $F | W159: S | X159: S | Y159: M | Z159: T | AA159: W | AB159: T | AC159: F | AD159: S | AE159: S | AF159: M | AG159: T
A160: J U N E
D190: W | E190: T | F190: $F | G190: S | H190: S | I190: M | J190: T | K190: W | L190: T | M190: F | N190: S | O190: S | P190: M | Q190: T | R190: W | S190: T | T190: $F | U190: S | V190: S | W190: M | X190: T | Y190: W | Z190: T | AA190: F | AB190: S | AC190: S | AD190: M | AE190: T | AF190: W | AG190: T | AH190: $F
A191: J U L Y
D221: S | E221: S | F221: M | G221: T | H221: W | I221: T | J221: F | K221: S | L221: S | M221: M | N221: T | O221: W | P221: T | Q221: $F | R221: S | S221: S | T221: M | U221: T | V221: W | W221: T | X221: F | Y221: S | Z221: S | AA221: M | AB221: T | AC221: W | AD221: T | AE221: $F | AF221: S | AG221: S | AH221: M
A222: A U G U S T
D252: T | E252: W | F252: T | G252: F | H252: S | I252: S | J252: M | K252: T | L252: W | M252: T | N252: $F | O252: S | P252: S | Q252: M | R252: T | S252: W | T252: T | U252: F | V252: S | W252: S | X252: M | Y252: T | Z252: W | AA252: T | AB252: $F | AC252: S | AD252: S | AE252: M | AF252: T | AG252: W
A253: S E P T E M B E R
D283: T | E283: F | F283: S | G283: S | H283: M | I283: T | J283: W | K283: T | L283: $F | M283: S | N283: S | O283: M | P283: T | Q283: W | R283: T | S283: F | T283: S | U283: S | V283: M | W283: T | X283: W | Y283: T | Z283: $F | AA283: S | AB283: S | AC283: M | AD283: T | AE283: W | AF283: T | AG283: F | AH283: S
A284: O C T O B E R
D314: S | E314: M | F314: T | G314: W | H314: T | I314: $F | J314: S | K314: S | L314: M | M314: T | N314: W | O314: T | P314: F | Q314: S | R314: S | S314: M | T314: T | U314: W | V314: T | W314: $F | X314: S | Y314: S | Z314: M | AA314: T | AB314: W | AC314: T | AD314: F | AE314: S | AF314: S
A315: N O V E M B E R
D345: T | E345: W | F345: T | G345: $F | H345: S | I345: S | J345: M | K345: T | L345: W | M345: T | N345: F | O345: S | P345: S | Q345: M | R345: T | S345: W | T345: T | U345: $F | V345: S | W345: S | X345: M | Y345: T | Z345: W | AA345: T | AB345: F | AC345: S | AD345: S | AE345: M | AF345: T | AG345: W | AH345: $T
A346: D E C E M B E R
D376: F | E376: S | F376: S | G376: M | H376: T | I376: W | J376: T | K376: F | L376: S | M376: S | N376: M | O376: T | P376: W | Q376: T | R376: $F | S376: S | T376: S | U376: M | V376: T | W376: W | X376: T | Y376: F | Z376: S | AA376: S | AB376: M | AC376: T | AD376: W | AE376: T | AF376: $F | AG376: S | AH376: S
A377: J A N U A R Y 2 0 1 5
B408: 1ST Choice of Vacation
B410: 2ND Choice of Vacation
B412: 3RD Choice of Vacation
B414: Additional Requests.
B416: FLEX DAYS - F
B417: SCHEDULED DAY OFF - O
B418: VACATION - V
B419: COURSE - C
B421: Carried over

Sheet Age Table
A1: AGE TABLE FOR: | D1: 2015
A4: BORN | B4: AGE | D4: BORN | E4: AGE | G4: BORN | H4: AGE
A5: =$D$1-B5 -> 1925 | B5: =B6+1 -> 90 | D5: =$D$1-E5 -> 1950 | E5: =E6+1 -> 65 | G5: =$D$1-H5 -> 1975 | H5: =H6+1 -> 40
A6: =$D$1-B6 -> 1926 | B6: =B7+1 -> 89 | D6: =$D$1-E6 -> 1951 | E6: =E7+1 -> 64 | G6: =$D$1-H6 -> 1976 | H6: =H7+1 -> 39
A7: =$D$1-B7 -> 1927 | B7: =B8+1 -> 88 | D7: =$D$1-E7 -> 1952 | E7: =E8+1 -> 63 | G7: =$D$1-H7 -> 1977 | H7: =H8+1 -> 38
A8: =$D$1-B8 -> 1928 | B8: =B9+1 -> 87 | D8: =$D$1-E8 -> 1953 | E8: =E9+1 -> 62 | G8: =$D$1-H8 -> 1978 | H8: =H9+1 -> 37
A9: =$D$1-B9 -> 1929 | B9: =B10+1 -> 86 | D9: =$D$1-E9 -> 1954 | E9: =E10+1 -> 61 | G9: =$D$1-H9 -> 1979 | H9: =H10+1 -> 36
A10: =$D$1-B10 -> 1930 | B10: =B11+1 -> 85 | D10: =$D$1-E10 -> 1955 | E10: =E11+1 -> 60 | G10: =$D$1-H10 -> 1980 | H10: =H11+1 -> 35
A11: =$D$1-B11 -> 1931 | B11: =B12+1 -> 84 | D11: =$D$1-E11 -> 1956 | E11: =E12+1 -> 59 | G11: =$D$1-H11 -> 1981 | H11: =H12+1 -> 34
A12: =$D$1-B12 -> 1932 | B12: =B13+1 -> 83 | D12: =$D$1-E12 -> 1957 | E12: =E13+1 -> 58 | G12: =$D$1-H12 -> 1982 | H12: =H13+1 -> 33
A13: =$D$1-B13 -> 1933 | B13: =B14+1 -> 82 | D13: =$D$1-E13 -> 1958 | E13: =E14+1 -> 57 | G13: =$D$1-H13 -> 1983 | H13: =H14+1 -> 32
A14: =$D$1-B14 -> 1934 | B14: =B15+1 -> 81 | D14: =$D$1-E14 -> 1959 | E14: =E15+1 -> 56 | G14: =$D$1-H14 -> 1984 | H14: =H15+1 -> 31
A15: =$D$1-B15 -> 1935 | B15: =B16+1 -> 80 | D15: =$D$1-E15 -> 1960 | E15: =E16+1 -> 55 | G15: =$D$1-H15 -> 1985 | H15: =H16+1 -> 30
A16: =$D$1-B16 -> 1936 | B16: =B17+1 -> 79 | D16: =$D$1-E16 -> 1961 | E16: =E17+1 -> 54 | G16: =$D$1-H16 -> 1986 | H16: =H17+1 -> 29
... A28: =$D$1-B28 -> 1948 | B28: =B29+1 -> 67 | D28: =$D$1-E28 -> 1973 | E28: =E29+1 -> 42 | G28: =$D$1-H28 -> 1998 | H28: =H29+1 -> 17
A29: =$D$1-B29 -> 1949 | B29: =E5+1 -> 66 | D29: =$D$1-E29 -> 1974 | E29: =H5+1 -> 41 | G29: =$D$1-H29 -> 1999 | H29: 16
A31: Underscore = medical required for high class licences.
A32: Note: At age 66 a medical is required annually for high class licences.
A33: Beginning at age 80 a medical is required every 2 yrs for class 5 licences.
A36: 2012.11.06 | B36: =Master2!C68 -> KW

Sheet Holiday Sched 2
G1: Absence Codes | AC1: V | AD1: Vacation | AJ1: S | AK1: STIIP | AN1: E | AO1: Earned Time Off (ETO / Flex Hours) | BC1: Statutory Holidays | BK1: =Master2!Q12 -> 2010 | CD1: HOLIDAY SCHEDULE
AC3: P | AD3: Off - Part Time | AN3: SL | AO3: Special Leave | AU3: M | AV3: Medical Appointments | BE3: T | BF3: Training | BK3: Weekends | BP3: W | BQ3: Workers Compensation | BZ3: N | CA3: N/A
A5: Vacation Hours Carried Over | B5: Vacation Hours Current Year | C5: Vacation Hours Used Jan & Feb | D5: Vacation Hours Remaining | G5: LAST NAME | K5: FIRST NAME | O5: RELATIVE SENIORITY (MAY NOT BE CURRENT) | S5: TASKS | W5: JANUARY | BB5: FEBRUARY
W6: S | X6: M | Y6: T | Z6: W | AA6: T | AB6: F | AC6: S | AD6: S | AE6: M | AF6: T | AG6: W | AH6: T | AI6: $F | AJ6: S | AK6: S | AL6: M | AM6: T | AN6: W | AO6: T | AP6: F | AQ6: S | AR6: S | AS6: M | AT6: T | AU6: W | AV6: T | AW6: $F | AX6: S | AY6: S | AZ6: M | BA6: T | BB6: W | BC6: T | BD6: F | BE6: S | BF6: S | BG6: M | BH6: T | BI6: W | BJ6: T | BK6: $F | BL6: S | BM6: S | BN6: M | BO6: T | BP6: W | BQ6: T | BR6: F | BS6: S | BT6: S | BU6: M | BV6: T | BW6: W | BX6: T | BY6: $F | BZ6: S | CA6: S | CB6: M | CC6: T
W7: 1 | X7: 2 | Y7: 3 | Z7: 4 | AA7: 5 | AB7: 6 | AC7: 7 | AD7: 8 | AE7: 9 | AF7: 10 | AG7: 11 | AH7: 12 | AI7: 13 | AJ7: 14 | AK7: 15 | AL7: 16 | AM7: 17 | AN7: 18 | AO7: 19 | AP7: 20 | AQ7: 21 | AR7: 22 | AS7: 23 | AT7: 24 | AU7: 25 | AV7: 26 | AW7: 27 | AX7: 28 | AY7: 29 | AZ7: 30 | BA7: 31 | BB7: 1 | BC7: 2 | BD7: 3 | BE7: 4 | BF7: 5 | BG7: 6 | BH7: 7 | BI7: 8 | BJ7: 9 | BK7: 10 | BL7: 11 | BM7: 12 | BN7: 13 | BO7: 14 | BP7: 15 | BQ7: 16 | BR7: 17 | BS7: 18 | BT7: 19 | BU7: 20 | BV7: 21 | BW7: 22 | BX7: 23 | BY7: 24 | BZ7: 25 | CA7: 26 | CB7: 27 | CC7: 28
D8: =IF(AND(A8="",B8=""),"",A8+B8-C8)
D9: =IF(AND(A9="",B9=""),"",A9+B9-C9)
D10: =IF(AND(A10="",B10=""),"",A10+B10-C10)
D11: =IF(AND(A11="",B11=""),"",A11+B11-C11)
D12: =IF(AND(A12="",B12=""),"",A12+B12-C12)
D13: =IF(AND(A13="",B13=""),"",A13+B13-C13)
D14: =IF(AND(A14="",B14=""),"",A14+B14-C14)
D15: =IF(AND(A15="",B15=""),"",A15+B15-C15)
D17: =IF(AND(A17="",B17=""),"",A17+B17-C17)
D18: =IF(AND(A18="",B18=""),"",A18+B18-C18)
D19: =IF(AND(A19="",B19=""),"",A19+B19-C19)
D20: =IF(AND(A20="",B20=""),"",A20+B20-C20)
D21: =IF(AND(A21="",B21=""),"",A21+B21-C21)
C23: Vacation Hours Used March & April | D23: Vacation Hours Remaining | G23: =G5 -> LAST NAME | K23: =K5 -> FIRST NAME | O23: =O5 -> RELATIVE SENIORITY (MAY NOT BE CURRENT) | S23: =S5 -> TASKS | W23: MARCH | BB23: APRIL
W24: W | X24: T | Y24: F | Z24: S | AA24: S | AB24: M | AC24: T | AD24: W | AE24: T | AF24: $F | AG24: S | AH24: S | AI24: M | AJ24: T | AK24: W | AL24: T | AM24: F | AN24: S | AO24: S | AP24: M | AQ24: T | AR24: W | AS24: T | AT24: $F | AU24: S | AV24: S | AW24: M | AX24: T | AY24: W | AZ24: T | BA24: F | BB24: S | BC24: S | BD24: M | BE24: T | BF24: W | BG24: T | BH24: $F | BI24: S | BJ24: S | BK24: M | BL24: T | BM24: W | BN24: T | BO24: F | BP24: S | BQ24: S | BR24: M | BS24: T | BT24: W | BU24: T | BV24: $F | BW24: S | BX24: S | BY24: M | BZ24: T | CA24: W | CB24: T | CC24: F | CD24: S | CE24: S
W25: 1 | X25: 2 | Y25: 3 | Z25: 4 | AA25: 5 | AB25: 6 | AC25: 7 | AD25: 8 | AE25: 9 | AF25: 10 | AG25: 11 | AH25: 12 | AI25: 13 | AJ25: 14 | AK25: 15 | AL25: 16 | AM25: 17 | AN25: 18 | AO25: 19 | AP25: 20 | AQ25: 21 | AR25: 22 | AS25: 23 | AT25: 24 | AU25: 25 | AV25: 26 | AW25: 27 | AX25: 28 | AY25: 29 | AZ25: 30 | BA25: 31 | BB25: 1 | BC25: 2 | BD25: 3 | BE25: 4 | BF25: 5 | BG25: 6 | BH25: 7 | BI25: 8 | BJ25: 9 | BK25: 10 | BL25: 11 | BM25: 12 | BN25: 13 | BO25: 14 | BP25: 15 | BQ25: 16 | BR25: 17 | BS25: 18 | BT25: 19 | BU25: 20 | BV25: 21 | BW25: 22 | BX25: 23 | BY25: 24 | BZ25: 25 | CA25: 26 | CB25: 27 | CC25: 28 | CD25: 29 | CE25: 30
D26: =IF(OR(D8=0,D8=""),"",IF((INT(D8+100+0.5)-INT(C26*100+0.5))/100=0,"0",(INT(D8*100+0.5)-INT(C26*100+0.5))/100)) | G26: =IF($G$8="","",$G$8) | K26: =IF($K$8="","",$K$8) | O26: =IF($O$8="","",$O$8) | S26: =IF($S$8="","",$S$8)
D27: =IF(OR(D9=0,D9=""),"",IF((INT(D9+100+0.5)-INT(C27*100+0.5))/100=0,"0",(INT(D9*100+0.5)-INT(C27*100+0.5))/100)) | G27: =IF($G$9="","",$G$9) | K27: =IF($K$9="","",$K$9) | O27: =IF($O$9="","",$O$9) | S27: =IF($S$9="","",$S$9)
D28: =IF(OR(D10=0,D10=""),"",IF((INT(D10+100+0.5)-INT(C28*100+0.5))/100=0,"0",(INT(D10*100+0.5)-INT(C28*100+0.5))/100)) | G28: =IF($G$10="","",$G$10) | K28: =IF($K$10="","",$K$10) | O28: =IF($O$10="","",$O$10) | S28: =IF($S$10="","",$S$10)
D29: =IF(OR(D11=0,D11=""),"",IF((INT(D11+100+0.5)-INT(C29*100+0.5))/100=0,"0",(INT(D11*100+0.5)-INT(C29*100+0.5))/100)) | G29: =IF($G$11="","",$G$11) | K29: =IF($K$11="","",$K$11) | O29: =IF($O$11="","",$O$11) | S29: =IF($S$11="","",$S$11)
D30: =IF(OR(D12=0,D12=""),"",IF((INT(D12+100+0.5)-INT(C30*100+0.5))/100=0,"0",(INT(D12*100+0.5)-INT(C30*100+0.5))/100)) | G30: =IF($G$12="","",$G$12) | K30: =IF($K$12="","",$K$12) | O30: =IF($O$12="","",$O$12) | S30: =IF($S$12="","",$S$12)
D31: =IF(OR(D13=0,D13=""),"",IF((INT(D13+100+0.5)-INT(C31*100+0.5))/100=0,"0",(INT(D13*100+0.5)-INT(C31*100+0.5))/100)) | G31: =IF($G$13="","",$G$13) | K31: =IF($K$13="","",$K$13) | O31: =IF($O$13="","",$O$13) | S31: =IF($S$13="","",$S$13)
D32: =IF(OR(D14=0,D14=""),"",IF((INT(D14+100+0.5)-INT(C32*100+0.5))/100=0,"0",(INT(D14*100+0.5)-INT(C32*100+0.5))/100)) | G32: =IF($G$14="","",$G$14) | K32: =IF($K$14="","",$K$14) | O32: =IF($O$14="","",$O$14) | S32: =IF($S$14="","",$S$14)
D33: =IF(OR(D15=0,D15=""),"",IF((INT(D15+100+0.5)-INT(C33*100+0.5))/100=0,"0",(INT(D15*100+0.5)-INT(C33*100+0.5))/100)) | G33: =IF($G$15="","",$G$15) | K33: =IF($K$15="","",$K$15) | O33: =IF($O$15="","",$O$15) | S33: =IF($S$15="","",$S$15)
D34: =IF(OR(D16=0,D16=""),"",IF((INT(D16+100+0.5)-INT(C34*100+0.5))/100=0,"0",(INT(D16*100+0.5)-INT(C34*100+0.5))/100)) | G34: =IF($G$16="","",$G$16) | K34: =IF($K$16="","",$K$16) | O34: =IF($O$16="","",$O$16) | S34: =IF($S$16="","",$S$16)
D35: =IF(OR(D17=0,D17=""),"",IF((INT(D17+100+0.5)-INT(C35*100+0.5))/100=0,"0",(INT(D17*100+0.5)-INT(C35*100+0.5))/100)) | G35: =IF($G$17="","",$G$17) | K35: =IF($K$17="","",$K$17) | O35: =IF($O$17="","",$O$17) | S35: =IF($S$17="","",$S$17)
D36: =IF(OR(D18=0,D18=""),"",IF((INT(D18+100+0.5)-INT(C36*100+0.5))/100=0,"0",(INT(D18*100+0.5)-INT(C36*100+0.5))/100)) | G36: =IF($G$18="","",$G$18) | K36: =IF($K$18="","",$K$18) | O36: =IF($O$18="","",$O$18) | S36: =IF($S$18="","",$S$18)
D37: =IF(OR(D19=0,D19=""),"",IF((INT(D19+100+0.5)-INT(C37*100+0.5))/100=0,"0",(INT(D19*100+0.5)-INT(C37*100+0.5))/100)) | G37: =IF($G$19="","",$G$19) | K37: =IF($K$19="","",$K$19) | O37: =IF($O$19="","",$O$19) | S37: =IF($S$19="","",$S$19)
D38: =IF(OR(D20=0,D20=""),"",IF((INT(D20+100+0.5)-INT(C38*100+0.5))/100=0,"0",(INT(D20*100+0.5)-INT(C38*100+0.5))/100)) | G38: =IF($G$20="","",$G$20) | K38: =IF($K$20="","",$K$20) | O38: =IF($O$20="","",$O$20) | S38: =IF(S20="","",S20)
D39: =IF(OR(D21=0,D21=""),"",IF((INT(D21+100+0.5)-INT(C39*100+0.5))/100=0,"0",(INT(D21*100+0.5)-INT(C39*100+0.5))/100)) | G39: =IF($G$21="","",$G$21) | K39: =IF($K$21="","",$K$21) | O39: =IF($O$21="","",$O$21) | S39: =IF($S$21="","",$S$21)
G41: Task Codes
C43: Vacation Hours Used May & June | D43: Vacation Hours Remaining | G43: =G5 -> LAST NAME | K43: =K5 -> FIRST NAME | O43: =O5 -> RELATIVE SENIORITY (MAY NOT BE CURRENT) | S43: =S5 -> TASKS | W43: MAY | BB43: JUNE
W44: M | X44: T | Y44: W | Z44: T | AA44: $F | AB44: S | AC44: S | AD44: M | AE44: T | AF44: W | AG44: T | AH44: F | AI44: S | AJ44: S | AK44: M | AL44: T | AM44: W | AN44: T | AO44: $F | AP44: S | AQ44: S | AR44: M | AS44: T | AT44: W | AU44: T | AV44: F | AW44: S | AX44: S | AY44: M | AZ44: T | BA44: W | BB44: T | BC44: $F | BD44: S | BE44: S | BF44: M | BG44: T | BH44: W | BI44: T | BJ44: F | BK44: S | BL44: S | BM44: M | BN44: T | BO44: W | BP44: T | BQ44: $F | BR44: S | BS44: S | BT44: M | BU44: T | BV44: W | BW44: T | BX44: F | BY44: S | BZ44: S | CA44: M | CB44: T | CC44: W | CD44: T | CE44: $F
W45: 1 | X45: 2 | Y45: 3 | Z45: 4 | AA45: 5 | AB45: 6 | AC45: 7 | AD45: 8 | AE45: 9 | AF45: 10 | AG45: 11 | AH45: 12 | AI45: 13 | AJ45: 14 | AK45: 15 | AL45: 16 | AM45: 17 | AN45: 18 | AO45: 19 | AP45: 20 | AQ45: 21 | AR45: 22 | AS45: 23 | AT45: 24 | AU45: 25 | AV45: 26 | AW45: 27 | AX45: 28 | AY45: 29 | AZ45: 30 | BA45: 31 | BB45: 1 | BC45: 2 | BD45: 3 | BE45: 4 | BF45: 5 | BG45: 6 | BH45: 7 | BI45: 8 | BJ45: 9 | BK45: 10 | BL45: 11 | BM45: 12 | BN45: 13 | BO45: 14 | BP45: 15 | BQ45: 16 | BR45: 17 | BS45: 18 | BT45: 19 | BU45: 20 | BV45: 21 | BW45: 22 | BX45: 23 | BY45: 24 | BZ45: 25 | CA45: 26 | CB45: 27 | CC45: 28 | CD45: 29 | CE45: 30
D46: =IF(OR(D8=0,D8=""),"",IF((INT(D26+100+0.5)-INT(C46*100+0.5))/100=0,"0",(INT(D26*100+0.5)-INT(C46*100+0.5))/100)) | G46: =IF($G$8="","",$G$8) | K46: =IF($K$8="","",$K$8) | O46: =IF($O$8="","",$O$8) | S46: =IF($S$8="","",$S$8)
D47: =IF(OR(D9=0,D9=""),"",IF((INT(D27+100+0.5)-INT(C47*100+0.5))/100=0,"0",(INT(D27*100+0.5)-INT(C47*100+0.5))/100)) | G47: =IF($G$9="","",$G$9) | K47: =IF($K$9="","",$K$9) | O47: =IF($O$9="","",$O$9) | S47: =IF($S$9="","",$S$9)
D48: =IF(OR(D10=0,D10=""),"",IF((INT(D28+100+0.5)-INT(C48*100+0.5))/100=0,"0",(INT(D28*100+0.5)-INT(C48*100+0.5))/100)) | G48: =IF($G$10="","",$G$10) | K48: =IF($K$10="","",$K$10) | O48: =IF($O$10="","",$O$10) | S48: =IF($S$10="","",$S$10)
D49: =IF(OR(D11=0,D11=""),"",IF((INT(D29+100+0.5)-INT(C49*100+0.5))/100=0,"0",(INT(D29*100+0.5)-INT(C49*100+0.5))/100)) | G49: =IF($G$11="","",$G$11) | K49: =IF($K$11="","",$K$11) | O49: =IF($O$11="","",$O$11) | S49: =IF($S$11="","",$S$11)
D50: =IF(OR(D12=0,D12=""),"",IF((INT(D30+100+0.5)-INT(C50*100+0.5))/100=0,"0",(INT(D30*100+0.5)-INT(C50*100+0.5))/100)) | G50: =IF($G$12="","",$G$12) | K50: =IF($K$12="","",$K$12) | O50: =IF($O$12="","",$O$12) | S50: =IF($S$12="","",$S$12)
D51: =IF(OR(D13=0,D13=""),"",IF((INT(D31+100+0.5)-INT(C51*100+0.5))/100=0,"0",(INT(D31*100+0.5)-INT(C51*100+0.5))/100)) | G51: =IF($G$13="","",$G$13) | K51: =IF($K$13="","",$K$13) | O51: =IF($O$13="","",$O$13) | S51: =IF($S$13="","",$S$13)
D52: =IF(OR(D14=0,D14=""),"",IF((INT(D32+100+0.5)-INT(C52*100+0.5))/100=0,"0",(INT(D32*100+0.5)-INT(C52*100+0.5))/100)) | G52: =IF($G$14="","",$G$14) | K52: =IF($K$14="","",$K$14) | O52: =IF($O$14="","",$O$14) | S52: =IF($S$14="","",$S$14)
D53: =IF(OR(D15=0,D15=""),"",IF((INT(D33+100+0.5)-INT(C53*100+0.5))/100=0,"0",(INT(D33*100+0.5)-INT(C53*100+0.5))/100)) | G53: =IF($G$15="","",$G$15) | K53: =IF($K$15="","",$K$15) | O53: =IF($O$15="","",$O$15) | S53: =IF($S$15="","",$S$15)
S54: =IF($S$16="","",$S$16)
D55: =IF(OR(D17=0,D17=""),"",IF((INT(D35+100+0.5)-INT(C55*100+0.5))/100=0,"0",(INT(D35*100+0.5)-INT(C55*100+0.5))/100)) | G55: =IF($G$17="","",$G$17) | K55: =IF($K$17="","",$K$17) | O55: =IF($O$17="","",$O$17) | S55: =IF($S$17="","",$S$17)
D56: =IF(OR(D18=0,D18=""),"",IF((INT(D36+100+0.5)-INT(C56*100+0.5))/100=0,"0",(INT(D36*100+0.5)-INT(C56*100+0.5))/100)) | G56: =IF($G$18="","",$G$18) | K56: =IF($K$18="","",$K$18) | O56: =IF($O$18="","",$O$18) | S56: =IF($S$18="","",$S$18)
D57: =IF(OR(D19=0,D19=""),"",IF((INT(D37+100+0.5)-INT(C57*100+0.5))/100=0,"0",(INT(D37*100+0.5)-INT(C57*100+0.5))/100)) | G57: =IF($G$19="","",$G$19) | K57: =IF($K$19="","",$K$19) | O57: =IF($O$19="","",$O$19) | S57: =IF($S$19="","",$S$19)
D58: =IF(OR(D20=0,D20=""),"",IF((INT(D38+100+0.5)-INT(C58*100+0.5))/100=0,"0",(INT(D38*100+0.5)-INT(C58*100+0.5))/100)) | G58: =IF($G$20="","",$G$20) | K58: =IF($K$20="","",$K$20) | O58: =IF($O$20="","",$O$20) | S58: =IF($S$20="","",$S$20)
D59: =IF(OR(D21=0,D21=""),"",IF((INT(D39+100+0.5)-INT(C59*100+0.5))/100=0,"0",(INT(D39*100+0.5)-INT(C59*100+0.5))/100)) | G59: =IF($G$21="","",$G$21) | K59: =IF($K$21="","",$K$21) | O59: =IF($O$21="","",$O$21) | S59: =IF($S$21="","",$S$21)
C61: Vacation Hours Used July & Aug | D61: Vacation Hours Remaining | G61: =G5 -> LAST NAME | K61: =K5 -> FIRST NAME | O61: =O5 -> RELATIVE SENIORITY (MAY NOT BE CURRENT) | S61: =S5 -> TASKS | W61: JULY | BB61: AUGUST
G62: EMPLOYEE NAME | W62: S | X62: S | Y62: M | Z62: T | AA62: W | AB62: T | AC62: F | AD62: S | AE62: S | AF62: M | AG62: T | AH62: W | AI62: T | AJ62: $F | AK62: S | AL62: S | AM62: M | AN62: T | AO62: W | AP62: T | AQ62: F | AR62: S | AS62: S | AT62: M | AU62: T | AV62: W | AW62: T | AX62: $F | AY62: S | AZ62: S | BA62: M | BB62: T | BC62: W | BD62: T | BE62: F | BF62: S | BG62: S | BH62: M | BI62: T | BJ62: W | BK62: T | BL62: $F | BM62: S | BN62: S | BO62: M | BP62: T | BQ62: W | BR62: T | BS62: F | BT62: S | BU62: S | BV62: M | BW62: T | BX62: W | BY62: T | BZ62: $F | CA62: S | CB62: S | CC62: M | CD62: T | CE62: W | CF62: T
W63: 1 | X63: 2 | Y63: 3 | Z63: 4 | AA63: 5 | AB63: 6 | AC63: 7 | AD63: 8 | AE63: 9 | AF63: 10 | AG63: 11 | AH63: 12 | AI63: 13 | AJ63: 14 | AK63: 15 | AL63: 16 | AM63: 17 | AN63: 18 | AO63: 19 | AP63: 20 | AQ63: 21 | AR63: 22 | AS63: 23 | AT63: 24 | AU63: 25 | AV63: 26 | AW63: 27 | AX63: 28 | AY63: 29 | AZ63: 30 | BA63: 31 | BB63: 1 | BC63: 2 | BD63: 3 | BE63: 4 | BF63: 5 | BG63: 6 | BH63: 7 | BI63: 8 | BJ63: 9 | BK63: 10 | BL63: 11 | BM63: 12 | BN63: 13 | BO63: 14 | BP63: 15 | BQ63: 16 | BR63: 17 | BS63: 18 | BT63: 19 | BU63: 20 | BV63: 21 | BW63: 22 | BX63: 23 | BY63: 24 | BZ63: 25 | CA63: 26 | CB63: 27 | CC63: 28 | CD63: 29 | CE63: 30 | CF63: 31
D64: =IF(OR(D8=0,D8=""),"",IF((INT(D46+100+0.5)-INT(C64*100+0.5))/100=0,"0",(INT(D46*100+0.5)-INT(C64*100+0.5))/100)) | G64: =IF($G$8="","",$G$8) | K64: =IF($K$8="","",$K$8) | O64: =IF($O$8="","",$O$8) | S64: =IF($S$8="","",$S$8)
D65: =IF(OR(D9=0,D9=""),"",IF((INT(D47+100+0.5)-INT(C65*100+0.5))/100=0,"0",(INT(D47*100+0.5)-INT(C65*100+0.5))/100)) | G65: =IF($G$9="","",$G$9) | K65: =IF($K$9="","",$K$9) | O65: =IF($O$9="","",$O$9) | S65: =IF($S$9="","",$S$9)
D66: =IF(OR(D10=0,D10=""),"",IF((INT(D48+100+0.5)-INT(C66*100+0.5))/100=0,"0",(INT(D48*100+0.5)-INT(C66*100+0.5))/100)) | G66: =IF($G$10="","",$G$10) | K66: =IF($K$10="","",$K$10) | O66: =IF($O$10="","",$O$10) | S66: =IF($S$10="","",$S$10)
D67: =IF(OR(D11=0,D11=""),"",IF((INT(D49+100+0.5)-INT(C67*100+0.5))/100=0,"0",(INT(D49*100+0.5)-INT(C67*100+0.5))/100)) | G67: =IF($G$11="","",$G$11) | K67: =IF($K$11="","",$K$11) | O67: =IF($O$11="","",$O$11) | S67: =IF($S$11="","",$S$11)
D68: =IF(OR(D12=0,D12=""),"",IF((INT(D50+100+0.5)-INT(C68*100+0.5))/100=0,"0",(INT(D50*100+0.5)-INT(C68*100+0.5))/100)) | G68: =IF($G$12="","",$G$12) | K68: =IF($K$12="","",$K$12) | O68: =IF($O$12="","",$O$12) | S68: =IF($S$12="","",$S$12)
D69: =IF(OR(D13=0,D13=""),"",IF((INT(D51+100+0.5)-INT(C69*100+0.5))/100=0,"0",(INT(D51*100+0.5)-INT(C69*100+0.5))/100)) | G69: =IF($G$13="","",$G$13) | K69: =IF($K$13="","",$K$13) | O69: =IF($O$13="","",$O$13) | S69: =IF($S$13="","",$S$13)
D70: =IF(OR(D14=0,D14=""),"",IF((INT(D52+100+0.5)-INT(C70*100+0.5))/100=0,"0",(INT(D52*100+0.5)-INT(C70*100+0.5))/100)) | G70: =IF($G$14="","",$G$14) | K70: =IF($K$14="","",$K$14) | O70: =IF($O$14="","",$O$14) | S70: =IF($S$14="","",$S$14)
D71: =IF(OR(D15=0,D15=""),"",IF((INT(D53+100+0.5)-INT(C71*100+0.5))/100=0,"0",(INT(D53*100+0.5)-INT(C71*100+0.5))/100)) | G71: =IF($G$15="","",$G$15) | K71: =IF($K$15="","",$K$15) | O71: =IF($O$15="","",$O$15) | S71: =IF($S$15="","",$S$15)
D72: =IF(OR(D16=0,D16=""),"",IF((INT(D54+100+0.5)-INT(C72*100+0.5))/100=0,"0",(INT(D54*100+0.5)-INT(C72*100+0.5))/100)) | G72: =IF($G$16="","",$G$16) | K72: =IF($K$16="","",$K$16) | O72: =IF($O$16="","",$O$16) | S72: =IF($S$16="","",$S$16)
D73: =IF(OR(D17=0,D17=""),"",IF((INT(D55+100+0.5)-INT(C73*100+0.5))/100=0,"0",(INT(D55*100+0.5)-INT(C73*100+0.5))/100)) | G73: =IF($G$17="","",$G$17) | K73: =IF($K$17="","",$K$17) | O73: =IF($O$17="","",$O$17) | S73: =IF($S$17="","",$S$17)
D74: =IF(OR(D18=0,D18=""),"",IF((INT(D56+100+0.5)-INT(C74*100+0.5))/100=0,"0",(INT(D56*100+0.5)-INT(C74*100+0.5))/100)) | G74: =IF($G$18="","",$G$18) | K74: =IF($K$18="","",$K$18) | O74: =IF($O$18="","",$O$18) | S74: =IF($S$18="","",$S$18)
D75: =IF(OR(D19=0,D19=""),"",IF((INT(D57+100+0.5)-INT(C75*100+0.5))/100=0,"0",(INT(D57*100+0.5)-INT(C75*100+0.5))/100)) | G75: =IF($G$19="","",$G$19) | K75: =IF($K$19="","",$K$19) | O75: =IF($O$19="","",$O$19) | S75: =IF($S$19="","",$S$19)
D76: =IF(OR(D20=0,D20=""),"",IF((INT(D58+100+0.5)-INT(C76*100+0.5))/100=0,"0",(INT(D58*100+0.5)-INT(C76*100+0.5))/100)) | G76: =IF($G$20="","",$G$20) | K76: =IF($K$20="","",$K$20) | O76: =IF($O$20="","",$O$20) | S76: =IF($S$20="","",$S$20)
D77: =IF(OR(D21=0,D21=""),"",IF((INT(D59+100+0.5)-INT(C77*100+0.5))/100=0,"0",(INT(D59*100+0.5)-INT(C77*100+0.5))/100)) | G77: =IF($G$21="","",$G$21) | K77: =IF($K$21="","",$K$21) | O77: =IF($O$21="","",$O$21) | S77: =IF($S$21="","",$S$21)
G79: Task Codes
C81: Vacation Hours Used Sept & Oct | D81: Vacation Hours Remaining | G81: =G5 -> LAST NAME | K81: =K5 -> FIRST NAME | O81: =O5 -> RELATIVE SENIORITY (MAY NOT BE CURRENT) | S81: =S5 -> TASKS | W81: SEPTEMBER | BA81: OCTOBER
W82: F | X82: S | Y82: S | Z82: M | AA82: T | AB82: W | AC82: T | AD82: $F | AE82: S | AF82: S | AG82: M | AH82: T | AI82: W | AJ82: T | AK82: F | AL82: S | AM82: S | AN82: M | AO82: T | AP82: W | AQ82: T | AR82: $F | AS82: S | AT82: S | AU82: M | AV82: T | AW82: W | AX82: T | AY82: F | AZ82: S | BA82: S | BB82: M | BC82: T | BD82: W | BE82: T | BF82: $F | BG82: S | BH82: S | BI82: M | BJ82: T | BK82: W | BL82: T | BM82: F | BN82: S | BO82: S | BP82: M | BQ82: T | BR82: W | BS82: T | BT82: $F | BU82: S | BV82: S | BW82: M | BX82: T | BY82: W | BZ82: T | CA82: F | CB82: S | CC82: S | CD82: M | CE82: T
W83: 1 | X83: 2 | Y83: 3 | Z83: 4 | AA83: 5 | AB83: 6 | AC83: 7 | AD83: 8 | AE83: 9 | AF83: 10 | AG83: 11 | AH83: 12 | AI83: 13 | AJ83: 14 | AK83: 15 | AL83: 16 | AM83: 17 | AN83: 18 | AO83: 19 | AP83: 20 | AQ83: 21 | AR83: 22 | AS83: 23 | AT83: 24 | AU83: 25 | AV83: 26 | AW83: 27 | AX83: 28 | AY83: 29 | AZ83: 30 | BA83: 1 | BB83: 2 | BC83: 3 | BD83: 4 | BE83: 5 | BF83: 6 | BG83: 7 | BH83: 8 | BI83: 9 | BJ83: 10 | BK83: 11 | BL83: 12 | BM83: 13 | BN83: 14 | BO83: 15 | BP83: 16 | BQ83: 17 | BR83: 18 | BS83: 19 | BT83: 20 | BU83: 21 | BV83: 22 | BW83: 23 | BX83: 24 | BY83: 25 | BZ83: 26 | CA83: 27 | CB83: 28 | CC83: 29 | CD83: 30 | CE83: 31
D84: =IF(OR(D8=0,D8=""),"",IF((INT(D64+100+0.5)-INT(C84*100+0.5))/100=0,"0",(INT(D64*100+0.5)-INT(C84*100+0.5))/100)) | G84: =IF($G$8="","",$G$8) | K84: =IF($K$8="","",$K$8) | O84: =IF($O$8="","",$O$8) | S84: =IF($S$8="","",$S$8)
D85: =IF(OR(D9=0,D9=""),"",IF((INT(D65+100+0.5)-INT(C85*100+0.5))/100=0,"0",(INT(D65*100+0.5)-INT(C85*100+0.5))/100)) | G85: =IF($G$9="","",$G$9) | K85: =IF($K$9="","",$K$9) | O85: =IF($O$9="","",$O$9) | S85: =IF($S$9="","",$S$9)
D86: =IF(OR(D10=0,D10=""),"",IF((INT(D66+100+0.5)-INT(C86*100+0.5))/100=0,"0",(INT(D66*100+0.5)-INT(C86*100+0.5))/100)) | G86: =IF($G$10="","",$G$10) | K86: =IF($K$10="","",$K$10) | O86: =IF($O$10="","",$O$10) | S86: =IF($S$10="","",$S$10)
D87: =IF(OR(D11=0,D11=""),"",IF((INT(D67+100+0.5)-INT(C87*100+0.5))/100=0,"0",(INT(D67*100+0.5)-INT(C87*100+0.5))/100)) | G87: =IF($G$11="","",$G$11) | K87: =IF($K$11="","",$K$11) | O87: =IF($O$11="","",$O$11) | S87: =IF($S$11="","",$S$11)
D88: =IF(OR(D12=0,D12=""),"",IF((INT(D68+100+0.5)-INT(C88*100+0.5))/100=0,"0",(INT(D68*100+0.5)-INT(C88*100+0.5))/100)) | G88: =IF($G$12="","",$G$12) | K88: =IF($K$12="","",$K$12) | O88: =IF($O$12="","",$O$12) | S88: =IF($S$12="","",$S$12)
D89: =IF(OR(D13=0,D13=""),"",IF((INT(D69+100+0.5)-INT(C89*100+0.5))/100=0,"0",(INT(D69*100+0.5)-INT(C89*100+0.5))/100)) | G89: =IF($G$13="","",$G$13) | K89: =IF($K$13="","",$K$13) | O89: =IF($O$13="","",$O$13) | S89: =IF($S$13="","",$S$13)
D90: =IF(OR(D14=0,D14=""),"",IF((INT(D70+100+0.5)-INT(C90*100+0.5))/100=0,"0",(INT(D70*100+0.5)-INT(C90*100+0.5))/100)) | G90: =IF($G$14="","",$G$14) | K90: =IF($K$14="","",$K$14) | O90: =IF($O$14="","",$O$14) | S90: =IF($S$14="","",$S$14)
D91: =IF(OR(D15=0,D15=""),"",IF((INT(D71+100+0.5)-INT(C91*100+0.5))/100=0,"0",(INT(D71*100+0.5)-INT(C91*100+0.5))/100)) | G91: =IF($G$15="","",$G$15) | K91: =IF($K$15="","",$K$15) | O91: =IF($O$15="","",$O$15) | S91: =IF($S$15="","",$S$15)
D92: =IF(OR(D16=0,D16=""),"",IF((INT(D72+100+0.5)-INT(C92*100+0.5))/100=0,"0",(INT(D72*100+0.5)-INT(C92*100+0.5))/100)) | G92: =IF($G$16="","",$G$16) | K92: =IF($K$16="","",$K$16) | O92: =IF($O$16="","",$O$16) | S92: =IF($S$16="","",$S$16)
D93: =IF(OR(D17=0,D17=""),"",IF((INT(D73+100+0.5)-INT(C93*100+0.5))/100=0,"0",(INT(D73*100+0.5)-INT(C93*100+0.5))/100)) | G93: =IF($G$17="","",$G$17) | K93: =IF($K$17="","",$K$17) | O93: =IF($O$17="","",$O$17) | S93: =IF($S$17="","",$S$17)
D94: =IF(OR(D18=0,D18=""),"",IF((INT(D74+100+0.5)-INT(C94*100+0.5))/100=0,"0",(INT(D74*100+0.5)-INT(C94*100+0.5))/100)) | G94: =IF($G$18="","",$G$18) | K94: =IF($K$18="","",$K$18) | O94: =IF($O$18="","",$O$18) | S94: =IF($S$18="","",$S$18)
D95: =IF(OR(D19=0,D19=""),"",IF((INT(D75+100+0.5)-INT(C95*100+0.5))/100=0,"0",(INT(D75*100+0.5)-INT(C95*100+0.5))/100)) | G95: =IF($G$19="","",$G$19) | K95: =IF($K$19="","",$K$19) | O95: =IF($O$19="","",$O$19) | S95: =IF($S$19="","",$S$19)
D96: =IF(OR(D20=0,D20=""),"",IF((INT(D76+100+0.5)-INT(C96*100+0.5))/100=0,"0",(INT(D76*100+0.5)-INT(C96*100+0.5))/100)) | G96: =IF($G$20="","",$G$20) | K96: =IF($K$20="","",$K$20) | O96: =IF($O$20="","",$O$20) | S96: =IF($S$20="","",$S$20)
D97: =IF(OR(D21=0,D21=""),"",IF((INT(D77+100+0.5)-INT(C97*100+0.5))/100=0,"0",(INT(D77*100+0.5)-INT(C97*100+0.5))/100)) | G97: =IF($G$21="","",$G$21) | K97: =IF($K$21="","",$K$21) | O97: =IF($O$21="","",$O$21) | S97: =IF($S$21="","",$S$21)
C99: Vacation Hours Used Nov & Dec | D99: Vacation Hours Remaining | G99: =G5 -> LAST NAME | K99: =K5 -> FIRST NAME | O99: =O5 -> RELATIVE SENIORITY (MAY NOT BE CURRENT) | S99: =S5 -> TASKS | W99: NOVEMBER | BA99: DECEMBER
W100: W | X100: T | Y100: $F | Z100: S | AA100: S | AB100: M | AC100: T | AD100: W | AE100: T | AF100: F | AG100: S | AH100: S | AI100: M | AJ100: T | AK100: W | AL100: T | AM100: $F | AN100: S | AO100: S | AP100: M | AQ100: T | AR100: W | AS100: T | AT100: F | AU100: S | AV100: S | AW100: M | AX100: T | AY100: W | AZ100: T | BA100: $F | BB100: S | BC100: S | BD100: M | BE100: T | BF100: W | BG100: T | BH100: F | BI100: S | BJ100: S | BK100: M | BL100: T | BM100: W | BN100: T | BO100: $F | BP100: S | BQ100: S | BR100: M | BS100: T | BT100: W | BU100: T | BV100: F | BW100: S | BX100: S | BY100: M | BZ100: T | CA100: W | CB100: T | CC100: $F | CD100: S | CE100: S
W101: 1 | X101: 2 | Y101: 3 | Z101: 4 | AA101: 5 | AB101: 6 | AC101: 7 | AD101: 8 | AE101: 9 | AF101: 10 | AG101: 11 | AH101: 12 | AI101: 13 | AJ101: 14 | AK101: 15 | AL101: 16 | AM101: 17 | AN101: 18 | AO101: 19 | AP101: 20 | AQ101: 21 | AR101: 22 | AS101: 23 | AT101: 24 | AU101: 25 | AV101: 26 | AW101: 27 | AX101: 28 | AY101: 29 | AZ101: 30 | BA101: 1 | BB101: 2 | BC101: 3 | BD101: 4 | BE101: 5 | BF101: 6 | BG101: 7 | BH101: 8 | BI101: 9 | BJ101: 10 | BK101: 11 | BL101: 12 | BM101: 13 | BN101: 14 | BO101: 15 | BP101: 16 | BQ101: 17 | BR101: 18 | BS101: 19 | BT101: 20 | BU101: 21 | BV101: 22 | BW101: 23 | BX101: 24 | BY101: 25 | BZ101: 26 | CA101: 27 | CB101: 28 | CC101: 29 | CD101: 30 | CE101: 31
D102: =IF(OR(D8=0,D8=""),"",IF((INT(D84+100+0.5)-INT(C102*100+0.5))/100=0,"0",(INT(D84*100+0.5)-INT(C102*100+0.5))/100)) | G102: =IF($G$8="","",$G$8) | K102: =IF($K$8="","",$K$8) | O102: =IF($O$8="","",$O$8) | S102: =IF($S$8="","",$S$8)
D103: =IF(OR(D9=0,D9=""),"",IF((INT(D85+100+0.5)-INT(C103*100+0.5))/100=0,"0",(INT(D85*100+0.5)-INT(C103*100+0.5))/100)) | G103: =IF($G$9="","",$G$9) | K103: =IF($K$9="","",$K$9) | O103: =IF($O$9="","",$O$9) | S103: =IF($S$9="","",$S$9)
D104: =IF(OR(D10=0,D10=""),"",IF((INT(D86+100+0.5)-INT(C104*100+0.5))/100=0,"0",(INT(D86*100+0.5)-INT(C104*100+0.5))/100)) | G104: =IF($G$10="","",$G$10) | K104: =IF($K$10="","",$K$10) | O104: =IF($O$10="","",$O$10) | S104: =IF($S$10="","",$S$10)
D105: =IF(OR(D11=0,D11=""),"",IF((INT(D87+100+0.5)-INT(C105*100+0.5))/100=0,"0",(INT(D87*100+0.5)-INT(C105*100+0.5))/100)) | G105: =IF($G$11="","",$G$11) | K105: =IF($K$11="","",$K$11) | O105: =IF($O$11="","",$O$11) | S105: =IF($S$11="","",$S$11)
D106: =IF(OR(D12=0,D12=""),"",IF((INT(D88+100+0.5)-INT(C106*100+0.5))/100=0,"0",(INT(D88*100+0.5)-INT(C106*100+0.5))/100)) | G106: =IF($G$12="","",$G$12) | K106: =IF($K$12="","",$K$12) | O106: =IF($O$12="","",$O$12) | S106: =IF($S$12="","",$S$12)
D107: =IF(OR(D13=0,D13=""),"",IF((INT(D89+100+0.5)-INT(C107*100+0.5))/100=0,"0",(INT(D89*100+0.5)-INT(C107*100+0.5))/100)) | G107: =IF($G$13="","",$G$13) | K107: =IF($K$13="","",$K$13) | O107: =IF($O$13="","",$O$13) | S107: =IF($S$13="","",$S$13)
D108: =IF(OR(D14=0,D14=""),"",IF((INT(D90+100+0.5)-INT(C108*100+0.5))/100=0,"0",(INT(D90*100+0.5)-INT(C108*100+0.5))/100)) | G108: =IF($G$14="","",$G$14) | K108: =IF($K$14="","",$K$14) | O108: =IF($O$14="","",$O$14) | S108: =IF($S$14="","",$S$14)
D109: =IF(OR(D15=0,D15=""),"",IF((INT(D91+100+0.5)-INT(C109*100+0.5))/100=0,"0",(INT(D91*100+0.5)-INT(C109*100+0.5))/100)) | G109: =IF($G$15="","",$G$15) | K109: =IF($K$15="","",$K$15) | O109: =IF($O$15="","",$O$15) | S109: =IF($S$15="","",$S$15)
D110: =IF(OR(D16=0,D16=""),"",IF((INT(D92+100+0.5)-INT(C110*100+0.5))/100=0,"0",(INT(D92*100+0.5)-INT(C110*100+0.5))/100)) | G110: =IF($G$16="","",$G$16) | K110: =IF($K$16="","",$K$16) | O110: =IF($O$16="","",$O$16) | S110: =IF($S$16="","",$S$16)
...

Sheet Vacation Entitlement
A1: VACATION ENTITLEMENT TABLE (per Article 18.1 of the 15th Master Agreement)
A3: Vacation Years | B3: Work Days
A4: 1 | B4: 15
A5: 2 | B5: 15
A6: 3 | B6: 16
A7: 4 | B7: 17
A8: 5 | B8: 19
A9: 6 | B9: 20
A10: 7 | B10: 20
A11: 8 | B11: 22
A12: 9 | B12: 23
A13: 10 | B13: 24
A14: 11 | B14: 25
A15: 12 | B15: 26
... A38: 35 | B38: 35

Sheet Jan
C1: =#REF! -> #REF! | Q1: =Master!A15 -> JANUARY | Y1: 2015
A3: SUNDAY | F3: MONDAY | L3: TUESDAY | R3: WEDNESDAY | X3: THURSDAY | AD3: FRIDAY | AJ3: SATURDAY
A4: ='12 Mo Calendar'!A15 -> 0 | X4: 1 | AD4: =X4+1 -> 2 | AJ4: =AD4+1 -> 3
AI5: $
A6: =AJ4+1 -> 4 | F6: =A6+1 -> 5 | L6: =F6+1 -> 6 | R6: =L6+1 -> 7 | X6: =R6+1 -> 8 | AD6: =X6+1 -> 9 | AJ6: =AD6+1 -> 10
A8: =AJ6+1 -> 11 | F8: =A8+1 -> 12 | L8: =F8+1 -> 13 | R8: =L8+1 -> 14 | X8: =R8+1 -> 15 | AD8: =X8+1 -> 16 | AJ8: =AD8+1 -> 17
AI9: $
A10: =AJ8+1 -> 18 | F10: =A10+1 -> 19 | L10: =F10+1 -> 20 | R10: =L10+1 -> 21 | X10: =R10+1 -> 22 | AD10: =X10+1 -> 23 | AJ10: =AD10+1 -> 24
A12: =AJ10+1 -> 25 | F12: =A12+1 -> 26 | L12: =F12+1 -> 27 | R12: =L12+1 -> 28 | X12: =R12+1 -> 29 | AD12: 30 | AJ12: 31
AI13: $
A14: =Master2!A27 -> 31 | F14: =Master2!B27 -> 0 | L14: =Master2!C27 -> 0 | R14: =Master2!D27 -> 0 | X14: =Master2!E27 -> 0 | AD14: =Master2!F27 -> 0 | AJ14: =Master2!H27 -> 0
AI15: =Master2!G28 -> 0
A16: 2014.11.06

Sheet Feb
C1: =#REF! -> #REF! | Q1: =Master!J15 -> FEBRUARY | Y1: 2015
A3: SUNDAY | F3: MONDAY | L3: TUESDAY | R3: WEDNESDAY | X3: THURSDAY | AD3: FRIDAY | AJ3: SATURDAY
A4: 1 | F4: 2 | L4: 3 | R4: 4 | X4: 5 | AD4: 6 | AJ4: =AD4+1 -> 7
A6: =AJ4+1 -> 8 | F6: =A6+1 -> 9 | L6: =F6+1 -> 10 | R6: =L6+1 -> 11 | X6: =R6+1 -> 12 | AD6: =X6+1 -> 13 | AJ6: =AD6+1 -> 14
AI7: $
A8: =AJ6+1 -> 15 | F8: =A8+1 -> 16 | L8: =F8+1 -> 17 | R8: =L8+1 -> 18 | X8: =R8+1 -> 19 | AD8: =X8+1 -> 20 | AJ8: =AD8+1 -> 21
A10: =AJ8+1 -> 22 | F10: =A10+1 -> 23 | L10: =F10+1 -> 24 | R10: =L10+1 -> 25 | X10: =R10+1 -> 26 | AD10: =X10+1 -> 27 | AJ10: =AD10+1 -> 28
AI11: $
A12: 2014.11.06

Sheet Mar
C1: =#REF! -> #REF! | Q1: =Master!S15 -> MARCH | W1: 2015
A3: SUNDAY | F3: MONDAY | L3: TUESDAY | R3: WEDNESDAY | X3: THURSDAY | AD3: FRIDAY | AJ3: SATURDAY
A4: 1 | F4: 2 | L4: 3 | R4: 4 | X4: 5 | AD4: 6 | AJ4: =AD4+1 -> 7
A6: =AJ4+1 -> 8 | F6: =A6+1 -> 9 | L6: =F6+1 -> 10 | R6: =L6+1 -> 11 | X6: =R6+1 -> 12 | AD6: =X6+1 -> 13 | AJ6: =AD6+1 -> 14
AI7: $
A8: =AJ6+1 -> 15 | F8: =A8+1 -> 16 | L8: =F8+1 -> 17 | R8: =L8+1 -> 18 | X8: =R8+1 -> 19 | AD8: =X8+1 -> 20 | AJ8: =AD8+1 -> 21
A10: =AJ8+1 -> 22 | F10: =A10+1 -> 23 | L10: =F10+1 -> 24 | R10: =L10+1 -> 25 | X10: =R10+1 -> 26 | AD10: =X10+1 -> 27 | AJ10: =AD10+1 -> 28
AI11: $
A12: =AJ10+1 -> 29 | F12: =A12+1 -> 30 | L12: =F12+1 -> 31
A14: =Master2!A63 -> 0 | F14: =Master2!B63 -> 0
AI15: =Master2!G62 -> 0
A16: 2014.11.06

Sheet April
C1: =#REF! -> #REF! | Q1: =Master!AB15 -> APRIL | W1: 2015
A3: SUNDAY | F3: MONDAY | L3: TUESDAY | R3: WEDNESDAY | X3: THURSDAY | AD3: FRIDAY | AJ3: SATURDAY
R4: =L4+1 -> 1 | X4: =R4+1 -> 2 | AD4: =X4+1 -> 3 | AJ4: =AD4+1 -> 4
A6: =AJ4+1 -> 5 | F6: =A6+1 -> 6 | L6: =F6+1 -> 7 | R6: =L6+1 -> 8 | X6: =R6+1 -> 9 | AD6: =X6+1 -> 10 | AJ6: =AD6+1 -> 11
AI7: $
A8: =AJ6+1 -> 12 | F8: =A8+1 -> 13 | L8: =F8+1 -> 14 | R8: =L8+1 -> 15 | X8: =R8+1 -> 16 | AD8: =X8+1 -> 17 | AJ8: =AD8+1 -> 18
A10: =AJ8+1 -> 19 | F10: =A10+1 -> 20 | L10: =F10+1 -> 21 | R10: =L10+1 -> 22 | X10: =R10+1 -> 23 | AD10: =X10+1 -> 24 | AJ10: =AD10+1 -> 25
AI11: $
A12: =AJ10+1 -> 26 | F12: =A12+1 -> 27 | L12: =F12+1 -> 28 | R12: =L12+1 -> 29 | X12: 30
A14: 2014.11.06

Sheet May
C1: =#REF! -> #REF! | Q1: =Master!AK15 -> MAY | W1: 2015
A3: SUNDAY | F3: MONDAY | L3: TUESDAY | R3: WEDNESDAY | X3: THURSDAY | AD3: FRIDAY | AJ3: SATURDAY
AD4: =X4+1 -> 1 | AJ4: =AD4+1 -> 2
AI5: =Master2!P36 -> 0
A6: =AJ4+1 -> 3 | F6: =A6+1 -> 4 | L6: =F6+1 -> 5 | R6: =L6+1 -> 6 | X6: =R6+1 -> 7 | AD6: =X6+1 -> 8 | AJ6: =AD6+1 -> 9
AI7: $
A8: =AJ6+1 -> 10 | F8: =A8+1 -> 11 | L8: =F8+1 -> 12 | R8: =L8+1 -> 13 | X8: =R8+1 -> 14 | AD8: =X8+1 -> 15 | AJ8: =AD8+1 -> 16
A10: =AJ8+1 -> 17 | F10: =A10+1 -> 18 | L10: =F10+1 -> 19 | R10: =L10+1 -> 20 | X10: =R10+1 -> 21 | AD10: =X10+1 -> 22 | AJ10: =AD10+1 -> 23
AI11: $
A12: =AJ10+1 -> 24 | F12: =A12+1 -> 25 | L12: =F12+1 -> 26 | R12: =L12+1 -> 27 | X12: =R12+1 -> 28 | AD12: =X12+1 -> 29 | AJ12: =AD12+1 -> 30
L14: =Master2!L45 -> 0 | R14: =Master2!M45 -> 0 | X14: =Master2!N45 -> 0 | AD14: =Master2!O45 -> 0 | AJ14: =Master2!Q45 -> 0
AI15: =Master2!P46 -> 0
A16: 2014.11.06

Sheet June
C1: =#REF! -> #REF! | Q1: =Master!A33 -> JUNE | W1: 2015
A3: SUNDAY | F3: MONDAY | L3: TUESDAY | R3: WEDNESDAY | X3: THURSDAY | AD3: FRIDAY | AJ3: SATURDAY
F4: =A4+1 -> 1 | L4: =F4+1 -> 2 | R4: =L4+1 -> 3 | X4: =R4+1 -> 4 | AD4: =X4+1 -> 5 | AJ4: =AD4+1 -> 6
AI5: $
A6: 7 | F6: =A6+1 -> 8 | L6: =F6+1 -> 9 | R6: =L6+1 -> 10 | X6: =R6+1 -> 11 | AD6: =X6+1 -> 12 | AJ6: =AD6+1 -> 13
A8: =AJ6+1 -> 14 | F8: =A8+1 -> 15 | L8: =F8+1 -> 16 | R8: =L8+1 -> 17 | X8: =R8+1 -> 18 | AD8: =X8+1 -> 19 | AJ8: =AD8+1 -> 20
AI9: $
A10: =AJ8+1 -> 21 | F10: =A10+1 -> 22 | L10: =F10+1 -> 23 | R10: =L10+1 -> 24 | X10: =R10+1 -> 25 | AD10: =X10+1 -> 26 | AJ10: =AD10+1 -> 27
A12: =AJ10+1 -> 28 | F12: =A12+1 -> 29 | L12: 30
A14: =Master2!J63 -> 0 | F14: =Master2!K63 -> 0 | L14: =Master2!L63 -> 0 | R14: =Master2!M63 -> 0 | X14: =Master2!N63 -> 0 | AD14: =Master2!O63 -> 0 | AJ14: =Master2!Q63 -> 0
A16: 2014.11.06

Sheet July
C1: =#REF! -> #REF! | Q1: =Master!J33 -> JULY | W1: 2015
A3: SUNDAY | F3: MONDAY | L3: TUESDAY | R3: WEDNESDAY | X3: THURSDAY | AD3: FRIDAY | AJ3: SATURDAY
R4: =L4+1 -> 1 | X4: =R4+1 -> 2 | AD4: =X4+1 -> 3 | AJ4: =AD4+1 -> 4
AI5: $
A6: =AJ4+1 -> 5 | F6: =A6+1 -> 6 | L6: =F6+1 -> 7 | R6: =L6+1 -> 8 | X6: =R6+1 -> 9 | AD6: =X6+1 -> 10 | AJ6: =AD6+1 -> 11
A8: =AJ6+1 -> 12 | F8: =A8+1 -> 13 | L8: =F8+1 -> 14 | R8: =L8+1 -> 15 | X8: =R8+1 -> 16 | AD8: =X8+1 -> 17 | AJ8: =AD8+1 -> 18
AI9: $
A10: =AJ8+1 -> 19 | F10: =A10+1 -> 20 | L10: =F10+1 -> 21 | R10: =L10+1 -> 22 | X10: =R10+1 -> 23 | AD10: =X10+1 -> 24 | AJ10: =AD10+1 -> 25
A12: =AJ10+1 -> 26 | F12: =A12+1 -> 27 | L12: =F12+1 -> 28 | R12: =L12+1 -> 29 | X12: =R12+1 -> 30 | AD12: 31
AI13: $
AI15: =Master2!Y28 -> 0
A16: 2014.11.06

Sheet Aug
C1: =#REF! -> #REF! | Q1: =Master!S33 -> AUGUST | W1: 2015
A3: SUNDAY | F3: MONDAY | L3: TUESDAY | R3: WEDNESDAY | X3: THURSDAY | AD3: FRIDAY | AJ3: SATURDAY
AJ4: =AD4+1 -> 1
A6: =AJ4+1 -> 2 | F6: =A6+1 -> 3 | L6: =F6+1 -> 4 | R6: =L6+1 -> 5 | X6: =R6+1 -> 6 | AD6: =X6+1 -> 7 | AJ6: =AD6+1 -> 8
A8: =AJ6+1 -> 9 | F8: =A8+1 -> 10 | L8: =F8+1 -> 11 | R8: =L8+1 -> 12 | X8: =R8+1 -> 13 | AD8: =X8+1 -> 14 | AJ8: =AD8+1 -> 15
AI9: $
A10: =AJ8+1 -> 16 | F10: =A10+1 -> 17 | L10: =F10+1 -> 18 | R10: =L10+1 -> 19 | X10: =R10+1 -> 20 | AD10: =X10+1 -> 21 | AJ10: =AD10+1 -> 22
A12: 23 | F12: 24 | L12: 25 | R12: 26 | X12: 27 | AD12: 28 | AJ12: 29
AI13: $
A14: =AJ10+1 -> 23 | F14: =A14+1 -> 24 | L14: =F14+1 -> 25 | R14: =L14+1 -> 26 | X14: =R14+1 -> 27 | AD14: =X14+1 -> 28 | AJ14: 30
AI15: $
A16: 30 | F16: 31 | L16: =Master2!L63 -> 0 | R16: =Master2!M63 -> 0 | X16: =Master2!N63 -> 0 | AD16: =Master2!O63 -> 0 | AJ16: =Master2!Q63 -> 0
A18: 2014.11.06

Sheet Sept
C1: =#REF! -> #REF! | Q1: =Master!AB33 -> SEPTEMBER | Y1: 2015
A3: SUNDAY | F3: MONDAY | L3: TUESDAY | R3: WEDNESDAY | X3: THURSDAY | AD3: FRIDAY | AJ3: SATURDAY
L4: =F4+1 -> 1 | R4: =L4+1 -> 2 | X4: =R4+1 -> 3 | AD4: =X4+1 -> 4 | AJ4: =AD4+1 -> 5
A6: =AJ4+1 -> 6 | F6: =A6+1 -> 7 | L6: =F6+1 -> 8 | R6: =L6+1 -> 9 | X6: =R6+1 -> 10 | AD6: =X6+1 -> 11 | AJ6: =AD6+1 -> 12
AI7: $
A8: =AJ6+1 -> 13 | F8: =A8+1 -> 14 | L8: =F8+1 -> 15 | R8: =L8+1 -> 16 | X8: =R8+1 -> 17 | AD8: =X8+1 -> 18 | AJ8: =AD8+1 -> 19
A10: =AJ8+1 -> 20 | F10: =A10+1 -> 21 | L10: =F10+1 -> 22 | R10: =L10+1 -> 23 | X10: =R10+1 -> 24 | AD10: =X10+1 -> 25 | AJ10: =AD10+1 -> 26
AI11: $
A12: =AJ10+1 -> 27 | F12: =A12+1 -> 28 | L12: =F12+1 -> 29 | R12: 30
A16: 2014.11.06

Sheet Oct
C1: =#REF! -> #REF! | Q1: =Master!AK33 -> OCTOBER | Y1: 2015
A3: SUNDAY | F3: MONDAY | L3: TUESDAY | R3: WEDNESDAY | X3: THURSDAY | AD3: FRIDAY | AJ3: SATURDAY
X4: =R4+1 -> 1 | AD4: =X4+1 -> 2 | AJ4: =AD4+1 -> 3
A6: =AJ4+1 -> 4 | F6: =A6+1 -> 5 | L6: =F6+1 -> 6 | R6: =L6+1 -> 7 | X6: =R6+1 -> 8 | AD6: =X6+1 -> 9 | AJ6: =AD6+1 -> 10
AI7: $
A8: =AJ6+1 -> 11 | F8: =A8+1 -> 12 | L8: =F8+1 -> 13 | R8: =L8+1 -> 14 | X8: =R8+1 -> 15 | AD8: =X8+1 -> 16 | AJ8: =AD8+1 -> 17
A10: =AJ8+1 -> 18 | F10: =A10+1 -> 19 | L10: =F10+1 -> 20 | R10: =L10+1 -> 21 | X10: =R10+1 -> 22 | AD10: =X10+1 -> 23 | AJ10: =AD10+1 -> 24
AI11: $
A12: =AJ10+1 -> 25 | F12: =A12+1 -> 26 | L12: =F12+1 -> 27 | R12: =L12+1 -> 28 | X12: =R12+1 -> 29 | AD12: =X12+1 -> 30 | AJ12: 31
A16: 2014.11.06

Sheet Nov
C1: =#REF! -> #REF! | Q1: =Master!A51 -> NOVEMBER | Y1: 2015
A3: SUNDAY | F3: MONDAY | L3: TUESDAY | R3: WEDNESDAY | X3: THURSDAY | AD3: FRIDAY | AJ3: SATURDAY
A4: 1 | F4: 2 | L4: 3 | R4: 4 | X4: 5 | AD4: 6 | AJ4: 7
AI5: $
A6: =AJ4+1 -> 8 | F6: =A6+1 -> 9 | L6: =F6+1 -> 10 | R6: =L6+1 -> 11 | X6: =R6+1 -> 12 | AD6: =X6+1 -> 13 | AJ6: =AD6+1 -> 14
A8: =AJ6+1 -> 15 | F8: =A8+1 -> 16 | L8: =F8+1 -> 17 | R8: =L8+1 -> 18 | X8: =R8+1 -> 19 | AD8: =X8+1 -> 20 | AJ8: =AD8+1 -> 21
AI9: $
A10: =AJ8+1 -> 22 | F10: =A10+1 -> 23 | L10: =F10+1 -> 24 | R10: =L10+1 -> 25 | X10: =R10+1 -> 26 | AD10: =X10+1 -> 27 | AJ10: =AD10+1 -> 28
A12: =AJ10+1 -> 29 | F12: =A12+1 -> 30
A14: =Master2!AB45 -> 0 | F14: =Master2!AC45 -> 0 | L14: =Master2!AD45 -> 0 | R14: =Master2!AE45 -> 0 | X14: =Master2!AF45 -> 0 | AD14: =Master2!AG45 -> 0 | AJ14: =Master2!AI45 -> 0
A16: 2014.11.06

Sheet Dec
C1: =#REF! -> #REF! | Q1: =Master!J51 -> DECEMBER | Y1: 2015
A3: SUNDAY | F3: MONDAY | L3: TUESDAY | R3: WEDNESDAY | X3: THURSDAY | AD3: FRIDAY | AJ3: SATURDAY
L4: =F4+1 -> 1 | R4: =L4+1 -> 2 | X4: =R4+1 -> 3 | AD4: =X4+1 -> 4 | AJ4: =AD4+1 -> 5
AI5: $
A6: =AJ4+1 -> 6 | F6: =A6+1 -> 7 | L6: =F6+1 -> 8 | R6: =L6+1 -> 9 | X6: =R6+1 -> 10 | AD6: =X6+1 -> 11 | AJ6: =AD6+1 -> 12
A8: =AJ6+1 -> 13 | F8: =A8+1 -> 14 | L8: =F8+1 -> 15 | R8: =L8+1 -> 16 | X8: =R8+1 -> 17 | AD8: =X8+1 -> 18 | AJ8: =AD8+1 -> 19
AI9: $
A10: =AJ8+1 -> 20 | F10: =A10+1 -> 21 | L10: =F10+1 -> 22 | R10: =L10+1 -> 23 | X10: =R10+1 -> 24 | AD10: =X10+1 -> 25 | AJ10: =AD10+1 -> 26
A12: =AJ10+1 -> 27 | F12: =A12+1 -> 28 | L12: =F12+1 -> 29 | R12: =L12+1 -> 30 | X12: 31
AC13: $
A16: 2014.11.06

Sheet Module2
